Workbook

Sheet Input
A1: data di estrazione | B1: =DATE(2015,8,17) -> 42233
A2: Input Time Bucket | B2: Description | C2: Term | D2: Mat. Date | E2: Spot % | F2: Shock % | G2: Input I. Rate % | H2: Bid % | I2: Ask % | J2: Start Date | K2: Rate Type | L2: Capitalisation | M2: Day Count | N2: Daily Interpolation | O2: Mkt Price Source Detail | P2: Price Time | Q2: Daily IP Code | R2: Daily Ask Price Type | S2: Daily Bid Price Type | T2: Daily IP | U2: Closing Interpolation | V2: Closing IP Code | W2: Closing Ask Price Type | X2: Closing Bid Price Type | Y2: Closing IP | Z2: I. Rate Freq. | AB2: #
A3: OVN | B3: OVN | C3: 0.003 | D3: 42234 | E3: -0.20000056 | F3: 0 | G3: -0.2 | H3: -0.25 | I3: -0.15 | J3: 42233 | K3: Spot | L3: Simple | M3: act/360 | N3: 0 | O3: Provider | P3: 42233.209 | Q3: /BSYM/ICPL/EUDR1T | R3: Last Ask | S3: Last Bid | T3: Bloomberg | U3: 0 | W3: -- None -- | X3: -- None -- | Y3: Bloomberg | Z3: 1 | AB3: 1
A4: TN | B4: TN | C4: 0.003 | D4: 42235 | E4: -0.20000056 | F4: 0 | G4: -0.2 | H4: -0.25 | I4: -0.15 | J4: 42234 | K4: Spot | L4: Simple | M4: act/360 | N4: 0 | O4: Provider | P4: 42233.209 | Q4: /BSYM/ICPL/EUDR2T | R4: Last Ask | S4: Last Bid | T4: Bloomberg | U4: 0 | W4: -- None -- | X4: -- None -- | Y4: Bloomberg | Z4: 1 | AB4: =+AB3+1 -> 2
A5: SN | B5: SN | C5: 0.003 | D5: 42236 | E5: -0.1700004 | F5: 0 | G5: -0.17 | H5: -0.25 | I5: -0.09 | J5: 42235 | K5: Spot | L5: Simple | M5: act/360 | N5: 0 | O5: Provider | P5: 42233.416 | Q5: /BSYM/CMPL/EUDR3T | R5: Last Ask | S5: Last Bid | T5: Bloomberg | U5: 0 | W5: -- None -- | X5: -- None -- | Y5: Bloomberg | Z5: 1 | AB5: =+AB4+1 -> 3
A6: 1W | B6: 1 Week | C6: 0.019 | D6: 42242 | E6: -0.12600154 | F6: 0 | G6: -0.126 | H6: -0.176 | I6: -0.076 | J6: 42235 | K6: Spot | L6: Simple | M6: act/360 | N6: 0 | O6: Provider | P6: 42233.209 | Q6: /BSYM/ICPL/EUSWE1Z | R6: Last Ask | S6: Last Bid | T6: Bloomberg | U6: 0 | W6: -- None -- | X6: -- None -- | Y6: Bloomberg | Z6: 1 | AB6: =+AB5+1 -> 4
A7: 2W | B7: 2 Weeks | C7: 0.039 | D7: 42249 | E7: -0.12500304 | F7: 0 | G7: -0.125 | H7: -0.175 | I7: -0.075 | J7: 42235 | K7: Spot | L7: Simple | M7: act/360 | N7: 0 | O7: Provider | P7: 42233.209 | Q7: /BSYM/ICPL/EUSWE2Z | R7: Last Ask | S7: Last Bid | T7: Bloomberg | U7: 0 | W7: -- None -- | X7: -- None -- | Y7: Bloomberg | Z7: 1 | AB7: =+AB6+1 -> 5
A8: 3W | B8: 3 Weeks | C8: 0.058 | D8: 42256 | E8: -0.12600463 | F8: 0 | G8: -0.126 | H8: -0.176 | I8: -0.076 | J8: 42235 | K8: Spot | L8: Simple | M8: act/360 | N8: 0 | O8: Provider | P8: 42233.209 | Q8: /BSYM/ICPL/EUSWE3Z | R8: Last Ask | S8: Last Bid | T8: Bloomberg | U8: 0 | W8: -- None -- | X8: -- None -- | Y8: Bloomberg | Z8: 1 | AB8: =+AB7+1 -> 6
A9: 1M | B9: 1 Month | C9: 0.092 | D9: 42268 | E9: -0.12800751 | F9: 0 | G9: -0.128 | H9: -0.153 | I9: -0.103 | J9: 42235 | K9: Spot | L9: Simple | M9: act/360 | N9: 0 | O9: Provider | P9: 42233.25 | Q9: /BSYM/ICPL/EUSWEA | R9: Last Ask | S9: Last Bid | T9: Bloomberg | U9: 0 | W9: -- None -- | X9: -- None -- | Y9: Bloomberg | Z9: 1 | AB9: =+AB8+1 -> 7
A10: 2M | B10: 2 Months | C10: 0.169 | D10: 42296 | E10: -0.12801388 | F10: 0 | G10: -0.128 | H10: -0.153 | I10: -0.103 | J10: 42235 | K10: Spot | L10: Simple | M10: act/360 | N10: 0 | O10: Provider | P10: 42233.209 | Q10: /BSYM/ICPL/EUSWEB | R10: Last Ask | S10: Last Bid | T10: Bloomberg | U10: 0 | W10: -- None -- | X10: -- None -- | Y10: Bloomberg | Z10: 1 | AB10: =+AB9+1 -> 8
A11: 3M | B11: 3 Months | C11: 0.256 | D11: 42327 | E11: -0.1300216 | F11: 0 | G11: -0.13 | H11: -0.155 | I11: -0.105 | J11: 42235 | K11: Spot | L11: Simple | M11: act/360 | N11: 0 | O11: Provider | P11: 42233.209 | Q11: /BSYM/ICPL/EUSWEC | R11: Last Ask | S11: Last Bid | T11: Bloomberg | U11: 0 | W11: -- None -- | X11: -- None -- | Y11: Bloomberg | Z11: 1 | AB11: =+AB10+1 -> 9
A12: 4M | B12: 4 Months | C12: 0.344 | D12: 42359 | E12: -0.13303047 | F12: 0 | G12: -0.133 | H12: -0.158 | I12: -0.108 | J12: 42235 | K12: Spot | L12: Simple | M12: act/360 | N12: 0 | O12: Provider | P12: 42233.25 | Q12: /BSYM/ICPL/EUSWED | R12: Last Ask | S12: Last Bid | T12: Bloomberg | U12: 0 | W12: -- None -- | X12: -- None -- | Y12: Bloomberg | Z12: 1 | AB12: =+AB11+1 -> 10
A13: 5M | B13: 5 Months | C13: 0.425 | D13: 42388 | E13: -0.13203704 | F13: 0 | G13: -0.132 | H13: -0.157 | I13: -0.107 | J13: 42235 | K13: Spot | L13: Simple | M13: act/360 | N13: 0 | O13: Provider | P13: 42233.392 | Q13: /BSYM/ICPL/EUSWEE | R13: Last Ask | S13: Last Bid | T13: Bloomberg | U13: 0 | W13: -- None -- | X13: -- None -- | Y13: Bloomberg | Z13: 1 | AB13: =+AB12+1 -> 11
A14: 6M | B14: 6 Months | C14: 0.511 | D14: 42419 | E14: -0.13404591 | F14: 0 | G14: -0.134 | H14: -0.159 | I14: -0.109 | J14: 42235 | K14: Spot | L14: Simple | M14: act/360 | N14: 0 | O14: Provider | P14: 42233.327 | Q14: /BSYM/ICPL/EUSWEF | R14: Last Ask | S14: Last Bid | T14: Bloomberg | U14: 0 | W14: -- None -- | X14: -- None -- | Y14: Bloomberg | Z14: 1 | AB14: =+AB13+1 -> 12
A15: 7M | B15: 7 Months | C15: 0.597 | D15: 42450 | E15: -0.13605526 | F15: 0 | G15: -0.136 | H15: -0.161 | I15: -0.111 | J15: 42235 | K15: Spot | L15: Simple | M15: act/360 | N15: 0 | O15: Provider | P15: 42233.376 | Q15: /BSYM/ICPL/EUSWEG | R15: Last Ask | S15: Last Bid | T15: Bloomberg | U15: 0 | W15: -- None -- | X15: -- None -- | Y15: Bloomberg | Z15: 1 | AB15: =+AB14+1 -> 13
... A41: 60Y | B41: 60 Years | C41: 60.875 | D41: 64150 | E41: 1.3446111 | F41: 0 | G41: 1.334 | H41: 1.299 | I41: 1.369 | J41: 42235 | K41: Yield | L41: Simple | M41: act/360 | N41: 0 | O41: Provider | P41: 42233.415 | Q41: /BSYM/ICPL/EUSWE60 | R41: Last Ask | S41: Last Bid | T41: Bloomberg | U41: 0 | W41: -- None -- | X41: -- None -- | Y41: Bloomberg | Z41: 1 | AB41: =+AB40+1 -> 39

Sheet Step1_VersioneSW&Data
I1: funzioni Quantlib
A3: =_xll.ohVersion() -> 1.5.0 | B3: versione | I3: qlSettingsSetEvaluationDate
A4: =_xll.qlSettingsSetEvaluationDate(A5) -> TRUE
A5: =DATE(2015,8,17) -> 42233 | B5: data di analisi | I5: void returnValue
I6: qlSettingsSetEvaluationDate(
I7: long EvalDate
I8: any Trigger)
I10: Description:
I12: sets the value of the Evaluation Date.
I14: Supported Platforms:
I16: C++, C, Calc, Excel, Guile
I18: Parameters
I19: EvalDate | J19: new value for the evaluation date. If a null date is provided the current date wiil be used and midnight date change will be detected. Default value = QuantLib::Date().
I20: Trigger | J20: dependency tracking trigger

Sheet Step2_Index
C1: Errore | I1: funzione QuantLib
A2: Index | B2: =_xll.qlEonia(B4) -> Index_EONIA#0004 | C2: =_xll.ohRangeRetrieveError(B2) | I2: qlEonia
A3: Parametri Input
A4: =+I21 -> ObjectId | B4: Index_EONIA | I4: string returnValue
I5: qlEonia(
I6: string ObjectId
I7: string YieldCurve
I8: bool Permanent
I9: any Trigger
I10: bool Overwrite)
I12: Description:
I14: Construct an object of class Eonia and return its id
I16: Supported Platforms:
I18: C++, Calc, Excel
I20: Parameters
I21: ObjectId | J21: id of object to be created
I22: YieldCurve | J22: forecasting YieldTermStructure object ID. Default value = .
I23: Permanent | J23: object permanent/nonpermanent
I24: Trigger | J24: dependency tracking trigger
I25: Overwrite | J25: overwrite flag

Sheet Step3_AnagraficheDepositi
E1: Parametri funzione
F2: n.b.: Rate da dividere per 100
A3: qlDepositRateHelper2 | C3: Funzione | D3: Errore | E3: {=TRANSPOSE(A28:A38)} -> ObjectId | F3: Rate | G3: Tenor | H3: FixingDays | I3: Calendar | J3: Convention | K3: EndOfMonth | L3: DayCounter | M3: Permanent | N3: Trigger | O3: Overwrite | P3: #
C4: =_xll.qlDepositRateHelper2("OIS_"&E4,F4,G4,H4,I4,J4,K4,L4) -> OIS_OVN#0007 | D4: =_xll.ohRangeRetrieveError(C4) | E4: =+Input!A3 -> OVN | F4: =VLOOKUP($E4,Input!$A$3:$AA$41,7,FALSE)/100 -> -0.002 | G4: 1D | H4: 0 | I4: TARGET | J4: Modified Following | K4: TRUE | L4: Actual/360 | P4: 1
A5: string returnValue | C5: =_xll.qlDepositRateHelper2("OIS_"&E5,F5,G5,H5,I5,J5,K5,L5) -> OIS_TN#0004 | E5: =+Input!A4 -> TN | F5: =VLOOKUP($E5,Input!$A$3:$AA$41,7,FALSE)/100 -> -0.002 | G5: 1D | H5: 1 | I5: TARGET | J5: =+J4 -> Modified Following | K5: =+K4 -> TRUE | L5: Actual/360 | P5: =+P4+1 -> 2
A6: qlDepositRateHelper2( | C6: =_xll.qlDepositRateHelper2("OIS_"&E6,F6,G6,H6,I6,J6,K6,L6) -> OIS_SN#0004 | E6: =+Input!A5 -> SN | F6: =VLOOKUP($E6,Input!$A$3:$AA$41,7,FALSE)/100 -> -0.0017 | G6: 1D | H6: 2 | I6: TARGET | J6: =+J5 -> Modified Following | K6: =+K5 -> TRUE | L6: Actual/360 | P6: =+P5+1 -> 3
A7: string ObjectId | C7: =_xll.qlDepositRateHelper2("OIS_"&E7,F7,G7,H7,I7,J7,K7,L7) -> OIS_1W#0004 | E7: =+Input!A6 -> 1W | F7: =VLOOKUP($E7,Input!$A$3:$AA$41,7,FALSE)/100 -> -0.00126 | G7: =+E7 -> 1W | H7: 2 | I7: TARGET | J7: =+J6 -> Modified Following | K7: =+K6 -> TRUE | L7: Actual/360 | P7: =+P6+1 -> 4
A8: string Rate | C8: =_xll.qlDepositRateHelper2("OIS_"&E8,F8,G8,H8,I8,J8,K8,L8) -> OIS_2W#0004 | E8: =+Input!A7 -> 2W | F8: =VLOOKUP($E8,Input!$A$3:$AA$41,7,FALSE)/100 -> -0.00125 | G8: =+E8 -> 2W | H8: 2 | I8: TARGET | J8: =+J7 -> Modified Following | K8: =+K7 -> TRUE | L8: Actual/360 | P8: =+P7+1 -> 5
A9: string Tenor | C9: =_xll.qlDepositRateHelper2("OIS_"&E9,F9,G9,H9,I9,J9,K9,L9) -> OIS_3W#0004 | E9: =+Input!A8 -> 3W | F9: =VLOOKUP($E9,Input!$A$3:$AA$41,7,FALSE)/100 -> -0.00126 | G9: =+E9 -> 3W | H9: 2 | I9: TARGET | J9: =+J8 -> Modified Following | K9: =+K8 -> TRUE | L9: Actual/360 | P9: =+P8+1 -> 6
A10: long FixingDays | C10: =_xll.qlDepositRateHelper2("OIS_"&E10,F10,G10,H10,I10,J10,K10,L10) -> OIS_1M#0004 | E10: =+Input!A9 -> 1M | F10: =VLOOKUP($E10,Input!$A$3:$AA$41,7,FALSE)/100 -> -0.00128 | G10: =+E10 -> 1M | H10: 2 | I10: TARGET | J10: =+J9 -> Modified Following | K10: =+K9 -> TRUE | L10: Actual/360 | P10: =+P9+1 -> 7
A11: string Calendar | C11: =_xll.qlDepositRateHelper2("OIS_"&E11,F11,G11,H11,I11,J11,K11,L11) -> OIS_2M#0004 | E11: =+Input!A10 -> 2M | F11: =VLOOKUP($E11,Input!$A$3:$AA$41,7,FALSE)/100 -> -0.00128 | G11: =+E11 -> 2M | H11: 2 | I11: TARGET | J11: =+J10 -> Modified Following | K11: =+K10 -> TRUE | L11: Actual/360 | P11: =+P10+1 -> 8
A12: string Convention | C12: =_xll.qlDepositRateHelper2("OIS_"&E12,F12,G12,H12,I12,J12,K12,L12) -> OIS_3M#0004 | E12: =+Input!A11 -> 3M | F12: =VLOOKUP($E12,Input!$A$3:$AA$41,7,FALSE)/100 -> -0.0013 | G12: =+E12 -> 3M | H12: 2 | I12: TARGET | J12: =+J11 -> Modified Following | K12: =+K11 -> TRUE | L12: Actual/360 | P12: =+P11+1 -> 9
A13: bool EndOfMonth | C13: =_xll.qlDepositRateHelper2("OIS_"&E13,F13,G13,H13,I13,J13,K13,L13) -> OIS_4M#0004 | E13: =+Input!A12 -> 4M | F13: =VLOOKUP($E13,Input!$A$3:$AA$41,7,FALSE)/100 -> -0.00133 | G13: =+E13 -> 4M | H13: 2 | I13: TARGET | J13: =+J12 -> Modified Following | K13: =+K12 -> TRUE | L13: Actual/360 | P13: =+P12+1 -> 10
A14: string DayCounter | C14: =_xll.qlDepositRateHelper2("OIS_"&E14,F14,G14,H14,I14,J14,K14,L14) -> OIS_5M#0004 | E14: =+Input!A13 -> 5M | F14: =VLOOKUP($E14,Input!$A$3:$AA$41,7,FALSE)/100 -> -0.00132 | G14: =+E14 -> 5M | H14: 2 | I14: TARGET | J14: =+J13 -> Modified Following | K14: =+K13 -> TRUE | L14: Actual/360 | P14: =+P13+1 -> 11
A15: bool Permanent | C15: =_xll.qlDepositRateHelper2("OIS_"&E15,F15,G15,H15,I15,J15,K15,L15) -> OIS_6M#0004 | E15: =+Input!A14 -> 6M | F15: =VLOOKUP($E15,Input!$A$3:$AA$41,7,FALSE)/100 -> -0.00134 | G15: =+E15 -> 6M | H15: 2 | I15: TARGET | J15: =+J14 -> Modified Following | K15: =+K14 -> TRUE | L15: Actual/360 | P15: =+P14+1 -> 12
A16: any Trigger | C16: =_xll.qlDepositRateHelper2("OIS_"&E16,F16,G16,H16,I16,J16,K16,L16) -> OIS_7M#0004 | E16: =+Input!A15 -> 7M | F16: =VLOOKUP($E16,Input!$A$3:$AA$41,7,FALSE)/100 -> -0.00136 | G16: =+E16 -> 7M | H16: 2 | I16: TARGET | J16: =+J15 -> Modified Following | K16: =+K15 -> TRUE | L16: Actual/360 | P16: =+P15+1 -> 13
A17: bool Overwrite) | C17: =_xll.qlDepositRateHelper2("OIS_"&E17,F17,G17,H17,I17,J17,K17,L17) -> OIS_8M#0004 | E17: =+Input!A16 -> 8M | F17: =VLOOKUP($E17,Input!$A$3:$AA$41,7,FALSE)/100 -> -0.00137 | G17: =+E17 -> 8M | H17: 2 | I17: TARGET | J17: =+J16 -> Modified Following | K17: =+K16 -> TRUE | L17: Actual/360 | P17: =+P16+1 -> 14
C18: =_xll.qlDepositRateHelper2("OIS_"&E18,F18,G18,H18,I18,J18,K18,L18) -> OIS_9M#0004 | E18: =+Input!A17 -> 9M | F18: =VLOOKUP($E18,Input!$A$3:$AA$41,7,FALSE)/100 -> -0.00137 | G18: =+E18 -> 9M | H18: 2 | I18: TARGET | J18: =+J17 -> Modified Following | K18: =+K17 -> TRUE | L18: Actual/360 | P18: =+P17+1 -> 15
A19: Description: | C19: =_xll.qlDepositRateHelper2("OIS_"&E19,F19,G19,H19,I19,J19,K19,L19) -> OIS_10M#0004 | E19: =+Input!A18 -> 10M | F19: =VLOOKUP($E19,Input!$A$3:$AA$41,7,FALSE)/100 -> -0.00139 | G19: =+E19 -> 10M | H19: 2 | I19: TARGET | J19: =+J18 -> Modified Following | K19: =+K18 -> TRUE | L19: Actual/360 | P19: =+P18+1 -> 16
C20: =_xll.qlDepositRateHelper2("OIS_"&E20,F20,G20,H20,I20,J20,K20,L20) -> OIS_11M#0004 | E20: =+Input!A19 -> 11M | F20: =VLOOKUP($E20,Input!$A$3:$AA$41,7,FALSE)/100 -> -0.00139 | G20: =+E20 -> 11M | H20: 2 | I20: TARGET | J20: =+J19 -> Modified Following | K20: =+K19 -> TRUE | L20: Actual/360 | P20: =+P19+1 -> 17
A21: Construct an object of class DepositRateHelper and return its id | C21: =_xll.qlDepositRateHelper2("OIS_"&E21,F21,G21,H21,I21,J21,K21,L21) -> OIS_1Y#0004 | E21: =+Input!A20 -> 1Y | F21: =VLOOKUP($E21,Input!$A$3:$AA$41,7,FALSE)/100 -> -0.0014 | G21: =+E21 -> 1Y | H21: 2 | I21: TARGET | J21: =+J20 -> Modified Following | K21: =+K20 -> TRUE | L21: Actual/360 | P21: =+P20+1 -> 18
A23: Supported Platforms:
A25: C++, Calc, Excel
A27: Parameters
A28: ObjectId | B28: id of object to be created
A29: Rate | B29: deposit quote.
A30: Tenor | B30: deposit length (e.g. 3M for three months).
A31: FixingDays | B31: fixing days (e.g. 2).
A32: Calendar | B32: holiday calendar (e.g. TARGET).
A33: Convention | B33: business day convention (e.g. Modified Following).
A34: EndOfMonth | B34: End of Month rule (TRUE for end of month to end of month termination date, FALSE otherwise).
A35: DayCounter | B35: DayCounter ID.
A36: Permanent | B36: object permanent/nonpermanent
A37: Trigger | B37: dependency tracking trigger
A38: Overwrite | B38: overwrite flag

Sheet Step4_AnagraficheOISSwap
E1: Parametri funzione
H2: n.b.: Rate da dividere per 100
A3: qlOISRateHelper | C3: Funzione | D3: Errore | E3: {=TRANSPOSE(A26:A34)} -> ObjectId | F3: SettlDays | G3: Tenor | H3: FixedRate | I3: ONIndex | J3: DiscountingCurve | K3: Permanent | L3: Trigger | M3: Overwrite
C4: =_xll.qlOISRateHelper("OIS_Swap_"&E4,F4,G4,H4,I4) -> OIS_Swap_15M#0005 | D4: =_xll.ohRangeRetrieveError(C4) | E4: =+Input!A21 -> 15M | F4: 2 | G4: =+E4 -> 15M | H4: =+VLOOKUP($E4,Input!$A$3:$AA$41,7,FALSE)/100 -> -0.0014 | I4: =+Step2_Index!$B$2 -> Index_EONIA#0004
A5: string returnValue | C5: =_xll.qlOISRateHelper("OIS_Swap_"&E5,F5,G5,H5,I5) -> OIS_Swap_18M#0004 | D5: =_xll.ohRangeRetrieveError(C5) | E5: =+Input!A22 -> 18M | F5: 2 | G5: =+E5 -> 18M | H5: =+VLOOKUP($E5,Input!$A$3:$AA$41,7,FALSE)/100 -> -0.00137 | I5: =+Step2_Index!$B$2 -> Index_EONIA#0004
A6: qlOISRateHelper( | C6: =_xll.qlOISRateHelper("OIS_Swap_"&E6,F6,G6,H6,I6) -> OIS_Swap_21M#0004 | D6: =_xll.ohRangeRetrieveError(C6) | E6: =+Input!A23 -> 21M | F6: 2 | G6: =+E6 -> 21M | H6: =+VLOOKUP($E6,Input!$A$3:$AA$41,7,FALSE)/100 -> -0.00132 | I6: =+Step2_Index!$B$2 -> Index_EONIA#0004
A7: string ObjectId | C7: =_xll.qlOISRateHelper("OIS_Swap_"&E7,F7,G7,H7,I7) -> OIS_Swap_2Y#0002 | D7: =_xll.ohRangeRetrieveError(C7) | E7: =+Input!A24 -> 2Y | F7: 2 | G7: =+E7 -> 2Y | H7: =+VLOOKUP($E7,Input!$A$3:$AA$41,7,FALSE)/100 -> -0.00123 | I7: =+Step2_Index!$B$2 -> Index_EONIA#0004
A8: long SettlDays | C8: =_xll.qlOISRateHelper("OIS_Swap_"&E8,F8,G8,H8,I8) -> OIS_Swap_3Y#0004 | D8: =_xll.ohRangeRetrieveError(C8) | E8: =+Input!A25 -> 3Y | F8: 2 | G8: =+E8 -> 3Y | H8: =+VLOOKUP($E8,Input!$A$3:$AA$41,7,FALSE)/100 -> -0.00063 | I8: =+Step2_Index!$B$2 -> Index_EONIA#0004
A9: string Tenor | C9: =_xll.qlOISRateHelper("OIS_Swap_"&E9,F9,G9,H9,I9) -> OIS_Swap_4Y#0004 | D9: =_xll.ohRangeRetrieveError(C9) | E9: =+Input!A26 -> 4Y | F9: 2 | G9: =+E9 -> 4Y | H9: =+VLOOKUP($E9,Input!$A$3:$AA$41,7,FALSE)/100 -> 0.00027 | I9: =+Step2_Index!$B$2 -> Index_EONIA#0004
A10: string FixedRate | C10: =_xll.qlOISRateHelper("OIS_Swap_"&E10,F10,G10,H10,I10) -> OIS_Swap_5Y#0004 | D10: =_xll.ohRangeRetrieveError(C10) | E10: =+Input!A27 -> 5Y | F10: 2 | G10: =+E10 -> 5Y | H10: =+VLOOKUP($E10,Input!$A$3:$AA$41,7,FALSE)/100 -> 0.00138 | I10: =+Step2_Index!$B$2 -> Index_EONIA#0004
A11: string ONIndex | C11: =_xll.qlOISRateHelper("OIS_Swap_"&E11,F11,G11,H11,I11) -> OIS_Swap_6Y#0004 | D11: =_xll.ohRangeRetrieveError(C11) | E11: =+Input!A28 -> 6Y | F11: 2 | G11: =+E11 -> 6Y | H11: =+VLOOKUP($E11,Input!$A$3:$AA$41,7,FALSE)/100 -> 0.00262 | I11: =+Step2_Index!$B$2 -> Index_EONIA#0004
A12: string DiscountingCurve | C12: =_xll.qlOISRateHelper("OIS_Swap_"&E12,F12,G12,H12,I12) -> OIS_Swap_7Y#0004 | D12: =_xll.ohRangeRetrieveError(C12) | E12: =+Input!A29 -> 7Y | F12: 2 | G12: =+E12 -> 7Y | H12: =+VLOOKUP($E12,Input!$A$3:$AA$41,7,FALSE)/100 -> 0.00391 | I12: =+Step2_Index!$B$2 -> Index_EONIA#0004
A13: bool Permanent | C13: =_xll.qlOISRateHelper("OIS_Swap_"&E13,F13,G13,H13,I13) -> OIS_Swap_8Y#0004 | D13: =_xll.ohRangeRetrieveError(C13) | E13: =+Input!A30 -> 8Y | F13: 2 | G13: =+E13 -> 8Y | H13: =+VLOOKUP($E13,Input!$A$3:$AA$41,7,FALSE)/100 -> 0.00515 | I13: =+Step2_Index!$B$2 -> Index_EONIA#0004
A14: any Trigger | C14: =_xll.qlOISRateHelper("OIS_Swap_"&E14,F14,G14,H14,I14) -> OIS_Swap_9Y#0004 | D14: =_xll.ohRangeRetrieveError(C14) | E14: =+Input!A31 -> 9Y | F14: 2 | G14: =+E14 -> 9Y | H14: =+VLOOKUP($E14,Input!$A$3:$AA$41,7,FALSE)/100 -> 0.0063 | I14: =+Step2_Index!$B$2 -> Index_EONIA#0004
A15: bool Overwrite) | C15: =_xll.qlOISRateHelper("OIS_Swap_"&E15,F15,G15,H15,I15) -> OIS_Swap_10Y#0004 | D15: =_xll.ohRangeRetrieveError(C15) | E15: =+Input!A32 -> 10Y | F15: 2 | G15: =+E15 -> 10Y | H15: =+VLOOKUP($E15,Input!$A$3:$AA$41,7,FALSE)/100 -> 0.00732 | I15: =+Step2_Index!$B$2 -> Index_EONIA#0004
C16: =_xll.qlOISRateHelper("OIS_Swap_"&E16,F16,G16,H16,I16) -> OIS_Swap_11Y#0004 | D16: =_xll.ohRangeRetrieveError(C16) | E16: =+Input!A33 -> 11Y | F16: 2 | G16: =+E16 -> 11Y | H16: =+VLOOKUP($E16,Input!$A$3:$AA$41,7,FALSE)/100 -> 0.00824 | I16: =+Step2_Index!$B$2 -> Index_EONIA#0004
A17: Description: | C17: =_xll.qlOISRateHelper("OIS_Swap_"&E17,F17,G17,H17,I17) -> OIS_Swap_12Y#0004 | D17: =_xll.ohRangeRetrieveError(C17) | E17: =+Input!A34 -> 12Y | F17: 2 | G17: =+E17 -> 12Y | H17: =+VLOOKUP($E17,Input!$A$3:$AA$41,7,FALSE)/100 -> 0.00906 | I17: =+Step2_Index!$B$2 -> Index_EONIA#0004
C18: =_xll.qlOISRateHelper("OIS_Swap_"&E18,F18,G18,H18,I18) -> OIS_Swap_15Y#0004 | D18: =_xll.ohRangeRetrieveError(C18) | E18: =+Input!A35 -> 15Y | F18: 2 | G18: =+E18 -> 15Y | H18: =+VLOOKUP($E18,Input!$A$3:$AA$41,7,FALSE)/100 -> 0.0109 | I18: =+Step2_Index!$B$2 -> Index_EONIA#0004
A19: Construct an object of class OISRateHelper and return its id | C19: =_xll.qlOISRateHelper("OIS_Swap_"&E19,F19,G19,H19,I19) -> OIS_Swap_20Y#0004 | D19: =_xll.ohRangeRetrieveError(C19) | E19: =+Input!A36 -> 20Y | F19: 2 | G19: =+E19 -> 20Y | H19: =+VLOOKUP($E19,Input!$A$3:$AA$41,7,FALSE)/100 -> 0.01251 | I19: =+Step2_Index!$B$2 -> Index_EONIA#0004
C20: =_xll.qlOISRateHelper("OIS_Swap_"&E20,F20,G20,H20,I20) -> OIS_Swap_25Y#0004 | D20: =_xll.ohRangeRetrieveError(C20) | E20: =+Input!A37 -> 25Y | F20: 2 | G20: =+E20 -> 25Y | H20: =+VLOOKUP($E20,Input!$A$3:$AA$41,7,FALSE)/100 -> 0.01305 | I20: =+Step2_Index!$B$2 -> Index_EONIA#0004
A21: Supported Platforms: | C21: =_xll.qlOISRateHelper("OIS_Swap_"&E21,F21,G21,H21,I21) -> OIS_Swap_30Y#0004 | D21: =_xll.ohRangeRetrieveError(C21) | E21: =+Input!A38 -> 30Y | F21: 2 | G21: =+E21 -> 30Y | H21: =+VLOOKUP($E21,Input!$A$3:$AA$41,7,FALSE)/100 -> 0.01331 | I21: =+Step2_Index!$B$2 -> Index_EONIA#0004
C22: =_xll.qlOISRateHelper("OIS_Swap_"&E22,F22,G22,H22,I22) -> OIS_Swap_40Y#0004 | D22: =_xll.ohRangeRetrieveError(C22) | E22: =+Input!A39 -> 40Y | F22: 2 | G22: =+E22 -> 40Y | H22: =+VLOOKUP($E22,Input!$A$3:$AA$41,7,FALSE)/100 -> 0.01365 | I22: =+Step2_Index!$B$2 -> Index_EONIA#0004
A23: C++, Calc, Excel | C23: =_xll.qlOISRateHelper("OIS_Swap_"&E23,F23,G23,H23,I23) -> OIS_Swap_50Y#0004 | D23: =_xll.ohRangeRetrieveError(C23) | E23: =+Input!A40 -> 50Y | F23: 2 | G23: =+E23 -> 50Y | H23: =+VLOOKUP($E23,Input!$A$3:$AA$41,7,FALSE)/100 -> 0.01339 | I23: =+Step2_Index!$B$2 -> Index_EONIA#0004
C24: =_xll.qlOISRateHelper("OIS_Swap_"&E24,F24,G24,H24,I24) -> OIS_Swap_60Y#0004 | D24: =_xll.ohRangeRetrieveError(C24) | E24: =+Input!A41 -> 60Y | F24: 2 | G24: =+E24 -> 60Y | H24: =+VLOOKUP($E24,Input!$A$3:$AA$41,7,FALSE)/100 -> 0.01334 | I24: =+Step2_Index!$B$2 -> Index_EONIA#0004
A25: Parameters
A26: ObjectId | B26: id of object to be created
A27: SettlDays | B27: swap settlement days.
A28: Tenor | B28: swap length (e.g. 5Y for five years).
A29: FixedRate | B29: quote.
A30: ONIndex | B30: floating leg OvernightIndex object ID.
A31: DiscountingCurve | B31: discounting YieldTermStructure object ID. Default value = .
A32: Permanent | B32: object permanent/nonpermanent
A33: Trigger | B33: dependency tracking trigger
A34: Overwrite | B34: overwrite flag

Sheet Step5_RatesSelection
E1: Parametri funzione
A3: qlRateHelperSelection | C3: Funzione | D3: Errore | E3: {=TRANSPOSE(A25:A32)} -> RateHelpers | F3: Priority | G3: NImmFutures | H3: NSerialFutures | I3: FutureRollDays | J3: DepoInclusion | K3: MinDistance | L3: Trigger
C4: {=_xll.qlRateHelperSelection(E4:E42,F4:F42,,,,J4,K4)} -> OIS_OVN | D4: =_xll.ohRangeRetrieveError(C4) | E4: =+Step3_AnagraficheDepositi!C4 -> OIS_OVN#0007 | F4: 1 | J4: AllDepos | K4: 1
A5: vector<string> returnValue | C5: OIS_TN | D5: =_xll.ohRangeRetrieveError(C5) | E5: =+Step3_AnagraficheDepositi!C5 -> OIS_TN#0004 | F5: =+F4 -> 1
A6: qlRateHelperSelection( | C6: OIS_SN | D6: =_xll.ohRangeRetrieveError(C6) | E6: =+Step3_AnagraficheDepositi!C6 -> OIS_SN#0004 | F6: =+F5 -> 1
A7: vector<string> RateHelpers | C7: OIS_1W | D7: =_xll.ohRangeRetrieveError(C7) | E7: =+Step3_AnagraficheDepositi!C7 -> OIS_1W#0004 | F7: =+F6 -> 1
A8: vector<long> Priority | C8: OIS_2W | D8: =_xll.ohRangeRetrieveError(C8) | E8: =+Step3_AnagraficheDepositi!C8 -> OIS_2W#0004 | F8: =+F7 -> 1
A9: long NImmFutures | C9: OIS_3W | D9: =_xll.ohRangeRetrieveError(C9) | E9: =+Step3_AnagraficheDepositi!C9 -> OIS_3W#0004 | F9: =+F8 -> 1
A10: long NSerialFutures | C10: OIS_1M | D10: =_xll.ohRangeRetrieveError(C10) | E10: =+Step3_AnagraficheDepositi!C10 -> OIS_1M#0004 | F10: =+F9 -> 1
A11: long FutureRollDays | C11: OIS_2M | D11: =_xll.ohRangeRetrieveError(C11) | E11: =+Step3_AnagraficheDepositi!C11 -> OIS_2M#0004 | F11: =+F10 -> 1
A12: string DepoInclusion | C12: OIS_3M | D12: =_xll.ohRangeRetrieveError(C12) | E12: =+Step3_AnagraficheDepositi!C12 -> OIS_3M#0004 | F12: =+F11 -> 1
A13: vector<long> MinDistance | C13: OIS_4M | D13: =_xll.ohRangeRetrieveError(C13) | E13: =+Step3_AnagraficheDepositi!C13 -> OIS_4M#0004 | F13: =+F12 -> 1
A14: any Trigger) | C14: OIS_5M | D14: =_xll.ohRangeRetrieveError(C14) | E14: =+Step3_AnagraficheDepositi!C14 -> OIS_5M#0004 | F14: =+F13 -> 1
C15: OIS_6M | D15: =_xll.ohRangeRetrieveError(C15) | E15: =+Step3_AnagraficheDepositi!C15 -> OIS_6M#0004 | F15: =+F14 -> 1
A16: Description: | C16: OIS_7M | D16: =_xll.ohRangeRetrieveError(C16) | E16: =+Step3_AnagraficheDepositi!C16 -> OIS_7M#0004 | F16: =+F15 -> 1
C17: OIS_8M | D17: =_xll.ohRangeRetrieveError(C17) | E17: =+Step3_AnagraficheDepositi!C17 -> OIS_8M#0004 | F17: =+F16 -> 1
A18: selects rate helpers for bootstrapping. | C18: OIS_9M | D18: =_xll.ohRangeRetrieveError(C18) | E18: =+Step3_AnagraficheDepositi!C18 -> OIS_9M#0004 | F18: =+F17 -> 1
C19: OIS_10M | D19: =_xll.ohRangeRetrieveError(C19) | E19: =+Step3_AnagraficheDepositi!C19 -> OIS_10M#0004 | F19: =+F18 -> 1
A20: Supported Platforms: | C20: OIS_11M | D20: =_xll.ohRangeRetrieveError(C20) | E20: =+Step3_AnagraficheDepositi!C20 -> OIS_11M#0004 | F20: =+F19 -> 1
C21: OIS_1Y | D21: =_xll.ohRangeRetrieveError(C21) | E21: =+Step3_AnagraficheDepositi!C21 -> OIS_1Y#0004 | F21: =+F20 -> 1
A22: Excel | C22: OIS_Swap_15M | D22: =_xll.ohRangeRetrieveError(C22) | E22: =+Step4_AnagraficheOISSwap!C4 -> OIS_Swap_15M#0005 | F22: =+F21 -> 1
C23: OIS_Swap_18M | D23: =_xll.ohRangeRetrieveError(C23) | E23: =+Step4_AnagraficheOISSwap!C5 -> OIS_Swap_18M#0004 | F23: =+F22 -> 1
A24: Parameters | C24: OIS_Swap_21M | D24: =_xll.ohRangeRetrieveError(C24) | E24: =+Step4_AnagraficheOISSwap!C6 -> OIS_Swap_21M#0004 | F24: =+F23 -> 1
A25: RateHelpers | B25: vector of RateHelper IDs. | C25: OIS_Swap_2Y | D25: =_xll.ohRangeRetrieveError(C25) | E25: =+Step4_AnagraficheOISSwap!C7 -> OIS_Swap_2Y#0002 | F25: =+F24 -> 1
A26: Priority | B26: vector of priority integers (higher number for higher priority). | C26: OIS_Swap_3Y | D26: =_xll.ohRangeRetrieveError(C26) | E26: =+Step4_AnagraficheOISSwap!C8 -> OIS_Swap_3Y#0004 | F26: =+F25 -> 1
A27: NImmFutures | B27: max number of IMM (March, June, September, December) Futures to be included. | C27: OIS_Swap_4Y | D27: =_xll.ohRangeRetrieveError(C27) | E27: =+Step4_AnagraficheOISSwap!C9 -> OIS_Swap_4Y#0004 | F27: =+F26 -> 1
A28: NSerialFutures | B28: max number of Serial (January, February, April, May, July, August, October, November) Futures to be included. | C28: OIS_Swap_5Y | D28: =_xll.ohRangeRetrieveError(C28) | E28: =+Step4_AnagraficheOISSwap!C10 -> OIS_Swap_5Y#0004 | F28: =+F27 -> 1
A29: FutureRollDays | B29: discard the front Futures the given number of (positive) days before its expiry (e.g zero implies the use of the front Futures during its expiry day). Default value = 2. | C29: OIS_Swap_6Y | D29: =_xll.ohRangeRetrieveError(C29) | E29: =+Step4_AnagraficheOISSwap!C11 -> OIS_Swap_6Y#0004 | F29: =+F28 -> 1
A30: DepoInclusion | B30: Depo inclusion criteria. Default value = AllDepos. | C30: OIS_Swap_7Y | D30: =_xll.ohRangeRetrieveError(C30) | E30: =+Step4_AnagraficheOISSwap!C12 -> OIS_Swap_7Y#0004 | F30: =+F29 -> 1
A31: MinDistance | B31: minimum distance in (positive) days from near instruments. Default value = 1. | C31: OIS_Swap_8Y | D31: =_xll.ohRangeRetrieveError(C31) | E31: =+Step4_AnagraficheOISSwap!C13 -> OIS_Swap_8Y#0004 | F31: =+F30 -> 1
A32: Trigger | B32: dependency tracking trigger | C32: OIS_Swap_9Y | D32: =_xll.ohRangeRetrieveError(C32) | E32: =+Step4_AnagraficheOISSwap!C14 -> OIS_Swap_9Y#0004 | F32: =+F31 -> 1
C33: OIS_Swap_10Y | D33: =_xll.ohRangeRetrieveError(C33) | E33: =+Step4_AnagraficheOISSwap!C15 -> OIS_Swap_10Y#0004 | F33: =+F32 -> 1
C34: OIS_Swap_11Y | D34: =_xll.ohRangeRetrieveError(C34) | E34: =+Step4_AnagraficheOISSwap!C16 -> OIS_Swap_11Y#0004 | F34: =+F33 -> 1
C35: OIS_Swap_12Y | D35: =_xll.ohRangeRetrieveError(C35) | E35: =+Step4_AnagraficheOISSwap!C17 -> OIS_Swap_12Y#0004 | F35: =+F34 -> 1
C36: OIS_Swap_15Y | D36: =_xll.ohRangeRetrieveError(C36) | E36: =+Step4_AnagraficheOISSwap!C18 -> OIS_Swap_15Y#0004 | F36: =+F35 -> 1
C37: OIS_Swap_20Y | D37: =_xll.ohRangeRetrieveError(C37) | E37: =+Step4_AnagraficheOISSwap!C19 -> OIS_Swap_20Y#0004 | F37: =+F36 -> 1
C38: OIS_Swap_25Y | D38: =_xll.ohRangeRetrieveError(C38) | E38: =+Step4_AnagraficheOISSwap!C20 -> OIS_Swap_25Y#0004 | F38: =+F37 -> 1
C39: OIS_Swap_30Y | D39: =_xll.ohRangeRetrieveError(C39) | E39: =+Step4_AnagraficheOISSwap!C21 -> OIS_Swap_30Y#0004 | F39: =+F38 -> 1
C40: OIS_Swap_40Y | D40: =_xll.ohRangeRetrieveError(C40) | E40: =+Step4_AnagraficheOISSwap!C22 -> OIS_Swap_40Y#0004 | F40: =+F39 -> 1
C41: OIS_Swap_50Y | D41: =_xll.ohRangeRetrieveError(C41) | E41: =+Step4_AnagraficheOISSwap!C23 -> OIS_Swap_50Y#0004 | F41: =+F40 -> 1
C42: OIS_Swap_60Y | D42: =_xll.ohRangeRetrieveError(C42) | E42: =+Step4_AnagraficheOISSwap!C24 -> OIS_Swap_60Y#0004 | F42: =+F41 -> 1

Sheet Step6_BootstrapCurva
E1: Parametri funzione | R1: Output of bootstrapping | Z1: funzioni quantlib
A3: qlPiecewiseYieldCurve | C3: Funzione | D3: errore | E3: {=TRANSPOSE(A30:A42)} -> ObjectId | F3: NDays | G3: Calendar | H3: RateHelpers | I3: DayCounter | J3: Jumps | K3: JumpDates | L3: Accuracy | M3: TraitsID | N3: InterpolatorID | O3: Permanent | P3: Trigger | Q3: Overwrite | R3: Dates | S3: Data | T3: TimeFactor | U3: Rate | W3: TermStructureCalendar | X3: =_xll.qlTermStructureCalendar($C$4) -> TARGET | Z3: qlPiecewiseYieldCurveDates
C4: {=_xll.qlPiecewiseYieldCurve(E4,F4,G4,_xll.ohPack(H4:H42),I4,,,,M4,N4)} -> OIS_CURVE#0001 | D4: =_xll.ohRangeRetrieveError(C4) | E4: OIS_CURVE | F4: 2 | G4: Target | H4: =+Step5_RatesSelection!C4 -> OIS_OVN | I4: Actual/360 | M4: Discount | N4: LogLinear | R4: {=_xll.qlPiecewiseYieldCurveDates($C$4)} -> 42235 | S4: {=_xll.qlPiecewiseYieldCurveData($C$4)} -> 1 | T4: =YEARFRAC($X$5,R4,2) -> 0 | W4: TermStructureDayCounter | X4: =_xll.qlTermStructureDayCounter($C$4) -> Actual/360
A5: string returnValue | H5: =+Step5_RatesSelection!C5 -> OIS_TN | R5: 42236 | S5: 1.0000047 | T5: =YEARFRAC($X$5,R5,2) -> 0.0027777778 | U5: =-LN(S5)/T5 -> -0.001700004 | W5: TermStructureReferenceDate | X5: =_xll.qlTermStructureReferenceDate($C$4) -> 42235 | Z5: vector<long> returnValue
A6: qlPiecewiseYieldCurve( | H6: =+Step5_RatesSelection!C6 -> OIS_SN | R6: 42242 | S6: 1.0000245 | T6: =YEARFRAC($X$5,R6,2) -> 0.019444444 | U6: =-LN(S6)/T6 -> -0.0012600154 | W6: TermStructureMaxDate | X6: =_xll.qlTermStructureMaxDate($C$4) -> 64150 | Z6: qlPiecewiseYieldCurveDates(
A7: string ObjectId | H7: =+Step5_RatesSelection!C7 -> OIS_1W | R7: 42249 | S7: 1.0000486 | T7: =YEARFRAC($X$5,R7,2) -> 0.038888889 | U7: =-LN(S7)/T7 -> -0.0012500304 | W7: TermStructureSettlementDays | X7: =_xll.qlTermStructureSettlementDays($C$4) -> 2 | Z7: string ObjectId
A8: long NDays | H8: =+Step5_RatesSelection!C8 -> OIS_2W | R8: 42256 | S8: 1.0000735 | T8: =YEARFRAC($X$5,R8,2) -> 0.058333333 | U8: =-LN(S8)/T8 -> -0.0012600463 | Z8: any Trigger)
A9: string Calendar | H9: =+Step5_RatesSelection!C9 -> OIS_3W | R9: 42268 | S9: 1.0001173 | T9: =YEARFRAC($X$5,R9,2) -> 0.091666667 | U9: =-LN(S9)/T9 -> -0.0012800751
A10: vector<string> RateHelpers | H10: =+Step5_RatesSelection!C10 -> OIS_1M | R10: 42296 | S10: 1.0002169 | T10: =YEARFRAC($X$5,R10,2) -> 0.16944444 | U10: =-LN(S10)/T10 -> -0.0012801388 | Z10: Description:
A11: string DayCounter | H11: =+Step5_RatesSelection!C11 -> OIS_2M | R11: 42327 | S11: 1.0003323 | T11: =YEARFRAC($X$5,R11,2) -> 0.25555556 | U11: =-LN(S11)/T11 -> -0.001300216
A12: vector<string> Jumps | H12: =+Step5_RatesSelection!C12 -> OIS_3M | R12: 42359 | S12: 1.0004583 | T12: =YEARFRAC($X$5,R12,2) -> 0.34444444 | U12: =-LN(S12)/T12 -> -0.0013303047 | Z12: Retrieve list of Dates for the given PiecewiseYieldCurve<Traits, Interpolator>.
A13: vector<long> JumpDates | H13: =+Step5_RatesSelection!C13 -> OIS_4M | R13: 42388 | S13: 1.0005613 | T13: =YEARFRAC($X$5,R13,2) -> 0.425 | U13: =-LN(S13)/T13 -> -0.0013203704
A14: double Accuracy | H14: =+Step5_RatesSelection!C14 -> OIS_5M | R14: 42419 | S14: 1.0006854 | T14: =YEARFRAC($X$5,R14,2) -> 0.51111111 | U14: =-LN(S14)/T14 -> -0.0013404591 | Z14: Supported Platforms:
A15: string TraitsID | H15: =+Step5_RatesSelection!C15 -> OIS_6M | R15: 42450 | S15: 1.0008129 | T15: =YEARFRAC($X$5,R15,2) -> 0.59722222 | U15: =-LN(S15)/T15 -> -0.0013605526
A16: string InterpolatorID | H16: =+Step5_RatesSelection!C16 -> OIS_7M | R16: 42479 | S16: 1.0009294 | T16: =YEARFRAC($X$5,R16,2) -> 0.67777778 | U16: =-LN(S16)/T16 -> -0.0013706365 | Z16: Excel
A17: bool Permanent | H17: =+Step5_RatesSelection!C17 -> OIS_8M | R17: 42509 | S17: 1.0010438 | T17: =YEARFRAC($X$5,R17,2) -> 0.76111111 | U17: =-LN(S17)/T17 -> -0.0013707148
A18: any Trigger | H18: =+Step5_RatesSelection!C18 -> OIS_9M | R18: 42541 | S18: 1.0011829 | T18: =YEARFRAC($X$5,R18,2) -> 0.85 | U18: =-LN(S18)/T18 -> -0.0013908218 | Z18: Parameters
A19: bool Overwrite) | H19: =+Step5_RatesSelection!C19 -> OIS_10M | R19: 42570 | S19: 1.0012951 | T19: =YEARFRAC($X$5,R19,2) -> 0.93055556 | U19: =-LN(S19)/T19 -> -0.0013908997 | Z19: ObjectId | AA19: id of existing QuantLibAddin::PiecewiseYieldCurve object
H20: =+Step5_RatesSelection!C20 -> OIS_11M | R20: 42601 | S20: 1.0014254 | T20: =YEARFRAC($X$5,R20,2) -> 1.0166667 | U20: =-LN(S20)/T20 -> -0.0014009973 | Z20: Trigger | AA20: dependency tracking trigger
A21: Description: | H21: =+Step5_RatesSelection!C21 -> OIS_1Y | R21: 42695 | S21: 1.0017916 | T21: =YEARFRAC($X$5,R21,2) -> 1.2777778 | U21: =-LN(S21)/T21 -> -0.0014008458
H22: =+Step5_RatesSelection!C22 -> OIS_Swap_15M | R22: 42786 | S22: 1.0021003 | T22: =YEARFRAC($X$5,R22,2) -> 1.5305556 | U22: =-LN(S22)/T22 -> -0.0013708241
A23: Construct an object of class PiecewiseYieldCurve and return its id | H23: =+Step5_RatesSelection!C23 -> OIS_Swap_18M | R23: 42874 | S23: 1.0023473 | T23: =YEARFRAC($X$5,R23,2) -> 1.775 | U23: =-LN(S23)/T23 -> -0.0013208518
H24: =+Step5_RatesSelection!C24 -> OIS_Swap_21M | R24: 42968 | S24: 1.0025093 | T24: =YEARFRAC($X$5,R24,2) -> 2.0361111 | U24: =-LN(S24)/T24 -> -0.0012308771 | Z24: qlPiecewiseYieldCurveData
A25: Supported Platforms: | H25: =+Step5_RatesSelection!C25 -> OIS_Swap_2Y | R25: 43332 | S25: 1.0019235 | T25: =YEARFRAC($X$5,R25,2) -> 3.0472222 | U25: =-LN(S25)/T25 -> -0.00063062427
H26: =+Step5_RatesSelection!C26 -> OIS_Swap_3Y | R26: 43696 | S26: 0.99890294 | T26: =YEARFRAC($X$5,R26,2) -> 4.0583333 | U26: =-LN(S26)/T26 -> 0.00027047058 | Z26: vector<double> returnValue
A27: C++, Calc, Excel | H27: =+Step5_RatesSelection!C27 -> OIS_Swap_4Y | R27: 44062 | S27: 0.99299964 | T27: =YEARFRAC($X$5,R27,2) -> 5.075 | U27: =-LN(S27)/T27 -> 0.0013842323 | Z27: qlPiecewiseYieldCurveData(
H28: =+Step5_RatesSelection!C28 -> OIS_Swap_5Y | R28: 44427 | S28: 0.98409532 | T28: =YEARFRAC($X$5,R28,2) -> 6.0888889 | U28: =-LN(S28)/T28 -> 0.0026330778 | Z28: string ObjectId
A29: Parameters | H29: =+Step5_RatesSelection!C29 -> OIS_Swap_6Y | R29: 44792 | S29: 0.97240946 | T29: =YEARFRAC($X$5,R29,2) -> 7.1027778 | U29: =-LN(S29)/T29 -> 0.0039390658 | Z29: any Trigger)
A30: ObjectId | B30: id of object to be created | H30: =+Step5_RatesSelection!C30 -> OIS_Swap_7Y | R30: 45159 | S30: 0.9586266 | T30: =YEARFRAC($X$5,R30,2) -> 8.1222222 | U30: =-LN(S30)/T30 -> 0.0052022276
A31: NDays | B31: number of days to advance from EvaluationDate (usually zero or two): it fixes the date at which the discount factor = 1.0. Default value = 0. | H31: =+Step5_RatesSelection!C31 -> OIS_Swap_8Y | R31: 45523 | S31: 0.94337855 | T31: =YEARFRAC($X$5,R31,2) -> 9.1333333 | U31: =-LN(S31)/T31 -> 0.0063818587 | Z31: Description:
A32: Calendar | B32: holiday calendar (e.g. TARGET) to advance from global EvaluationDate. | H32: =+Step5_RatesSelection!C32 -> OIS_Swap_9Y | R32: 45888 | S32: 0.92732894 | T32: =YEARFRAC($X$5,R32,2) -> 10.147222 | U32: =-LN(S32)/T32 -> 0.0074352298
A33: RateHelpers | B33: vector of rate-helpers. | H33: =+Step5_RatesSelection!C33 -> OIS_Swap_10Y | R33: 46253 | S33: 0.91058797 | T33: =YEARFRAC($X$5,R33,2) -> 11.161111 | U33: =-LN(S33)/T33 -> 0.0083920651 | Z33: Retrieve Data for the given PiecewiseYieldCurve<Traits, Interpolator>.
A34: DayCounter | B34: DayCounter ID. Default value = Actual/365 (Fixed). | H34: =+Step5_RatesSelection!C34 -> OIS_Swap_11Y | R34: 46618 | S34: 0.89348278 | T34: =YEARFRAC($X$5,R34,2) -> 12.175 | U34: =-LN(S34)/T34 -> 0.0092507773
A35: Jumps | B35: Jump quotes vector. | H35: =+Step5_RatesSelection!C35 -> OIS_Swap_12Y | R35: 47714 | S35: 0.84331738 | T35: =YEARFRAC($X$5,R35,2) -> 15.219444 | U35: =-LN(S35)/T35 -> 0.011196986 | Z35: Supported Platforms:
A36: JumpDates | B36: Jump dates vector. | H36: =+Step5_RatesSelection!C36 -> OIS_Swap_15Y | R36: 49541 | S36: 0.76948063 | T36: =YEARFRAC($X$5,R36,2) -> 20.294444 | U36: =-LN(S36)/T36 -> 0.012911883
A37: Accuracy | B37: Bootstrapping accuracy. Default value = 1.0e-12. | H37: =+Step5_RatesSelection!C37 -> OIS_Swap_20Y | R37: 51368 | S37: 0.71092 | T37: =YEARFRAC($X$5,R37,2) -> 25.369444 | U37: =-LN(S37)/T37 -> 0.013449068 | Z37: Excel
A38: TraitsID | B38: Discount, ZeroRate, or ForwardRate. Default value = Discount. | H38: =+Step5_RatesSelection!C38 -> OIS_Swap_25Y | R38: 53195 | S38: 0.65925415 | T38: =YEARFRAC($X$5,R38,2) -> 30.444444 | U38: =-LN(S38)/T38 -> 0.013685458
A39: InterpolatorID | B39: BackwardFlat, ForwardFlat, Linear, LogLinear, CubicSpline, or LogCubic. Default value = LogLinear. | H39: =+Step5_RatesSelection!C39 -> OIS_Swap_30Y | R39: 56845 | S39: 0.56653021 | T39: =YEARFRAC($X$5,R39,2) -> 40.583333 | U39: =-LN(S39)/T39 -> 0.014001434 | Z39: Parameters
A40: Permanent | B40: object permanent/nonpermanent | H40: =+Step5_RatesSelection!C40 -> OIS_Swap_40Y | R40: 60498 | S40: 0.50266945 | T40: =YEARFRAC($X$5,R40,2) -> 50.730556 | U40: =-LN(S40)/T40 -> 0.013558347 | Z40: ObjectId | AA40: id of existing QuantLibAddin::PiecewiseYieldCurve object
A41: Trigger | B41: dependency tracking trigger | H41: =+Step5_RatesSelection!C41 -> OIS_Swap_50Y | R41: 64150 | S41: 0.44116892 | T41: =YEARFRAC($X$5,R41,2) -> 60.875 | U41: =-LN(S41)/T41 -> 0.013442751 | Z41: Trigger | AA41: dependency tracking trigger
A42: Overwrite | B42: overwrite flag | H42: =+Step5_RatesSelection!C42 -> OIS_Swap_60Y | R42: #N/A | S42: #N/A | T42: =YEARFRAC($X$5,R42,2) -> #N/A | U42: =-LN(S42)/T42 -> #N/A
