Workbook

Sheet Sheet1
B1: =TODAY() -> 42304 | M1: 3
A2: Effective Date | B2: Termination Date | C2: Tenor | D2: Month | E2: Calendar | F2: Convention | G2: TermDate Conv | H2: GenRule | I2: ScheduleID | K2: Description | L2: Curr | M2: Settl Days | N2: Face Amount | O2: Coupons | P2: DayCounter | Q2: BondID | S2: Set Engine | T2: Accr | U2: Ref Clean Price | V2: Clean Price | W2: RateHelperId | Y2: Set Engine | Z2: Clean Price | AA2: Error
A3: =EDATE(B3,-240) -> 35372 | B3: =EDATE($B$1,D3)+7 -> 42677 | C3: 1Y | D3: 12 | E3: Sweden | F3: Following | G3: Following | H3: Backward | I3: =_xll.qlSchedule(,A3,B3,C3,E3,F3,G3,H3) -> obj_0000a#0039 | K3: ="Bond "&TEXT(O3,"0.00%")&TEXT(B3," yyyy-mm-dd") -> Bond 5.25% 2016-11-03 | L3: SEK | M3: =$M$1 -> 3 | N3: 100 | O3: 0.0525 | P3: 30E/360 | Q3: =_xll.qlFixedRateBond(,K3,L3,M3,N3,I3,O3,P3,,,,"TARGET") -> obj_0001c#0039 | S3: =_xll.qlInstrumentSetPricingEngine(Q3,$S$20) -> TRUE | T3: =_xll.qlBondAccruedAmount(Q3) -> 5.1916667 | U3: =_xll.qlBondCleanPrice(Q3,S3) -> 102.14521 | V3: 100 | W3: =_xll.qlBondHelper(,V3,Q3) -> obj_0002a#0039 | Y3: =_xll.qlInstrumentSetPricingEngine(Q3,$W$20) -> TRUE | Z3: =_xll.qlBondCleanPrice(Q3,Y3) -> 100 | AA3: =Z3-V3 -> -3.3537617e-12
A4: =EDATE(B4,-240) -> 35733 | B4: =EDATE($B$1,D4)+3 -> 43038 | C4: 6M | D4: 24 | E4: Sweden | F4: Following | G4: Following | H4: Backward | I4: =_xll.qlSchedule(,A4,B4,C4,E4,F4,G4,H4) -> obj_00013#0039 | K4: ="Bond "&TEXT(O4,"0.00%")&TEXT(B4," yyyy-mm-dd") -> Bond 5.50% 2017-10-30 | L4: SEK | M4: =$M$1 -> 3 | N4: 100 | O4: 0.055 | P4: 30E/360 | Q4: =_xll.qlFixedRateBond(,K4,L4,M4,N4,I4,O4,P4,,,,"TARGET") -> obj_00016#0039 | S4: =_xll.qlInstrumentSetPricingEngine(Q4,$S$20) -> TRUE | T4: =_xll.qlBondAccruedAmount(Q4) -> 2.7347222 | U4: =_xll.qlBondCleanPrice(Q4,S4) -> 104.77091 | V4: 100 | W4: =_xll.qlBondHelper(,V4,Q4) -> obj_00020#0039 | Y4: =_xll.qlInstrumentSetPricingEngine(Q4,$W$20) -> TRUE | Z4: =_xll.qlBondCleanPrice(Q4,Y4) -> 100 | AA4: =Z4-V4 -> 0
A5: =EDATE(B5,-240) -> 36736 | B5: =EDATE($B$1,D5)-90 -> 44041 | C5: 3M | D5: 60 | E5: Sweden | F5: Following | G5: Following | H5: Backward | I5: =_xll.qlSchedule(,A5,B5,C5,E5,F5,G5,H5) -> obj_00010#0039 | K5: ="Bond "&TEXT(O5,"0.00%")&TEXT(B5," yyyy-mm-dd") -> Bond 6.75% 2020-07-29 | L5: SEK | M5: =$M$1 -> 3 | N5: 100 | O5: 0.0675 | P5: 30E/360 | Q5: =_xll.qlFixedRateBond(,K5,L5,M5,N5,I5,O5,P5,,,,"TARGET") -> obj_00011#0039 | S5: =_xll.qlInstrumentSetPricingEngine(Q5,$S$20) -> TRUE | T5: =_xll.qlBondAccruedAmount(Q5) -> 0 | U5: =_xll.qlBondCleanPrice(Q5,S5) -> 116.47823 | V5: 100 | W5: =_xll.qlBondHelper(,V5,Q5) -> obj_00026#0039 | Y5: =_xll.qlInstrumentSetPricingEngine(Q5,$W$20) -> TRUE | Z5: =_xll.qlBondCleanPrice(Q5,Y5) -> 100 | AA5: =Z5-V5 -> 0
A6: =EDATE(B6,-240) -> 37911 | B6: =EDATE($B$1,D6)+173 -> 45216 | C6: 1Y | D6: 90 | E6: Sweden | F6: Following | G6: Following | H6: Backward | I6: =_xll.qlSchedule(,A6,B6,C6,E6,F6,G6,H6) -> obj_0000b#0039 | K6: ="Bond "&TEXT(O6,"0.00%")&TEXT(B6," yyyy-mm-dd") -> Bond 4.50% 2023-10-17 | L6: SEK | M6: =$M$1 -> 3 | N6: 100 | O6: 0.045 | P6: 30E/360 | Q6: =_xll.qlFixedRateBond(,K6,L6,M6,N6,I6,O6,P6,,,,"TARGET") -> obj_0001b#0039 | S6: =_xll.qlInstrumentSetPricingEngine(Q6,$S$20) -> TRUE | T6: =_xll.qlBondAccruedAmount(Q6) -> 0.125 | U6: =_xll.qlBondCleanPrice(Q6,S6) -> 110.13361 | V6: 100 | W6: =_xll.qlBondHelper(,V6,Q6) -> obj_00027#0039 | Y6: =_xll.qlInstrumentSetPricingEngine(Q6,$W$20) -> TRUE | Z6: =_xll.qlBondCleanPrice(Q6,Y6) -> 100 | AA6: =Z6-V6 -> 0
A7: =EDATE(B7,-240) -> 38700 | B7: =EDATE($B$1,D7)+48 -> 46005 | C7: 1Y | D7: 120 | E7: Sweden | F7: Following | G7: Following | H7: Backward | I7: =_xll.qlSchedule(,A7,B7,C7,E7,F7,G7,H7) -> obj_00014#0039 | K7: ="Bond "&TEXT(O7,"0.00%")&TEXT(B7," yyyy-mm-dd") -> Bond 3.00% 2025-12-14 | L7: SEK | M7: =$M$1 -> 3 | N7: 100 | O7: 0.03 | P7: 30E/360 | Q7: =_xll.qlFixedRateBond(,K7,L7,M7,N7,I7,O7,P7,,,,"TARGET") -> obj_00015#0039 | S7: =_xll.qlInstrumentSetPricingEngine(Q7,$S$20) -> TRUE | T7: =_xll.qlBondAccruedAmount(Q7) -> 2.6166667 | U7: =_xll.qlBondCleanPrice(Q7,S7) -> 99.579038 | V7: 100 | W7: =_xll.qlBondHelper(,V7,Q7) -> obj_00028#0039 | Y7: =_xll.qlInstrumentSetPricingEngine(Q7,$W$20) -> TRUE | Z7: =_xll.qlBondCleanPrice(Q7,Y7) -> 100 | AA7: =Z7-V7 -> -2.3320013e-11
A8: =EDATE(B8,-240) -> 39934 | B8: =EDATE($B$1,D8)+278 -> 47239 | C8: 1Y | D8: 153 | E8: Sweden | F8: Following | G8: Following | H8: Backward | I8: =_xll.qlSchedule(,A8,B8,C8,E8,F8,G8,H8) -> obj_00017#0039 | K8: ="Bond "&TEXT(O8,"0.00%")&TEXT(B8," yyyy-mm-dd") -> Bond 3.75% 2029-05-01 | L8: SEK | M8: =$M$1 -> 3 | N8: 100 | O8: 0.0375 | P8: 30E/360 | Q8: =_xll.qlFixedRateBond(,K8,L8,M8,N8,I8,O8,P8,,,,"TARGET") -> obj_00018#0039 | S8: =_xll.qlInstrumentSetPricingEngine(Q8,$S$20) -> TRUE | T8: =_xll.qlBondAccruedAmount(Q8) -> 1.8229167 | U8: =_xll.qlBondCleanPrice(Q8,S8) -> 107.66972 | V8: 100 | W8: =_xll.qlBondHelper(,V8,Q8) -> obj_00024#0039 | Y8: =_xll.qlInstrumentSetPricingEngine(Q8,$W$20) -> TRUE | Z8: =_xll.qlBondCleanPrice(Q8,Y8) -> 100 | AA8: =Z8-V8 -> 0
A9: =EDATE(B9,-240) -> 40482 | B9: =EDATE($B$1,D9)-27 -> 47787 | C9: 1Y | D9: 181 | E9: Sweden | F9: Following | G9: Following | H9: Backward | I9: =_xll.qlSchedule(,A9,B9,C9,E9,F9,G9,H9) -> obj_00003#0039 | K9: ="Bond "&TEXT(O9,"0.00%")&TEXT(B9," yyyy-mm-dd") -> Bond 4.25% 2030-10-31 | L9: SEK | M9: =$M$1 -> 3 | N9: 100 | O9: 0.0425 | P9: 30E/360 | Q9: =_xll.qlFixedRateBond(,K9,L9,M9,N9,I9,O9,P9,,,,"TARGET") -> obj_00019#0039 | S9: =_xll.qlInstrumentSetPricingEngine(Q9,$S$20) -> TRUE | T9: =_xll.qlBondAccruedAmount(Q9) -> 4.2381944 | U9: =_xll.qlBondCleanPrice(Q9,S9) -> 114.29458 | V9: 100 | W9: =_xll.qlBondHelper(,V9,Q9) -> obj_00021#0039 | Y9: =_xll.qlInstrumentSetPricingEngine(Q9,$W$20) -> TRUE | Z9: =_xll.qlBondCleanPrice(Q9,Y9) -> 100 | AA9: =Z9-V9 -> -1.1851853e-11
A10: =EDATE(B10,-240) -> 42154 | B10: =EDATE($B$1,D10)-120 -> 49459 | C10: 1Y | D10: 239 | E10: Sweden | F10: Following | G10: Following | H10: Backward | I10: =_xll.qlSchedule(,A10,B10,C10,E10,F10,G10,H10) -> obj_00002#0039 | K10: ="Bond "&TEXT(O10,"0.00%")&TEXT(B10," yyyy-mm-dd") -> Bond 5.00% 2035-05-30 | L10: SEK | M10: =$M$1 -> 3 | N10: 100 | O10: 0.05 | P10: 30E/360 | Q10: =_xll.qlFixedRateBond(,K10,L10,M10,N10,I10,O10,P10,,,,"TARGET") -> obj_00004#0039 | S10: =_xll.qlInstrumentSetPricingEngine(Q10,$S$20) -> TRUE | T10: =_xll.qlBondAccruedAmount(Q10) -> 2.0555556 | U10: =_xll.qlBondCleanPrice(Q10,S10) -> 128.46683 | V10: 100 | W10: =_xll.qlBondHelper(,V10,Q10) -> obj_00006#0039 | Y10: =_xll.qlInstrumentSetPricingEngine(Q10,$W$20) -> TRUE | Z10: =_xll.qlBondCleanPrice(Q10,Y10) -> 100 | AA10: =Z10-V10 -> 1.2164492e-11
S12: FlatCurve | W12: PiecewiseCurve
S13: =_xll.qlFlatForward(,0,"target",3%,,,,,Q3:Q10) -> obj_00029#0039 | W13: =_xll.qlPiecewiseYieldCurve(,$M$1,"TARGET",W3:W10) -> obj_00047#0039
S16: =_xll.qlYieldTSDiscount(S13,V16) -> 0.99975346 | V16: =_xll.qlBondSettlementDate(Q3) -> 42306 | W16: =_xll.qlYieldTSDiscount(W13,V16) -> 1
S17: =_xll.qlYieldTSDiscount(S13,V17) -> 0.55534575 | V17: =MAX(B3:B10) -> 49459 | W17: =_xll.qlYieldTSDiscount(W13,V17) -> 0.35508343
V18: =+V17-V16 -> 7153
S19: BondEngine | V19: =+V18/365 -> 19.59726 | W19: BondEngine
S20: =_xll.qlBondEngine(,S13) -> obj_0002b#0039 | V20: =-LN(W17)/V19 -> 0.052834043 | W20: =_xll.qlBondEngine(,W13,,W16) -> obj_00048#0039

Sheet InputData
A1: Scadenza | B1: Tipo dato di mercato di input | C1: Tipo tasso x procedura bootstrapping | D1: Day Count[1] | E1: Provider: Bloomberg | F1: Provider: Reuters
E2: Contributore: MMTS | F2: Contributore: Reuters
E3: Last Ask | F3: Price Bid: CF_YIELD;
E4: Last Bid | F4: Price Ask: SEC_YLD_1
A5: 3M | B5: ZC Price | C5: Bond Curve | D5: act/360 | E5: /BSYM/MTS/BOTS 0 01/14/16 | F5: IT3MT=RR
A6: 5M | B6: ZC Price | C6: Bond Curve | D6: act/360 | E6: /BSYM/MTS/BOTS 0 03/31/16 | F6: IT6MT=RR
A7: 1Y | B7: ZC Price | C7: Bond Curve | D7: act/360 | E7: /BSYM/MTS/BOTS 0 10/14/16 | F7: IT1YT=RR
A8: 19M | B8: Price | C8: Bond Curve | D8: act/act | E8: /BSYM/MTS/BTPS 1.15 05/15/17 | F8: IT2YT=RR
A9: 31M | B9: Price | C9: Bond Curve | D9: act/act | E9: /BSYM/MTS/BTPS 0.25 05/15/18 | F9: IT3YT=RR
A10: 42M | B10: Price | C10: Bond Curve | D10: act/act | E10: /BSYM/MTS/BTPS 2.5 05/01/19 | F10: IT4YT=RR
A11: 54M | B11: Price | C11: Bond Curve | D11: act/act | E11: /BSYM/MTS/BTPS 0.7 05/01/20 | F11: IT5YT=RR
A12: 66M | B12: Price | C12: Bond Curve | D12: act/act | E12: /BSYM/MTS/BTPS 3.75 05/01/21 | F12: IT6YT=RR
A13: 78M | B13: Price | C13: Bond Curve | D13: act/act | E13: /BSYM/MTS/BTPS 1.35 04/15/22 | F13: IT7YT=RR
A14: 90M | B14: Price | C14: Bond Curve | D14: act/act | E14: /BSYM/MTS/BTPS 4.5 05/01/23 | F14: IT8YT=RR
A15: 100M | B15: Price | C15: Bond Curve | D15: act/act | E15: /BSYM/MTS/BTPS 4.5 03/01/24 | F15: IT9YT=RR
A16: 115M | B16: Price | C16: Bond Curve | D16: act/act | E16: /BSYM/MTS/BTPS 1.5 06/01/25 | F16: IT10YT=RR
... A19: 370M | B19: Price | C19: Bond Curve | D19: act/act | E19: /BSYM/MTS/BTPS 3.25 09/01/46 | F19: IT30YT=RR

Sheet BondCurveInputData
A1: =_xll.qlSettingsSetEvaluationDate(B1) -> TRUE | B1: =DATE(2015,10,26) -> 42303 | C1: 1 | T1: 2 | U1: 100 | Z1: 100 | AA1: 40 | AC1: =_xll.ohRangeRetrieveError(AC3) | AD1: BondHelper
A2: qlSchedule | B2: Date | C2: qlSchedule | D2: EffectiveDate | E2: TerminationDate | F2: Tenor | G2: Calendar | H2: Convention | I2: TermDateConv | J2: GenRule | K2: EndOfMonth | L2: FirstDate | M2: NextToLastDate | N2: ID | O2: TIPO | P2: FixedRateBond | Q2: ObjectId | R2: Description | S2: Currency | T2: SettlementDays | U2: FaceAmount | V2: ScheduleID | W2: Coupons | X2: DayCounter | Y2: PaymentBDC | Z2: Redemption | AA2: IssueDate | AB2: PaymentCalendar | AC2: BondHelper | AD2: ObjectId | AE2: Price | AF2: Bond | AG2: UseCleanPrice | AH2: Set Engine | AI2: Clean Price | AJ2: Error
B3: =+B1 -> 42303 | C3: {=_xll.qlSchedule(N3,D3,E3,F3,G3,H3,I3,J3,K3,L3,M3)} -> BOT80D#0017 | D3: =+B3 -> 42303 | E3: =DATE(2016,1,14) -> 42383 | F3: =(E3-B3)&"D" -> 80D | G3: TARGET | H3: Unadjusted | I3: =+H3 -> Unadjusted | J3: Backward | K3: FALSE | N3: =O3&F3 -> BOT80D | O3: BOT | P3: =_xll.qlFixedRateBond(Q3,R3,S3,T3,U3,V3,W3,X3,Y3,Z3,AA3,AB3) -> bondBOT80D#0022 | Q3: ="bond"&N3 -> bondBOT80D | R3: =+Q3 -> bondBOT80D | S3: EUR | T3: =+T1 -> 2 | U3: =+U1 -> 100 | V3: =+C3 -> BOT80D#0017 | W3: =VLOOKUP(E3,DAti_MF!D1:Z2,23,FALSE)/100 -> 0 | X3: act/360 | Y3: Unadjusted | Z3: =+Z1 -> 100 | AA3: =DATE(YEAR(E3)-$AA$1,MONTH(E3),DAY(E3)) -> 27773 | AB3: TARGET | AC3: =_xll.qlBondHelper(AD3,AE3,AF3,AG3) -> BondHelperbondBOT80D#0024 | AD3: =+$AD$1&Q3 -> BondHelperbondBOT80D | AE3: =VLOOKUP(E3,DAti_MF!$D$2:$G$16,4,FALSE) -> 100.0155 | AF3: =+P3 -> bondBOT80D#0022 | AG3: TRUE | AH3: =_xll.qlInstrumentSetPricingEngine(P3,BondCurve!$I$21) -> TRUE | AI3: =_xll.qlBondCleanPrice(P3,AH3) -> 100.0155 | AJ3: =+AI3-AE3 -> 0
A4: string returnValue | B4: =+B3 -> 42303 | C4: {=_xll.qlSchedule(N4,D4,E4,F4,G4,H4,I4,J4,K4,L4,M4)} -> BOT157D#0017 | D4: =+B4 -> 42303 | E4: =DATE(2016,3,31) -> 42460 | F4: =(E4-B4)&"D" -> 157D | G4: TARGET | H4: Unadjusted | I4: =+H4 -> Unadjusted | J4: Backward | K4: FALSE | N4: =O4&F4 -> BOT157D | O4: BOT | P4: =_xll.qlFixedRateBond(Q4,R4,S4,T4,U4,V4,W4,X4,Y4,Z4,AA4,AB4) -> bondBOT157D#0020 | Q4: ="bond"&N4 -> bondBOT157D | R4: =+Q4 -> bondBOT157D | S4: EUR | T4: =+T3 -> 2 | U4: =+U3 -> 100 | V4: =+C4 -> BOT157D#0017 | W4: =VLOOKUP(E4,DAti_MF!D2:Z3,23,FALSE)/100 -> 0 | X4: =+X3 -> act/360 | Y4: Unadjusted | Z4: =+Z3 -> 100 | AA4: =DATE(YEAR(E4)-$AA$1,MONTH(E4),DAY(E4)) -> 27850 | AB4: TARGET | AC4: =_xll.qlBondHelper(AD4,AE4,AF4,AG4) -> BondHelperbondBOT157D#0021 | AD4: =+$AD$1&Q4 -> BondHelperbondBOT157D | AE4: =VLOOKUP(E4,DAti_MF!$D$2:$G$16,4,FALSE) -> 100.0255 | AF4: =+P4 -> bondBOT157D#0020 | AG4: TRUE | AH4: =_xll.qlInstrumentSetPricingEngine(P4,BondCurve!$I$21) -> TRUE | AI4: =_xll.qlBondCleanPrice(P4,AH4) -> 100.0255
A5: qlSchedule( | B5: =+B4 -> 42303 | C5: {=_xll.qlSchedule(N5,D5,E5,F5,G5,H5,I5,J5,K5,L5,M5)} -> BOT354D#0017 | D5: =+B5 -> 42303 | E5: =DATE(2016,10,14) -> 42657 | F5: =(E5-B5)&"D" -> 354D | G5: TARGET | H5: Unadjusted | I5: =+H5 -> Unadjusted | J5: Backward | K5: FALSE | N5: =O5&F5 -> BOT354D | O5: BOT | P5: =_xll.qlFixedRateBond(Q5,R5,S5,T5,U5,V5,W5,X5,Y5,Z5,AA5,AB5) -> bondBOT354D#0020 | Q5: ="bond"&N5 -> bondBOT354D | R5: =+Q5 -> bondBOT354D | S5: EUR | T5: =+T4 -> 2 | U5: =+U4 -> 100 | V5: =+C5 -> BOT354D#0017 | W5: =VLOOKUP(E5,DAti_MF!D3:Z4,23,FALSE)/100 -> 0 | X5: =+X4 -> act/360 | Y5: Unadjusted | Z5: =+Z3 -> 100 | AA5: =DATE(YEAR(E5)-$AA$1,MONTH(E5),DAY(E5)) -> 28047 | AB5: TARGET | AC5: =_xll.qlBondHelper(AD5,AE5,AF5,AG5) -> BondHelperbondBOT354D#0021 | AD5: =+$AD$1&Q5 -> BondHelperbondBOT354D | AE5: =VLOOKUP(E5,DAti_MF!$D$2:$G$16,4,FALSE) -> 100.0275 | AF5: =+P5 -> bondBOT354D#0020 | AG5: TRUE | AH5: =_xll.qlInstrumentSetPricingEngine(P5,BondCurve!$I$21) -> TRUE | AI5: =_xll.qlBondCleanPrice(P5,AH5) -> 100.0275
A6: string ObjectId | B6: =+B5 -> 42303 | C6: {=_xll.qlSchedule(N6,D6,E6,F6,G6,H6,I6,J6,K6,L6,M6)} -> BTP567D#0017 | D6: =+B6 -> 42303 | E6: =DATE(2017,5,15) -> 42870 | F6: =(E6-B6)&"D" -> 567D | G6: TARGET | H6: Unadjusted | I6: =+H6 -> Unadjusted | J6: Backward | K6: FALSE | N6: =O6&F6 -> BTP567D | O6: BTP | P6: =_xll.qlFixedRateBond(Q6,R6,S6,T6,U6,V6,W6,X6,Y6,Z6,AA6,AB6) -> bondBTP567D#0020 | Q6: ="bond"&N6 -> bondBTP567D | R6: =+Q6 -> bondBTP567D | S6: EUR | T6: =+T5 -> 2 | U6: =+U5 -> 100 | V6: =+C6 -> BTP567D#0017 | W6: =VLOOKUP(E6,DAti_MF!D4:Z5,23,FALSE)/100 -> 0.0115 | X6: act/act | Y6: Unadjusted | Z6: =+Z4 -> 100 | AA6: =DATE(YEAR(E6)-$AA$1,MONTH(E6),DAY(E6)) -> 28260 | AB6: TARGET | AC6: =_xll.qlBondHelper(AD6,AE6,AF6,AG6) -> BondHelperbondBTP567D#0021 | AD6: =+$AD$1&Q6 -> BondHelperbondBTP567D | AE6: =VLOOKUP(E6,DAti_MF!$D$2:$G$16,4,FALSE) -> 101.745 | AF6: =+P6 -> bondBTP567D#0020 | AG6: TRUE | AH6: =_xll.qlInstrumentSetPricingEngine(P6,BondCurve!$I$21) -> TRUE | AI6: =_xll.qlBondCleanPrice(P6,AH6) -> 101.745
A7: long EffectiveDate | B7: =+B6 -> 42303 | C7: {=_xll.qlSchedule(N7,D7,E7,F7,G7,H7,I7,J7,K7,L7,M7)} -> BTP932D#0017 | D7: =+B7 -> 42303 | E7: =DATE(2018,5,15) -> 43235 | F7: =(E7-B7)&"D" -> 932D | G7: TARGET | H7: Unadjusted | I7: =+H7 -> Unadjusted | J7: Backward | K7: FALSE | N7: =O7&F7 -> BTP932D | O7: BTP | P7: =_xll.qlFixedRateBond(Q7,R7,S7,T7,U7,V7,W7,X7,Y7,Z7,AA7,AB7) -> bondBTP932D#0020 | Q7: ="bond"&N7 -> bondBTP932D | R7: =+Q7 -> bondBTP932D | S7: EUR | T7: =+T6 -> 2 | U7: =+U6 -> 100 | V7: =+C7 -> BTP932D#0017 | W7: =VLOOKUP(E7,DAti_MF!D5:Z6,23,FALSE)/100 -> 0.0025 | X7: act/act | Y7: Unadjusted | Z7: =+Z5 -> 100 | AA7: =DATE(YEAR(E7)-$AA$1,MONTH(E7),DAY(E7)) -> 28625 | AB7: TARGET | AC7: =_xll.qlBondHelper(AD7,AE7,AF7,AG7) -> BondHelperbondBTP932D#0021 | AD7: =+$AD$1&Q7 -> BondHelperbondBTP932D | AE7: =VLOOKUP(E7,DAti_MF!$D$2:$G$16,4,FALSE) -> 100.25 | AF7: =+P7 -> bondBTP932D#0020 | AG7: TRUE | AH7: =_xll.qlInstrumentSetPricingEngine(P7,BondCurve!$I$21) -> TRUE | AI7: =_xll.qlBondCleanPrice(P7,AH7) -> 100.25
A8: long TerminationDate | B8: =+B7 -> 42303 | C8: {=_xll.qlSchedule(N8,D8,E8,F8,G8,H8,I8,J8,K8,L8,M8)} -> BTP1283D#0017 | D8: =+B8 -> 42303 | E8: =DATE(2019,5,1) -> 43586 | F8: =(E8-B8)&"D" -> 1283D | G8: TARGET | H8: Unadjusted | I8: =+H8 -> Unadjusted | J8: Backward | K8: FALSE | N8: =O8&F8 -> BTP1283D | O8: BTP | P8: =_xll.qlFixedRateBond(Q8,R8,S8,T8,U8,V8,W8,X8,Y8,Z8,AA8,AB8) -> bondBTP1283D#0020 | Q8: ="bond"&N8 -> bondBTP1283D | R8: =+Q8 -> bondBTP1283D | S8: EUR | T8: =+T7 -> 2 | U8: =+U7 -> 100 | V8: =+C8 -> BTP1283D#0017 | W8: =VLOOKUP(E8,DAti_MF!D6:Z7,23,FALSE)/100 -> 0.025 | X8: act/act | Y8: Unadjusted | Z8: =+Z6 -> 100 | AA8: =DATE(YEAR(E8)-$AA$1,MONTH(E8),DAY(E8)) -> 28976 | AB8: TARGET | AC8: =_xll.qlBondHelper(AD8,AE8,AF8,AG8) -> BondHelperbondBTP1283D#0021 | AD8: =+$AD$1&Q8 -> BondHelperbondBTP1283D | AE8: =VLOOKUP(E8,DAti_MF!$D$2:$G$16,4,FALSE) -> 107.685 | AF8: =+P8 -> bondBTP1283D#0020 | AG8: TRUE | AH8: =_xll.qlInstrumentSetPricingEngine(P8,BondCurve!$I$21) -> TRUE | AI8: =_xll.qlBondCleanPrice(P8,AH8) -> 107.685
A9: string Tenor | B9: =+B8 -> 42303 | C9: {=_xll.qlSchedule(N9,D9,E9,F9,G9,H9,I9,J9,K9,L9,M9)} -> BTP1649D#0017 | D9: =+B9 -> 42303 | E9: =DATE(2020,5,1) -> 43952 | F9: =(E9-B9)&"D" -> 1649D | G9: TARGET | H9: Unadjusted | I9: =+H9 -> Unadjusted | J9: Backward | K9: FALSE | N9: =O9&F9 -> BTP1649D | O9: BTP | P9: =_xll.qlFixedRateBond(Q9,R9,S9,T9,U9,V9,W9,X9,Y9,Z9,AA9,AB9) -> bondBTP1649D#0020 | Q9: ="bond"&N9 -> bondBTP1649D | R9: =+Q9 -> bondBTP1649D | S9: EUR | T9: =+T8 -> 2 | U9: =+U8 -> 100 | V9: =+C9 -> BTP1649D#0017 | W9: =VLOOKUP(E9,DAti_MF!D7:Z8,23,FALSE)/100 -> 0.007 | X9: act/act | Y9: Unadjusted | Z9: =+Z7 -> 100 | AA9: =DATE(YEAR(E9)-$AA$1,MONTH(E9),DAY(E9)) -> 29342 | AB9: TARGET | AC9: =_xll.qlBondHelper(AD9,AE9,AF9,AG9) -> BondHelperbondBTP1649D#0021 | AD9: =+$AD$1&Q9 -> BondHelperbondBTP1649D | AE9: =VLOOKUP(E9,DAti_MF!$D$2:$G$16,4,FALSE) -> 100.805 | AF9: =+P9 -> bondBTP1649D#0020 | AG9: TRUE | AH9: =_xll.qlInstrumentSetPricingEngine(P9,BondCurve!$I$21) -> TRUE | AI9: =_xll.qlBondCleanPrice(P9,AH9) -> 100.805
A10: string Calendar | B10: =+B9 -> 42303 | C10: {=_xll.qlSchedule(N10,D10,E10,F10,G10,H10,I10,J10,K10,L10,M10)} -> BTP2014D#0017 | D10: =+B10 -> 42303 | E10: =DATE(2021,5,1) -> 44317 | F10: =(E10-B10)&"D" -> 2014D | G10: TARGET | H10: Unadjusted | I10: =+H10 -> Unadjusted | J10: Backward | K10: FALSE | N10: =O10&F10 -> BTP2014D | O10: BTP | P10: =_xll.qlFixedRateBond(Q10,R10,S10,T10,U10,V10,W10,X10,Y10,Z10,AA10,AB10) -> bondBTP2014D#0020 | Q10: ="bond"&N10 -> bondBTP2014D | R10: =+Q10 -> bondBTP2014D | S10: EUR | T10: =+T9 -> 2 | U10: =+U9 -> 100 | V10: =+C10 -> BTP2014D#0017 | W10: =VLOOKUP(E10,DAti_MF!D8:Z9,23,FALSE)/100 -> 0.0375 | X10: act/act | Y10: Unadjusted | Z10: =+Z8 -> 100 | AA10: =DATE(YEAR(E10)-$AA$1,MONTH(E10),DAY(E10)) -> 29707 | AB10: TARGET | AC10: =_xll.qlBondHelper(AD10,AE10,AF10,AG10) -> BondHelperbondBTP2014D#0021 | AD10: =+$AD$1&Q10 -> BondHelperbondBTP2014D | AE10: =VLOOKUP(E10,DAti_MF!$D$2:$G$16,4,FALSE) -> 116.04 | AF10: =+P10 -> bondBTP2014D#0020 | AG10: TRUE | AH10: =_xll.qlInstrumentSetPricingEngine(P10,BondCurve!$I$21) -> TRUE | AI10: =_xll.qlBondCleanPrice(P10,AH10) -> 116.04
A11: string Convention | B11: =+B10 -> 42303 | C11: {=_xll.qlSchedule(N11,D11,E11,F11,G11,H11,I11,J11,K11,L11,M11)} -> BTP2363D#0017 | D11: =+B11 -> 42303 | E11: =DATE(2022,4,15) -> 44666 | F11: =(E11-B11)&"D" -> 2363D | G11: TARGET | H11: Unadjusted | I11: =+H11 -> Unadjusted | J11: Backward | K11: FALSE | N11: =O11&F11 -> BTP2363D | O11: BTP | P11: =_xll.qlFixedRateBond(Q11,R11,S11,T11,U11,V11,W11,X11,Y11,Z11,AA11,AB11) -> bondBTP2363D#0020 | Q11: ="bond"&N11 -> bondBTP2363D | R11: =+Q11 -> bondBTP2363D | S11: EUR | T11: =+T10 -> 2 | U11: =+U10 -> 100 | V11: =+C11 -> BTP2363D#0017 | W11: =VLOOKUP(E11,DAti_MF!D9:Z10,23,FALSE)/100 -> 0.0135 | X11: act/act | Y11: Unadjusted | Z11: =+Z9 -> 100 | AA11: =DATE(YEAR(E11)-$AA$1,MONTH(E11),DAY(E11)) -> 30056 | AB11: TARGET | AC11: =_xll.qlBondHelper(AD11,AE11,AF11,AG11) -> BondHelperbondBTP2363D#0021 | AD11: =+$AD$1&Q11 -> BondHelperbondBTP2363D | AE11: =VLOOKUP(E11,DAti_MF!$D$2:$G$16,4,FALSE) -> 102.215 | AF11: =+P11 -> bondBTP2363D#0020 | AG11: TRUE | AH11: =_xll.qlInstrumentSetPricingEngine(P11,BondCurve!$I$21) -> TRUE | AI11: =_xll.qlBondCleanPrice(P11,AH11) -> 102.215
A12: string TermDateConv | B12: =+B11 -> 42303 | C12: {=_xll.qlSchedule(N12,D12,E12,F12,G12,H12,I12,J12,K12,L12,M12)} -> BTP2744D#0017 | D12: =+B12 -> 42303 | E12: =DATE(2023,5,1) -> 45047 | F12: =(E12-B12)&"D" -> 2744D | G12: TARGET | H12: Unadjusted | I12: =+H12 -> Unadjusted | J12: Backward | K12: FALSE | N12: =O12&F12 -> BTP2744D | O12: BTP | P12: =_xll.qlFixedRateBond(Q12,R12,S12,T12,U12,V12,W12,X12,Y12,Z12,AA12,AB12) -> bondBTP2744D#0020 | Q12: ="bond"&N12 -> bondBTP2744D | R12: =+Q12 -> bondBTP2744D | S12: EUR | T12: =+T11 -> 2 | U12: =+U11 -> 100 | V12: =+C12 -> BTP2744D#0017 | W12: =VLOOKUP(E12,DAti_MF!D10:Z11,23,FALSE)/100 -> 0.045 | X12: act/act | Y12: Unadjusted | Z12: =+Z10 -> 100 | AA12: =DATE(YEAR(E12)-$AA$1,MONTH(E12),DAY(E12)) -> 30437 | AB12: TARGET | AC12: =_xll.qlBondHelper(AD12,AE12,AF12,AG12) -> BondHelperbondBTP2744D#0021 | AD12: =+$AD$1&Q12 -> BondHelperbondBTP2744D | AE12: =VLOOKUP(E12,DAti_MF!$D$2:$G$16,4,FALSE) -> 123.545 | AF12: =+P12 -> bondBTP2744D#0020 | AG12: TRUE | AH12: =_xll.qlInstrumentSetPricingEngine(P12,BondCurve!$I$21) -> TRUE | AI12: =_xll.qlBondCleanPrice(P12,AH12) -> 123.545
A13: string GenRule | B13: =+B12 -> 42303 | C13: {=_xll.qlSchedule(N13,D13,E13,F13,G13,H13,I13,J13,K13,L13,M13)} -> BTP3049D#0017 | D13: =+B13 -> 42303 | E13: =DATE(2024,3,1) -> 45352 | F13: =(E13-B13)&"D" -> 3049D | G13: TARGET | H13: Unadjusted | I13: =+H13 -> Unadjusted | J13: Backward | K13: FALSE | N13: =O13&F13 -> BTP3049D | O13: BTP | P13: =_xll.qlFixedRateBond(Q13,R13,S13,T13,U13,V13,W13,X13,Y13,Z13,AA13,AB13) -> bondBTP3049D#0020 | Q13: ="bond"&N13 -> bondBTP3049D | R13: =+Q13 -> bondBTP3049D | S13: EUR | T13: =+T12 -> 2 | U13: =+U12 -> 100 | V13: =+C13 -> BTP3049D#0017 | W13: =VLOOKUP(E13,DAti_MF!D11:Z12,23,FALSE)/100 -> 0.045 | X13: act/act | Y13: Unadjusted | Z13: =+Z11 -> 100 | AA13: =DATE(YEAR(E13)-$AA$1,MONTH(E13),DAY(E13)) -> 30742 | AB13: TARGET | AC13: =_xll.qlBondHelper(AD13,AE13,AF13,AG13) -> BondHelperbondBTP3049D#0021 | AD13: =+$AD$1&Q13 -> BondHelperbondBTP3049D | AE13: =VLOOKUP(E13,DAti_MF!$D$2:$G$16,4,FALSE) -> 124.66 | AF13: =+P13 -> bondBTP3049D#0020 | AG13: TRUE | AH13: =_xll.qlInstrumentSetPricingEngine(P13,BondCurve!$I$21) -> TRUE | AI13: =_xll.qlBondCleanPrice(P13,AH13) -> 124.66
A14: bool EndOfMonth | B14: =+B13 -> 42303 | C14: {=_xll.qlSchedule(N14,D14,E14,F14,G14,H14,I14,J14,K14,L14,M14)} -> BTP3506D#0017 | D14: =+B14 -> 42303 | E14: =DATE(2025,6,1) -> 45809 | F14: =(E14-B14)&"D" -> 3506D | G14: TARGET | H14: Unadjusted | I14: =+H14 -> Unadjusted | J14: Backward | K14: FALSE | N14: =O14&F14 -> BTP3506D | O14: BTP | P14: =_xll.qlFixedRateBond(Q14,R14,S14,T14,U14,V14,W14,X14,Y14,Z14,AA14,AB14) -> bondBTP3506D#0020 | Q14: ="bond"&N14 -> bondBTP3506D | R14: =+Q14 -> bondBTP3506D | S14: EUR | T14: =+T13 -> 2 | U14: =+U13 -> 100 | V14: =+C14 -> BTP3506D#0017 | W14: =VLOOKUP(E14,DAti_MF!D12:Z13,23,FALSE)/100 -> 0.015 | X14: act/act | Y14: Unadjusted | Z14: =+Z12 -> 100 | AA14: =DATE(YEAR(E14)-$AA$1,MONTH(E14),DAY(E14)) -> 31199 | AB14: TARGET | AC14: =_xll.qlBondHelper(AD14,AE14,AF14,AG14) -> BondHelperbondBTP3506D#0021 | AD14: =+$AD$1&Q14 -> BondHelperbondBTP3506D | AE14: =VLOOKUP(E14,DAti_MF!$D$2:$G$16,4,FALSE) -> 100.165 | AF14: =+P14 -> bondBTP3506D#0020 | AG14: TRUE | AH14: =_xll.qlInstrumentSetPricingEngine(P14,BondCurve!$I$21) -> TRUE | AI14: =_xll.qlBondCleanPrice(P14,AH14) -> 100.165
A15: long FirstDate | B15: =+B14 -> 42303 | C15: {=_xll.qlSchedule(N15,D15,E15,F15,G15,H15,I15,J15,K15,L15,M15)} -> BTP5971D#0017 | D15: =+B15 -> 42303 | E15: =DATE(2032,3,1) -> 48274 | F15: =(E15-B15)&"D" -> 5971D | G15: TARGET | H15: Unadjusted | I15: =+H15 -> Unadjusted | J15: Backward | K15: FALSE | N15: =O15&F15 -> BTP5971D | O15: BTP | P15: =_xll.qlFixedRateBond(Q15,R15,S15,T15,U15,V15,W15,X15,Y15,Z15,AA15,AB15) -> bondBTP5971D#0020 | Q15: ="bond"&N15 -> bondBTP5971D | R15: =+Q15 -> bondBTP5971D | S15: EUR | T15: =+T14 -> 2 | U15: =+U14 -> 100 | V15: =+C15 -> BTP5971D#0017 | W15: =VLOOKUP(E15,DAti_MF!D13:Z14,23,FALSE)/100 -> 0.0165 | X15: act/act | Y15: Unadjusted | Z15: =+Z13 -> 100 | AA15: =DATE(YEAR(E15)-$AA$1,MONTH(E15),DAY(E15)) -> 33664 | AB15: TARGET | AC15: =_xll.qlBondHelper(AD15,AE15,AF15,AG15) -> BondHelperbondBTP5971D#0021 | AD15: =+$AD$1&Q15 -> BondHelperbondBTP5971D | AE15: =VLOOKUP(E15,DAti_MF!$D$2:$G$16,4,FALSE) -> 95.305 | AF15: =+P15 -> bondBTP5971D#0020 | AG15: TRUE | AH15: =_xll.qlInstrumentSetPricingEngine(P15,BondCurve!$I$21) -> TRUE | AI15: =_xll.qlBondCleanPrice(P15,AH15) -> 95.305
A16: long NextToLastDate | B16: =+B15 -> 42303 | C16: {=_xll.qlSchedule(N16,D16,E16,F16,G16,H16,I16,J16,K16,L16,M16)} -> BTP6854D#0017 | D16: =+B16 -> 42303 | E16: =DATE(2034,8,1) -> 49157 | F16: =(E16-B16)&"D" -> 6854D | G16: TARGET | H16: Unadjusted | I16: =+H16 -> Unadjusted | J16: Backward | K16: FALSE | N16: =O16&F16 -> BTP6854D | O16: BTP | P16: =_xll.qlFixedRateBond(Q16,R16,S16,T16,U16,V16,W16,X16,Y16,Z16,AA16,AB16) -> bondBTP6854D#0020 | Q16: ="bond"&N16 -> bondBTP6854D | R16: =+Q16 -> bondBTP6854D | S16: EUR | T16: =+T15 -> 2 | U16: =+U15 -> 100 | V16: =+C16 -> BTP6854D#0017 | W16: =VLOOKUP(E16,DAti_MF!D14:Z15,23,FALSE)/100 -> 0.05 | X16: act/act | Y16: Unadjusted | Z16: =+Z14 -> 100 | AA16: =DATE(YEAR(E16)-$AA$1,MONTH(E16),DAY(E16)) -> 34547 | AB16: TARGET | AC16: =_xll.qlBondHelper(AD16,AE16,AF16,AG16) -> BondHelperbondBTP6854D#0022 | AD16: =+$AD$1&Q16 -> BondHelperbondBTP6854D | AE16: =VLOOKUP(E16,DAti_MF!$D$2:$G$16,4,FALSE) -> 141.8 | AF16: =+P16 -> bondBTP6854D#0020 | AG16: TRUE | AH16: =_xll.qlInstrumentSetPricingEngine(P16,BondCurve!$I$21) -> TRUE | AI16: =_xll.qlBondCleanPrice(P16,AH16) -> 141.8
A17: bool Permanent | B17: =+B16 -> 42303 | C17: {=_xll.qlSchedule(N17,D17,E17,F17,G17,H17,I17,J17,K17,L17,M17)} -> BTP11268D#0017 | D17: =+B17 -> 42303 | E17: =DATE(2046,9,1) -> 53571 | F17: =(E17-B17)&"D" -> 11268D | G17: TARGET | H17: Unadjusted | I17: =+H17 -> Unadjusted | J17: Backward | K17: FALSE | N17: =O17&F17 -> BTP11268D | O17: BTP | P17: =_xll.qlFixedRateBond(Q17,R17,S17,T17,U17,V17,W17,X17,Y17,Z17,AA17,AB17) -> bondBTP11268D#0020 | Q17: ="bond"&N17 -> bondBTP11268D | R17: =+Q17 -> bondBTP11268D | S17: EUR | T17: =+T16 -> 2 | U17: =+U16 -> 100 | V17: =+C17 -> BTP11268D#0017 | W17: =VLOOKUP(E17,DAti_MF!D15:Z16,23,FALSE)/100 -> 0.0325 | X17: act/act | Y17: Unadjusted | Z17: =+Z15 -> 100 | AA17: =DATE(YEAR(E17)-$AA$1,MONTH(E17),DAY(E17)) -> 38961 | AB17: TARGET | AC17: =_xll.qlBondHelper(AD17,AE17,AF17,AG17) -> BondHelperbondBTP11268D#0021 | AD17: =+$AD$1&Q17 -> BondHelperbondBTP11268D | AE17: =VLOOKUP(E17,DAti_MF!$D$2:$G$16,4,FALSE) -> 114.08 | AF17: =+P17 -> bondBTP11268D#0020 | AG17: TRUE | AH17: =_xll.qlInstrumentSetPricingEngine(P17,BondCurve!$I$21) -> TRUE | AI17: =_xll.qlBondCleanPrice(P17,AH17) -> 114.08
A18: any Trigger
A19: bool Overwrite)
A21: Description:
A23: Construct an object of class Schedule and return its id
A25: Supported Platforms:
A27: C++, Calc, Excel
A29: Parameters
A30: ObjectId | B30: id of object to be created
A31: EffectiveDate | B31: effective date. Default value = QuantLib::Date().
A32: TerminationDate | B32: termination date.
A33: Tenor | B33: tenor (e.g. 2D for two days , 3W for three weeks, 6M for six months, 1Y for one year).
A34: Calendar | B34: holiday calendar (e.g. TARGET). Default value = NullCalendar.
A35: Convention | B35: accrual dates business day convention. Default value = Unadjusted.
A36: TermDateConv | B36: termination date business day convention. Default value = Unadjusted.
A37: GenRule | B37: Date generation rule (Backward, Forward, ThirdWednesday, Twentieth, TwentiethIMM, Zero). Default value = Backward.
A38: EndOfMonth | B38: end of month convention. Ignored for Tenor below 1M. Default value = false.
A39: FirstDate | B39: stub date, if there is an irregular starting period. Default value = QuantLib::Date().
A40: NextToLastDate | B40: stub date, if there an irregular final period. Default value = QuantLib::Date().
A41: Permanent | B41: object permanent/nonpermanent
... A43: Overwrite | B43: overwrite flag
A49: qlFixedRateBond
A51: string returnValue
A52: qlFixedRateBond(
A53: string ObjectId
A54: string Description
A55: string Currency
A56: long SettlementDays
A57: double FaceAmount
A58: string ScheduleID
A59: vector<double> Coupons
A60: string DayCounter
A61: string PaymentBDC
... A77: Parameters
A78: ObjectId | B78: id of object to be created
A79: Description | B79: Bond description string. Autogenerated if null Default value = std::string().
A80: Currency | B80: bond Currency.
A81: SettlementDays | B81: settlement days.
A82: FaceAmount | B82: Face nominal amount. Default value = 100.0.
A83: ScheduleID | B83: Schedule object ID.
A84: Coupons | B84: simple annual compounding coupon rates.
A85: DayCounter | B85: Payment DayCounter ID.
A86: PaymentBDC | B86: payment business day convention. Default value = Following.
A87: Redemption | B87: Redemption value. Default value = 100.0.
A88: IssueDate | B88: issue date: the bond can't be traded until then. Default value = QuantLib::Date().
A89: PaymentCalendar | B89: payment holiday calendar (e.g. TARGET).
... A92: Overwrite | B92: overwrite flag
A97: qlBondHelper
A99: string returnValue
A100: qlBondHelper(
A101: string ObjectId
A102: string Price
A103: string Bond
A104: bool UseCleanPrice
A105: bool Permanent
A106: any Trigger
A107: bool Overwrite)
A109: Description:
A111: Construct an object of class BondHelper and return its id
... A117: Parameters
A118: ObjectId | B118: id of object to be created
A119: Price | B119: price.
A120: Bond | B120: Bond object ID.
A121: UseCleanPrice | B121: Type of price specified (TRUE clean price, FALSE for dirty price). Default value = true.
A122: Permanent | B122: object permanent/nonpermanent
A123: Trigger | B123: dependency tracking trigger
A124: Overwrite | B124: overwrite flag
A130: qlPiecewiseYieldCurve
A132: string returnValue
A133: qlPiecewiseYieldCurve(
A134: string ObjectId
A135: long NDays
A136: string Calendar
A137: vector<string> RateHelpers
A138: string DayCounter
A139: vector<string> Jumps
A140: vector<long> JumpDates
A141: double Accuracy
A142: string TraitsID
... A156: Parameters
A157: ObjectId | B157: id of object to be created
A158: NDays | B158: number of days to advance from EvaluationDate (usually zero or two): it fixes the date at which the discount factor = 1.0. Default value = 0.
A159: Calendar | B159: holiday calendar (e.g. TARGET) to advance from global EvaluationDate.
A160: RateHelpers | B160: vector of rate-helpers.
...

Sheet BondCurve
A1: GovernmentCurve | B1: ObjectId | C1: NDays | D1: Calendar | E1: RateHelpers | F1: DayCounter | G1: Jumps | H1: JumpDates | I1: Accuracy | J1: TraitsID | K1: InterpolatorID | L1: Permanent | M1: Trigger | N1: Overwrite
A2: =_xll.qlPiecewiseYieldCurve(B2,C2,D2,E2:E16,F2,G2,H2,I2,J2,K2) -> ITALY_BondCurve#0032 | B2: ITALY_BondCurve | C2: 2 | D2: TARGET | E2: =+BondCurveInputData!AC3 -> BondHelperbondBOT80D#0024 | F2: act/365 | K2: LogLinear
E3: =+BondCurveInputData!AC4 -> BondHelperbondBOT157D#0021
E4: =+BondCurveInputData!AC5 -> BondHelperbondBOT354D#0021
E5: =+BondCurveInputData!AC6 -> BondHelperbondBTP567D#0021
E6: =+BondCurveInputData!AC7 -> BondHelperbondBTP932D#0021
E7: =+BondCurveInputData!AC8 -> BondHelperbondBTP1283D#0021
E8: =+BondCurveInputData!AC9 -> BondHelperbondBTP1649D#0021
E9: =+BondCurveInputData!AC10 -> BondHelperbondBTP2014D#0021
E10: =+BondCurveInputData!AC11 -> BondHelperbondBTP2363D#0021
E11: =+BondCurveInputData!AC12 -> BondHelperbondBTP2744D#0021
E12: =+BondCurveInputData!AC13 -> BondHelperbondBTP3049D#0021
E13: =+BondCurveInputData!AC14 -> BondHelperbondBTP3506D#0021
E14: =+BondCurveInputData!AC15 -> BondHelperbondBTP5971D#0021
... E16: =+BondCurveInputData!AC17 -> BondHelperbondBTP11268D#0021
B20: Dates | C20: Data | D20: Timefactor | E20: Yield | F20: coupon | I20: BondEngine | J20: ObjectId | K20: YieldCurve
B21: {=_xll.qlPiecewiseYieldCurveDates($A$2)} -> 42305 | C21: {=_xll.qlPiecewiseYieldCurveData(A2)} -> 1 | D21: =YEARFRAC($B$21,B21,3) -> 0 | I21: =_xll.qlBondEngine(J21,K21) -> BOT&BTPEngine#0032 | J21: BOT&BTPEngine | K21: =+A2 -> ITALY_BondCurve#0032
B22: 42383 | C22: 1.000155 | D22: =YEARFRAC($B$21,B22,3) -> 0.21369863 | E22: =-LN(C22)/D22 -> -0.00072526431 | F22: =VLOOKUP(B22,BondCurveInputData!$E$3:$W$17,19,FALSE) -> 0 | G22: =VLOOKUP(B22,DAti_MF!$D$2:$E$16,2,FALSE)/100 -> -0.00072499398
B23: 42460 | C23: 1.000255 | D23: =YEARFRAC($B$21,B23,3) -> 0.42465753 | E23: =-LN(C23)/D23 -> -0.00060040732 | F23: =VLOOKUP(B23,BondCurveInputData!$E$3:$W$17,19,FALSE) -> 0 | G23: =VLOOKUP(B23,DAti_MF!$D$2:$E$16,2,FALSE)/100 -> -0.00060036775
B24: 42657 | C24: 1.000275 | D24: =YEARFRAC($B$21,B24,3) -> 0.96438356 | E24: =-LN(C24)/D24 -> -0.00028511705 | F24: =VLOOKUP(B24,BondCurveInputData!$E$3:$W$17,19,FALSE) -> 0 | G24: =VLOOKUP(B24,DAti_MF!$D$2:$E$16,2,FALSE)/100 -> -0.00028506037
B25: 42870 | C25: 0.99968574 | D25: =YEARFRAC($B$21,B25,3) -> 1.5479452 | E25: =-LN(C25)/D25 -> 0.0002030487 | F25: =VLOOKUP(B25,BondCurveInputData!$E$3:$W$17,19,FALSE) -> 0.0115 | G25: =VLOOKUP(B25,DAti_MF!$D$2:$E$16,2,FALSE)/100 -> 0.0002276678
B26: 43235 | C26: 0.99616146 | D26: =YEARFRAC($B$21,B26,3) -> 2.5479452 | E26: =-LN(C26)/D26 -> 0.0015094212 | F26: =VLOOKUP(B26,BondCurveInputData!$E$3:$W$17,19,FALSE) -> 0.0025 | G26: =VLOOKUP(B26,DAti_MF!$D$2:$E$16,2,FALSE)/100 -> 0.0015190081
B27: 43586 | C27: 0.99005226 | D27: =YEARFRAC($B$21,B27,3) -> 3.509589 | E27: =-LN(C27)/D27 -> 0.0028486381 | F27: =VLOOKUP(B27,BondCurveInputData!$E$3:$W$17,19,FALSE) -> 0.025 | G27: =VLOOKUP(B27,DAti_MF!$D$2:$E$16,2,FALSE)/100 -> 0.00305132
B28: 43952 | C28: 0.97720938 | D28: =YEARFRAC($B$21,B28,3) -> 4.5123288 | E28: =-LN(C28)/D28 -> 0.0051091888 | F28: =VLOOKUP(B28,BondCurveInputData!$E$3:$W$17,19,FALSE) -> 0.007 | G28: =VLOOKUP(B28,DAti_MF!$D$2:$E$16,2,FALSE)/100 -> 0.0052110524
B29: 44317 | C29: 0.96179135 | D29: =YEARFRAC($B$21,B29,3) -> 5.5123288 | E29: =-LN(C29)/D29 -> 0.007067384 | F29: =VLOOKUP(B29,BondCurveInputData!$E$3:$W$17,19,FALSE) -> 0.0375 | G29: =VLOOKUP(B29,DAti_MF!$D$2:$E$16,2,FALSE)/100 -> 0.0081235397
B30: 44666 | C30: 0.94012765 | D30: =YEARFRAC($B$21,B30,3) -> 6.4684932 | E30: =-LN(C30)/D30 -> 0.0095446677 | F30: =VLOOKUP(B30,BondCurveInputData!$E$3:$W$17,19,FALSE) -> 0.0135 | G30: =VLOOKUP(B30,DAti_MF!$D$2:$E$16,2,FALSE)/100 -> 0.01011751
B31: 45047 | C31: 0.92350222 | D31: =YEARFRAC($B$21,B31,3) -> 7.5123288 | E31: =-LN(C31)/D31 -> 0.010593529 | F31: =VLOOKUP(B31,BondCurveInputData!$E$3:$W$17,19,FALSE) -> 0.045 | G31: =VLOOKUP(B31,DAti_MF!$D$2:$E$16,2,FALSE)/100 -> 0.012992344
B32: 45352 | C32: 0.9063774 | D32: =YEARFRAC($B$21,B32,3) -> 8.3479452 | E32: =-LN(C32)/D32 -> 0.011775294 | F32: =VLOOKUP(B32,BondCurveInputData!$E$3:$W$17,19,FALSE) -> 0.045 | G32: =VLOOKUP(B32,DAti_MF!$D$2:$E$16,2,FALSE)/100 -> 0.014665697
B33: 45809 | C33: 0.87567148 | D33: =YEARFRAC($B$21,B33,3) -> 9.6 | E33: =-LN(C33)/D33 -> 0.013829612 | F33: =VLOOKUP(B33,BondCurveInputData!$E$3:$W$17,19,FALSE) -> 0.015 | G33: =VLOOKUP(B33,DAti_MF!$D$2:$E$16,2,FALSE)/100 -> 0.015141385
... B36: 53571 | C36: 0.56974759 | D36: =YEARFRAC($B$21,B36,3) -> 30.865753 | E36: =-LN(C36)/D36 -> 0.018226085 | F36: =VLOOKUP(B36,BondCurveInputData!$E$3:$W$17,19,FALSE) -> 0.0325 | G36: =VLOOKUP(B36,DAti_MF!$D$2:$E$16,2,FALSE)/100 -> 0.027983623
B41: Date con passo semestrale | C41: df | D41: Timefactor | E41: Yield
B42: =B21 -> 42305 | C42: =_xll.qlYieldTSDiscount($A$2,B42) -> 1 | D42: =YEARFRAC($B$21,B42,3) -> 0
B43: =DATE(YEAR(B42),MONTH(B42)+6,DAY(B42)) -> 42488 | C43: =_xll.qlYieldTSDiscount($A$2,B43) -> 1.0002578 | D43: =YEARFRAC($B$21,B43,3) -> 0.50136986 | E43: =-LN(C43)/D43 -> -0.00051420996
B44: =DATE(YEAR(B43),MONTH(B43)+6,DAY(B43)) -> 42671 | C44: =_xll.qlYieldTSDiscount($A$2,B44) -> 1.0002363 | D44: =YEARFRAC($B$21,B44,3) -> 1.0027397 | E44: =-LN(C44)/D44 -> -0.00023565182
B45: =DATE(YEAR(B44),MONTH(B44)+6,DAY(B44)) -> 42853 | C45: =_xll.qlYieldTSDiscount($A$2,B45) -> 0.99973281 | D45: =YEARFRAC($B$21,B45,3) -> 1.5013699 | E45: =-LN(C45)/D45 -> 0.00017799051
B46: =DATE(YEAR(B45),MONTH(B45)+6,DAY(B45)) -> 43036 | C46: =_xll.qlYieldTSDiscount($A$2,B46) -> 0.99808138 | D46: =YEARFRAC($B$21,B46,3) -> 2.0027397 | E46: =-LN(C46)/D46 -> 0.00095891995
B47: =DATE(YEAR(B46),MONTH(B46)+6,DAY(B46)) -> 43218 | C47: =_xll.qlYieldTSDiscount($A$2,B47) -> 0.99632533 | D47: =YEARFRAC($B$21,B47,3) -> 2.5013699 | E47: =-LN(C47)/D47 -> 0.0014717681
B48: =DATE(YEAR(B47),MONTH(B47)+6,DAY(B47)) -> 43401 | C48: =_xll.qlYieldTSDiscount($A$2,B48) -> 0.99326753 | D48: =YEARFRAC($B$21,B48,3) -> 3.0027397 | E48: =-LN(C48)/D48 -> 0.0022496917
B49: =DATE(YEAR(B48),MONTH(B48)+6,DAY(B48)) -> 43583 | C49: =_xll.qlYieldTSDiscount($A$2,B49) -> 0.99010432 | D49: =YEARFRAC($B$21,B49,3) -> 3.5013699 | E49: =-LN(C49)/D49 -> 0.0028403086
B50: =DATE(YEAR(B49),MONTH(B49)+6,DAY(B49)) -> 43766 | C50: =_xll.qlYieldTSDiscount($A$2,B50) -> 0.98370942 | D50: =YEARFRAC($B$21,B50,3) -> 4.0027397 | E50: =-LN(C50)/D50 -> 0.0041033712
B51: =DATE(YEAR(B50),MONTH(B50)+6,DAY(B50)) -> 43949 | C51: =_xll.qlYieldTSDiscount($A$2,B51) -> 0.97731378 | D51: =YEARFRAC($B$21,B51,3) -> 4.5041096 | E51: =-LN(C51)/D51 -> 0.0050947945
B52: =DATE(YEAR(B51),MONTH(B51)+6,DAY(B51)) -> 44132 | C52: =_xll.qlYieldTSDiscount($A$2,B52) -> 0.96958217 | D52: =YEARFRAC($B$21,B52,3) -> 5.0054795 | E52: =-LN(C52)/D52 -> 0.0061712483
B53: =DATE(YEAR(B52),MONTH(B52)+6,DAY(B52)) -> 44314 | C53: =_xll.qlYieldTSDiscount($A$2,B53) -> 0.96191731 | D53: =YEARFRAC($B$21,B53,3) -> 5.5041096 | E53: =-LN(C53)/D53 -> 0.0070541457
B54: =DATE(YEAR(B53),MONTH(B53)+6,DAY(B53)) -> 44497 | C54: =_xll.qlYieldTSDiscount($A$2,B54) -> 0.95055647 | D54: =YEARFRAC($B$21,B54,3) -> 6.0054795 | E54: =-LN(C54)/D54 -> 0.0084435735
... B103: =DATE(YEAR(B102),MONTH(B102)+6,DAY(B102)) -> 53445 | C103: =_xll.qlYieldTSDiscount($A$2,B103) -> 0.57383467 | D103: =YEARFRAC($B$21,B103,3) -> 30.520548 | E103: =-LN(C103)/D103 -> 0.018198033

Sheet DAti_MF
A1: Input Time Bucket | B1: Description | C1: Term | D1: Mat. Date | E1: Spot % | F1: Shock % | G1: Input I. Rate % / Price | H1: Bid % | I1: Ask % | J1: Start Date | K1: Input Rate Type | L1: Capitalisation | M1: Day Count | N1: Mkt Price Source Detail | O1: Price Time | P1: Daily IP Code | Q1: Daily Ask Price Type | R1: Daily Bid Price Type | S1: Daily IP | T1: Closing IP Code | U1: Closing Ask Price Type | V1: Closing Bid Price Type | W1: Closing IP | X1: I. Rate Freq. | Y1: H.S. Tenor | Z1: Coupon I. Rate % | AA1: Reference Data | AB1: Annual Spread % | AC1: Rate Type | AD1: Redemption Price | AE1: Rating Agency | AF1: Rating
A2: 3M | B2: 3 Months | C2: 0.214 | D2: 42383 | E2: -0.072499398 | F2: 0 | G2: 100.0155 | H2: 100.0155 | I2: 100.0155 | J2: 42305 | K2: ZC Price | L2: Cont. | M2: act/360 | N2: Provider | O2: 42303.46 | P2: /BSYM/MTS/BOTS 0 01/14/16 | Q2: Last Ask | R2: Last Bid | S2: Bloomberg | U2: -- None -- | V2: -- None -- | W2: None | X2: 1 | Y2: 1 | Z2: 0 | AA2: 0 | AB2: 0 | AC2: Fixed | AD2: 100
A3: 5M | B3: 5 Months | C3: 0.425 | D3: 42460 | E3: -0.060036775 | F3: 0 | G3: 100.0255 | H3: 100.0255 | I3: 100.0255 | J3: 42305 | K3: ZC Price | L3: Cont. | M3: act/360 | N3: Provider | O3: 42303.645 | P3: /BSYM/MTS/BOTS 0 03/31/16 | Q3: Last Ask | R3: Last Bid | S3: Bloomberg | U3: -- None -- | V3: -- None -- | W3: None | X3: 1 | Y3: 1 | Z3: 0 | AA3: 0 | AB3: 0 | AC3: Fixed | AD3: 100
A4: 1Y | B4: 1 Year | C4: 0.964 | D4: 42657 | E4: -0.028506037 | F4: 0 | G4: 100.0275 | H4: 100.0275 | I4: 100.0275 | J4: 42305 | K4: ZC Price | L4: Cont. | M4: act/360 | N4: Provider | O4: 42303.669 | P4: /BSYM/MTS/BOTS 0 10/14/16 | Q4: Last Ask | R4: Last Bid | S4: Bloomberg | U4: -- None -- | V4: -- None -- | W4: None | X4: 1 | Y4: 1 | Z4: 0 | AA4: 0 | AB4: 0 | AC4: Fixed | AD4: 100
A5: 19M | B5: BTPS 1.15 05/15/2017 | C5: 1.548 | D5: 42870 | E5: 0.02276678 | F5: 0 | G5: 101.745 | H5: 101.745 | I5: 101.745 | J5: 42305 | K5: Price | L5: Cont. | M5: act/365 | N5: Provider | O5: 42303.638 | P5: /BSYM/MTS/BTPS 1.15 05/15/17 | Q5: Last Ask | R5: Last Bid | S5: Bloomberg | U5: -- None -- | V5: -- None -- | W5: None | X5: 2 | Y5: 1 | Z5: 1.15 | AA5: 1 | AB5: 0 | AC5: Fixed | AD5: 100
A6: 31M | B6: BTPS 0 1/4 05/15/201 | C6: 2.548 | D6: 43235 | E6: 0.15190081 | F6: 0 | G6: 100.25 | H6: 100.25 | I6: 100.25 | J6: 42305 | K6: Price | L6: Cont. | M6: act/365 | N6: Provider | O6: 42303.671 | P6: /BSYM/MTS/BTPS 0.25 05/15/18 | Q6: Last Ask | R6: Last Bid | S6: Bloomberg | U6: -- None -- | V6: -- None -- | W6: None | X6: 2 | Y6: 1 | Z6: 0.25 | AA6: 1 | AB6: 0 | AC6: Fixed | AD6: 100
A7: 42M | B7: BTPS 2 1/2 05/01/201 | C7: 3.51 | D7: 43586 | E7: 0.305132 | F7: 0 | G7: 107.685 | H7: 107.685 | I7: 107.685 | J7: 42305 | K7: Price | L7: Cont. | M7: act/365 | N7: Provider | O7: 42299.646 | P7: /BSYM/MTS/BTPS 2.5 05/01/19 | Q7: Last Ask | R7: Last Bid | S7: Bloomberg | U7: -- None -- | V7: -- None -- | W7: None | X7: 2 | Y7: 1 | Z7: 2.5 | AA7: 1 | AB7: 0 | AC7: Fixed | AD7: 100
A8: 54M | B8: BTPS 0.7% 05/01/20 | C8: 4.512 | D8: 43952 | E8: 0.52110524 | F8: 0 | G8: 100.805 | H8: 100.805 | I8: 100.805 | J8: 42305 | K8: Price | L8: Cont. | M8: act/365 | N8: Provider | O8: 42303.624 | P8: /BSYM/MTS/BTPS 0.7 05/01/20 | Q8: Last Ask | R8: Last Bid | S8: Bloomberg | U8: -- None -- | V8: -- None -- | W8: None | X8: 2 | Y8: 1 | Z8: 0.7 | AA8: 1 | AB8: 0 | AC8: Fixed | AD8: 100
A9: 66M | B9: BTPS 3.75 05/21 | C9: 5.512 | D9: 44317 | E9: 0.81235397 | F9: 0 | G9: 116.04 | H9: 116.04 | I9: 116.04 | J9: 42305 | K9: Price | L9: Cont. | M9: act/365 | N9: Provider | O9: 42303.341 | P9: /BSYM/MTS/BTPS 3.75 05/01/21 | Q9: Last Ask | R9: Last Bid | S9: Bloomberg | U9: -- None -- | V9: -- None -- | W9: None | X9: 2 | Y9: 1 | Z9: 3.75 | AA9: 1 | AB9: 0 | AC9: Fixed | AD9: 100
A10: 78M | B10: BTPS 1.35% 04/22 | C10: 6.468 | D10: 44666 | E10: 1.011751 | F10: 0 | G10: 102.215 | H10: 102.215 | I10: 102.215 | J10: 42305 | K10: Price | L10: Cont. | M10: act/365 | N10: Provider | O10: 42303.614 | P10: /BSYM/MTS/BTPS 1.35 04/15/22 | Q10: Last Ask | R10: Last Bid | S10: Bloomberg | U10: -- None -- | V10: -- None -- | W10: None | X10: 2 | Y10: 1 | Z10: 1.35 | AA10: 1 | AB10: 0 | AC10: Fixed | AD10: 100
A11: 90M | B11: BTPS 4.5 5/1/2023 | C11: 7.512 | D11: 45047 | E11: 1.2992344 | F11: 0 | G11: 123.545 | H11: 123.545 | I11: 123.545 | J11: 42305 | K11: Price | L11: Cont. | M11: act/365 | N11: Provider | O11: 42303.616 | P11: /BSYM/MTS/BTPS 4.5 05/01/23 | Q11: Last Ask | R11: Last Bid | S11: Bloomberg | U11: -- None -- | V11: -- None -- | W11: None | X11: 2 | Y11: 1 | Z11: 4.5 | AA11: 1 | AB11: 0 | AC11: Fixed | AD11: 100
A12: 100M | B12: BTPS 4.5 03/01/2024 | C12: 8.348 | D12: 45352 | E12: 1.4665697 | F12: 0 | G12: 124.66 | H12: 124.66 | I12: 124.66 | J12: 42305 | K12: Price | L12: Cont. | M12: act/365 | N12: Provider | O12: 42300.646 | P12: /BSYM/MTS/BTPS 4.5 03/01/24 | Q12: Last Ask | R12: Last Bid | S12: Bloomberg | U12: -- None -- | V12: -- None -- | W12: None | X12: 2 | Y12: 1 | Z12: 4.5 | AA12: 1 | AB12: 0 | AC12: Fixed | AD12: 100
A13: 115M | B13: BTPS 1.5% 06/25 | C13: 9.6 | D13: 45809 | E13: 1.5141385 | F13: 0 | G13: 100.165 | H13: 100.165 | I13: 100.165 | J13: 42305 | K13: Price | L13: Cont. | M13: act/365 | N13: Provider | O13: 42303.356 | P13: /BSYM/MTS/BTPS 1.5 06/01/25 | Q13: Last Ask | R13: Last Bid | S13: Bloomberg | U13: -- None -- | V13: -- None -- | W13: None | X13: 2 | Y13: 2 | Z13: 1.5 | AA13: 1 | AB13: 0 | AC13: Fixed | AD13: 100
... A16: 370M | B16: BTPS 3.25 09/01/2046 | C16: 30.866 | D16: 53571 | E16: 2.7983623 | F16: 0 | G16: 114.08 | H16: 114.08 | I16: 114.08 | J16: 42305 | K16: Price | L16: Cont. | M16: act/365 | N16: Provider | O16: 42300.646 | P16: /BSYM/MTS/BTPS 3.25 09/01/46 | Q16: Last Ask | R16: Last Bid | S16: Bloomberg | U16: -- None -- | V16: -- None -- | W16: None | X16: 2 | Y16: 2 | Z16: 3.25 | AA16: 1 | AB16: 0 | AC16: Fixed | AD16: 100
