Workbook
Name Calendar: DateCalc!$B$1
Name EffectiveDate: DateCalc!$B$2
Name Nominal: Swaps!$B$13
Name ReferenceDate: TermStructures!$E$4
Name TerminationDate: DateCalc!$B$3

Sheet TermStructures
A1: FlatForward | B1: =_xll.qlFlatForward(B3,B4,B5,B6,B7,B8,B9,B10,B11) -> obj_00003#0026 | D1: SwaptionVTSConstant | E1: =_xll.qlConstantSwaptionVolatility(E3,0,"TARGET","f",E5,E6,E7,E8) -> obj_00000#0018 | G1: ConstantOptionletVolatility | H1: =_xll.qlConstantOptionletVolatility(H3,0,H5,"f",H4,H6,H7,H8) -> obj_00002#0018
A2: Error | B2: =_xll.ohRangeRetrieveError(B1) | D2: Error | E2: =_xll.ohRangeRetrieveError(E1) | G2: Error | H2: =_xll.ohRangeRetrieveError(H1)
A3: ObjectID | D3: ObjectID | G3: ObjectID
A4: NDays | D4: ReferenceDate | E4: =_xll.qlSettingsEvaluationDate() -> 42402 | G4: Volatility | H4: 0.15
A5: Calendar | B5: NullCalendar | D5: Volatility | E5: 0.15 | G5: Calendar | H5: TARGET
A6: Rate | B6: 0.044 | D6: DayCounter | G6: DayCounter
A7: DayCounter | D7: Permanent | G7: Permanent
A8: Compounding | B8: Continuous | D8: Trigger | G8: Trigger
A9: Frequency | B9: Semiannual
A10: Permanent
A11: Trigger

Sheet DateCalc
A1: Calendar | B1: TARGET
A2: EffectiveDate | B2: =DATE(2016,2,4) -> 42404
A3: TerminationDate | B3: =DATE(2046,9,1) -> 53571
A5: Schedule | B5: =_xll.qlSchedule(B7,B8,B9,B10,B11,B12,B13,B14,B15,B16,B17,B18,B19) -> obj_00008#0021
A6: Error | B6: =_xll.ohRangeRetrieveError(B5)
A7: ObjectID
A8: EffectiveDate | B8: =EffectiveDate -> 42404
A9: TerminationDate | B9: =TerminationDate -> 53571
A10: Tenor | B10: 6M
A11: Calendar | B11: TARGET
A12: Convention | B12: Modified Following
A13: TermDateConv | B13: Modified Following
A14: GenRule | B14: Backward
A15: EndOfMonth
A16: FirstDate
A17: NextToLastDate
A18: Permanent
A19: Trigger
A21: Schedule | B21: =_xll.qlSchedule(B23,B24,B25,B26,B27,B28,B29,B30,B31,B32,B33,B34,B35) -> obj_00009#0021
A22: Error | B22: =_xll.ohRangeRetrieveError(B21)
A23: ObjectID
A24: EffectiveDate | B24: =EffectiveDate -> 42404
A25: TerminationDate | B25: =TerminationDate -> 53571
A26: Tenor | B26: 6M
A27: Calendar | B27: TARGET
A28: Convention | B28: Modified Following
A29: TermDateConv | B29: Modified Following
A30: GenRule | B30: Backward
A31: EndOfMonth
A32: FirstDate
A33: NextToLastDate
A34: Permanent
A35: Trigger

Sheet PricingEngines
A1: DiscountingSwapEngine | B1: =_xll.qlDiscountingSwapEngine(B3,B4,B5,B6) -> obj_0005b#0006
A2: Error | B2: =_xll.ohRangeRetrieveError(B1)
A3: ObjectID
A4: YieldCurve | B4: ='[1]6_Yield Curve'!$I$5 -> Curva_OIS#0005
A5: Permanent
A6: Trigger
A8: BlackCapFloorEngine | B8: =_xll.qlBlackCapFloorEngine(B10,B11,B12,B13,B14) -> obj_00007#0025
A9: Error | B9: =_xll.ohRangeRetrieveError(B8)
A10: ObjectID
A11: YieldCurve | B11: =TermStructures!$B$1 -> obj_00003#0026
A12: Vol | B12: =TermStructures!$H$1 -> obj_00002#0018
A13: Permanent
A14: Trigger
A16: BlackSwaptionEngine | B16: =_xll.qlBlackSwaptionEngine(B18,B19,B20,B21,B22) -> obj_00006#0025
A17: Error | B17: =_xll.ohRangeRetrieveError(B16)
A18: ObjectID
A19: YieldCurve | B19: =TermStructures!$B$1 -> obj_00003#0026
A20: VolTS | B20: =TermStructures!$E$1 -> obj_00000#0018
A21: Permanent
A22: Trigger

Sheet Swaps
A1: Euribor | B1: =_xll.qlEuribor(B3,B4,B5,B6,B7) -> obj_0005c#0006 | D1: VanillaSwap | E1: =_xll.qlVanillaSwap(E3,E4,E5,E6,E7,E8,E9,E10,E11,E12,E13,E14) -> obj_0005d#0010 | H1: SetPricingEngine | I1: =_xll.qlInstrumentSetPricingEngine(E1,PricingEngines!$B$1) -> TRUE
A2: Error | B2: =_xll.ohRangeRetrieveError(B1) | D2: Error | E2: =_xll.ohRangeRetrieveError(E1) | H2: NPV | I2: =_xll.qlInstrumentNPV(E1,I1) -> -47464551
A3: ObjectID | D3: ObjectID | H3: FairRate | I3: =_xll.qlVanillaSwapFairRate($E$1,$I$1) -> 0.025365656
A4: Tenor | B4: =DateCalc!B26 -> 6M | D4: PayerReceiver | E4: Payer | H4: FairSpread | I4: =_xll.qlVanillaSwapFairSpread($E$1,$I$1) -> 0.019530253
A5: YieldCurve | B5: =+'[2]7_PieceWiseYieldCurve'!$I$8 -> SwapCurve_6M#0004 | D5: Nominal | E5: =Nominal -> 250000000
A6: Permanent | D6: FixedLegSchedule | E6: =DateCalc!$B$5 -> obj_00008#0021
A7: Trigger | D7: FixedRate | E7: 0.0325
D8: FixedLegDayCounter | E8: =B33 -> Actual/Actual (ISMA)
A9: IborLeg | B9: =_xll.qlIborLeg(B11,B12,B13,B14,B15,B16,B17,B18,B19,B20,B21,B22,B23,B24) -> obj_0005e#0008 | D9: FloatingLegSchedule | E9: =DateCalc!B21 -> obj_00009#0021
A10: Error | B10: =_xll.ohRangeRetrieveError(B9) | D10: IborIndex | E10: =B1 -> obj_0005c#0006
A11: ObjectID | D11: FloatingLegSpread | E11: =B21 -> 0.0125
A12: PaymentBDC | B12: Following | D12: FloatingLegDayCounter | E12: =B17 -> Actual/360
A13: Nominals | B13: 250000000 | D13: Permanent
A14: ScheduleID | B14: =DateCalc!B21 -> obj_00009#0021 | D14: Trigger
A15: FixingDays | B15: 2
A16: IsInArrears | D16: Swap | E16: =_xll.qlSwap(E18,E19:F19,E20:F20,E21,E22) -> obj_00063#0011 | H16: SetPricingEngine | I16: =_xll.qlInstrumentSetPricingEngine(E16,PricingEngines!$B$1) -> TRUE
A17: DayCounter | B17: Actual/360 | D17: Error | E17: =_xll.ohRangeRetrieveError(E16) | H17: NPV | I17: =_xll.qlInstrumentNPV(E16,I16) -> -47464551
A18: Floors | D18: ObjectID
A19: Gearings | D19: LegIDs | E19: =B26 -> obj_0000a#0024 | F19: =B9 -> obj_0005e#0008
A20: IborIndex | B20: =B1 -> obj_0005c#0006 | D20: Payer | E20: TRUE | F20: FALSE
A21: Spreads | B21: 0.0125 | D21: Permanent
A22: Caps | D22: Trigger
A23: Permanent
A24: Trigger
A26: FixedRateLeg | B26: =_xll.qlFixedRateLeg(B28,B29,B30,B31,B32,B33,B34,B35) -> obj_0000a#0024
A27: Error | B27: =_xll.ohRangeRetrieveError(B26)
A28: ObjectID
A29: PaymentBDC | B29: Following
A30: Nominals | B30: =Nominal -> 250000000
A31: ScheduleID | B31: =DateCalc!$B$5 -> obj_00008#0021
A32: Coupons | B32: 0.0325
A33: DayCounter | B33: Actual/Actual (ISMA)
A34: Permanent
A35: Trigger

Sheet CapFloor
A1: CapFloor | B1: =_xll.qlCapFloor(B3,B4,B5,B6,B7,B8) -> obj_00061#0008 | D1: SetPricingEngine | E1: =_xll.qlInstrumentSetPricingEngine(B1,PricingEngines!$B$8) -> TRUE
A2: Error | B2: =_xll.ohRangeRetrieveError(B1) | D2: NPV | E2: =_xll.qlInstrumentNPV(B1,E1) -> #NUM!
A3: ObjectID | D3: Atm Rate | E3: =_xll.qlCapFloorAtmRate(B1,TermStructures!$B$1) -> 0.023837715
A4: OptionType | B4: Floor | D4: ImpliedVolatility | E4: =_xll.qlCapFloorImpliedVolatility(B1,E2,TermStructures!$B$1,0.000001,100) -> #VALUE!
A5: LegID | B5: =Swaps!B9 -> obj_0005e#0008
A6: Strikes | B6: 0.04
A7: Permanent
A8: Trigger
A10: CapFloor | B10: =_xll.qlCapFloor(B12,B13,B14,B15,B16,B17) -> obj_0005f#0008 | D10: SetPricingEngine | E10: =_xll.qlInstrumentSetPricingEngine(B10,PricingEngines!$B$8) -> TRUE
A11: Error | B11: =_xll.ohRangeRetrieveError(B10) | D11: NPV | E11: =_xll.qlInstrumentNPV(B10,E10) -> #NUM!
A12: ObjectID | D12: Atm Rate | E12: =_xll.qlCapFloorAtmRate(B10,TermStructures!$B$1) -> 0.023837715
A13: OptionType | B13: Cap | D13: ImpliedVolatility | E13: =_xll.qlCapFloorImpliedVolatility(B10,E11,TermStructures!$B$1,0.000001,100) -> #VALUE!
A14: LegID | B14: =Swaps!B9 -> obj_0005e#0008
A15: Strikes | B15: 0.04
A16: Permanent
A17: Trigger

Sheet Swaption
A1: EuropeanExercise | B1: =_xll.qlEuropeanExercise(B3,B4,B5,B6) -> obj_00001#0018
A2: Error | B2: =_xll.ohRangeRetrieveError(B1)
A3: ObjectID
A4: ExpiryDate | B4: 1Y
A5: Permanent
A6: Trigger
A8: Swaption | B8: =_xll.qlSwaption(B10,B11,B12,B13,B14,B15) -> obj_00060#0010 | D8: SetPricingEngine | E8: =_xll.qlInstrumentSetPricingEngine(B8,PricingEngines!$B$16) -> TRUE
A9: Error | B9: =_xll.ohRangeRetrieveError(B8) | D9: NPV | E9: =_xll.qlInstrumentNPV(B8,E8) -> 339.5549
A10: ObjectID | D10: ImpliedVolatility | E10: =_xll.qlSwaptionImpliedVolatility(B8,E9,TermStructures!$B$1,0.000001,100) -> 2.0000001
A11: VanillaSwap | B11: =Swaps!E1 -> obj_0005d#0010
A12: Exercise | B12: =B1 -> obj_00001#0018
A13: SettlementType | B13: Physical
A14: Permanent
A15: Trigger

Sheet CMS
A1: EuriborSwapFixA | B1: =_xll.qlEuriborSwapIsdaFixA(B3,B4,B5,B6,B7,B8) -> obj_00005#0025 | D1: Swap | E1: =_xll.qlSwap(E3,E4:F4,E5:F5,E6,E7) -> obj_00062#0018 | H1: SetPricingEngine | I1: =_xll.qlInstrumentSetPricingEngine(E1,PricingEngines!$B$1,B37) -> TRUE
A2: Error | B2: =_xll.ohRangeRetrieveError(B1) | D2: Error | E2: =_xll.ohRangeRetrieveError(E1) | H2: NPV | I2: =_xll.qlInstrumentNPV(E1,I1) -> -1.6177953e+08
A3: ObjectID | D3: ObjectID
A4: Tenor | B4: 10Y | D4: LegIDs | E4: =B20 -> obj_0000b#0031 | F4: =Swaps!B9 -> obj_0005e#0008
A5: ForwardingCurve | B5: =TermStructures!B1 -> obj_00003#0026 | D5: Payer | E5: TRUE | F5: FALSE
A6: DiscountCurve | B6: =TermStructures!B1 -> obj_00003#0026 | D6: Permanent
A7: Permanent | D7: Trigger
A8: Trigger
A10: CmsCouponPricer | B10: =_xll.qlCmsCouponPricer(B12,B13,B14,B15,B16,B17,B18) -> obj_00004#0017
A11: Error | B11: =_xll.ohRangeRetrieveError(B10)
A12: ObjectID
A13: Volatility | B13: =TermStructures!E1 -> obj_00000#0018
A14: CmsCouponPricerType | B14: ConundrumByNumericalIntegration
A15: ModelOfYieldCurve | B15: NonParallelShifts
A16: MeanReversion | B16: 0.1
A17: Permanent
A18: Trigger
A20: CmsLeg | B20: =_xll.qlCmsLeg(B22,B23,B24,B25,B26,B27,B28,B29,B30,B31,B32,B33,B34,B35) -> obj_0000b#0031
A21: Error | B21: =_xll.ohRangeRetrieveError(B20)
A22: ObjectID
A23: PaymentBDC | B23: Following
A24: Nominals | B24: =Nominal -> 250000000
A25: ScheduleID | B25: =DateCalc!B5 -> obj_00008#0021
A26: FixingDays
A27: IsInArrears
A28: DayCounter | B28: Actual/360
A29: Floors
A30: Gearings
A31: SwapIndex | B31: =B1 -> obj_00005#0025
A32: Spreads
A33: Caps
A34: Permanent
A35: Trigger
A37: LegSetCouponPricers | B37: =_xll.qlLegSetCouponPricers(B20,B10) -> TRUE

Sheet FixedLegFlowAnalysis
A1: {=_xll.qlSwapLegAnalysis(Swaps!E1,0)} -> Payment Date | B1: Amount | C1: Nominal | D1: Accrual Start Date | E1: Accrual End Date | F1: Accrual Days | G1: Index | H1: Fixing Days | I1: Fixing Dates | J1: Day Counter | K1: Accrual Period | L1: Effective Rate | M1: Floor | N1: Gearing | O1: Index Fixing | P1: Conv. Adj. | Q1: Spread | R1: Cap | S1: Call Digital Payoff | T1: Put Digital Payoff | U1: #N/A
A2: 42430 | B2: 580357.14 | C2: 250000000 | D2: 42404 | E2: 42430 | F2: 26 | G2: #N/A | H2: #N/A | I2: #N/A | J2: Actual/Actual (ISMA) | K2: 0.071428571 | L2: 0.0325 | M2: #N/A | N2: #N/A | O2: #N/A | P2: #N/A | Q2: #N/A | R2: #N/A | S2: #N/A | T2: #N/A | U2: #N/A
A3: 42614 | B3: 4062500 | C3: 250000000 | D3: 42430 | E3: 42614 | F3: 184 | G3: #N/A | H3: #N/A | I3: #N/A | J3: Actual/Actual (ISMA) | K3: 0.5 | L3: 0.0325 | M3: #N/A | N3: #N/A | O3: #N/A | P3: #N/A | Q3: #N/A | R3: #N/A | S3: #N/A | T3: #N/A | U3: #N/A
A4: 42795 | B4: 4062500 | C4: 250000000 | D4: 42614 | E4: 42795 | F4: 181 | G4: #N/A | H4: #N/A | I4: #N/A | J4: Actual/Actual (ISMA) | K4: 0.5 | L4: 0.0325 | M4: #N/A | N4: #N/A | O4: #N/A | P4: #N/A | Q4: #N/A | R4: #N/A | S4: #N/A | T4: #N/A | U4: #N/A
A5: 42979 | B5: 4062500 | C5: 250000000 | D5: 42795 | E5: 42979 | F5: 184 | G5: #N/A | H5: #N/A | I5: #N/A | J5: Actual/Actual (ISMA) | K5: 0.5 | L5: 0.0325 | M5: #N/A | N5: #N/A | O5: #N/A | P5: #N/A | Q5: #N/A | R5: #N/A | S5: #N/A | T5: #N/A | U5: #N/A
A6: 43160 | B6: 4062500 | C6: 250000000 | D6: 42979 | E6: 43160 | F6: 181 | G6: #N/A | H6: #N/A | I6: #N/A | J6: Actual/Actual (ISMA) | K6: 0.5 | L6: 0.0325 | M6: #N/A | N6: #N/A | O6: #N/A | P6: #N/A | Q6: #N/A | R6: #N/A | S6: #N/A | T6: #N/A | U6: #N/A
A7: 43346 | B7: 4062500 | C7: 250000000 | D7: 43160 | E7: 43346 | F7: 186 | G7: #N/A | H7: #N/A | I7: #N/A | J7: Actual/Actual (ISMA) | K7: 0.5 | L7: 0.0325 | M7: #N/A | N7: #N/A | O7: #N/A | P7: #N/A | Q7: #N/A | R7: #N/A | S7: #N/A | T7: #N/A | U7: #N/A
A8: 43525 | B8: 4062500 | C8: 250000000 | D8: 43346 | E8: 43525 | F8: 179 | G8: #N/A | H8: #N/A | I8: #N/A | J8: Actual/Actual (ISMA) | K8: 0.5 | L8: 0.0325 | M8: #N/A | N8: #N/A | O8: #N/A | P8: #N/A | Q8: #N/A | R8: #N/A | S8: #N/A | T8: #N/A | U8: #N/A
A9: 43710 | B9: 4062500 | C9: 250000000 | D9: 43525 | E9: 43710 | F9: 185 | G9: #N/A | H9: #N/A | I9: #N/A | J9: Actual/Actual (ISMA) | K9: 0.5 | L9: 0.0325 | M9: #N/A | N9: #N/A | O9: #N/A | P9: #N/A | Q9: #N/A | R9: #N/A | S9: #N/A | T9: #N/A | U9: #N/A
A10: 43892 | B10: 4062500 | C10: 250000000 | D10: 43710 | E10: 43892 | F10: 182 | G10: #N/A | H10: #N/A | I10: #N/A | J10: Actual/Actual (ISMA) | K10: 0.5 | L10: 0.0325 | M10: #N/A | N10: #N/A | O10: #N/A | P10: #N/A | Q10: #N/A | R10: #N/A | S10: #N/A | T10: #N/A | U10: #N/A
A11: 44075 | B11: 4062500 | C11: 250000000 | D11: 43892 | E11: 44075 | F11: 183 | G11: #N/A | H11: #N/A | I11: #N/A | J11: Actual/Actual (ISMA) | K11: 0.5 | L11: 0.0325 | M11: #N/A | N11: #N/A | O11: #N/A | P11: #N/A | Q11: #N/A | R11: #N/A | S11: #N/A | T11: #N/A | U11: #N/A
A12: 44256 | B12: 4062500 | C12: 250000000 | D12: 44075 | E12: 44256 | F12: 181 | G12: #N/A | H12: #N/A | I12: #N/A | J12: Actual/Actual (ISMA) | K12: 0.5 | L12: 0.0325 | M12: #N/A | N12: #N/A | O12: #N/A | P12: #N/A | Q12: #N/A | R12: #N/A | S12: #N/A | T12: #N/A | U12: #N/A
A13: 44440 | B13: 4062500 | C13: 250000000 | D13: 44256 | E13: 44440 | F13: 184 | G13: #N/A | H13: #N/A | I13: #N/A | J13: Actual/Actual (ISMA) | K13: 0.5 | L13: 0.0325 | M13: #N/A | N13: #N/A | O13: #N/A | P13: #N/A | Q13: #N/A | R13: #N/A | S13: #N/A | T13: #N/A | U13: #N/A
... A63: 53573 | B63: 4062500 | C63: 250000000 | D63: 53387 | E63: 53573 | F63: 186 | G63: #N/A | H63: #N/A | I63: #N/A | J63: Actual/Actual (ISMA) | K63: 0.5 | L63: 0.0325 | M63: #N/A | N63: #N/A | O63: #N/A | P63: #N/A | Q63: #N/A | R63: #N/A | S63: #N/A | T63: #N/A | U63: #N/A
A64: #N/A | B64: #N/A | C64: #N/A | D64: #N/A | E64: #N/A | F64: #N/A | G64: #N/A | H64: #N/A | I64: #N/A | J64: #N/A | K64: #N/A | L64: #N/A | M64: #N/A | N64: #N/A | O64: #N/A | P64: #N/A | Q64: #N/A | R64: #N/A | S64: #N/A | T64: #N/A | U64: #N/A
A65: #N/A | B65: #N/A | C65: #N/A | D65: #N/A | E65: #N/A | F65: #N/A | G65: #N/A | H65: #N/A | I65: #N/A | J65: #N/A | K65: #N/A | L65: #N/A | M65: #N/A | N65: #N/A | O65: #N/A | P65: #N/A | Q65: #N/A | R65: #N/A | S65: #N/A | T65: #N/A | U65: #N/A
A66: #N/A | B66: #N/A | C66: #N/A | D66: #N/A | E66: #N/A | F66: #N/A | G66: #N/A | H66: #N/A | I66: #N/A | J66: #N/A | K66: #N/A | L66: #N/A | M66: #N/A | N66: #N/A | O66: #N/A | P66: #N/A | Q66: #N/A | R66: #N/A | S66: #N/A | T66: #N/A | U66: #N/A
A67: #N/A | B67: #N/A | C67: #N/A | D67: #N/A | E67: #N/A | F67: #N/A | G67: #N/A | H67: #N/A | I67: #N/A | J67: #N/A | K67: #N/A | L67: #N/A | M67: #N/A | N67: #N/A | O67: #N/A | P67: #N/A | Q67: #N/A | R67: #N/A | S67: #N/A | T67: #N/A | U67: #N/A
A68: #N/A | B68: #N/A | C68: #N/A | D68: #N/A | E68: #N/A | F68: #N/A | G68: #N/A | H68: #N/A | I68: #N/A | J68: #N/A | K68: #N/A | L68: #N/A | M68: #N/A | N68: #N/A | O68: #N/A | P68: #N/A | Q68: #N/A | R68: #N/A | S68: #N/A | T68: #N/A | U68: #N/A
A69: #N/A | B69: #N/A | C69: #N/A | D69: #N/A | E69: #N/A | F69: #N/A | G69: #N/A | H69: #N/A | I69: #N/A | J69: #N/A | K69: #N/A | L69: #N/A | M69: #N/A | N69: #N/A | O69: #N/A | P69: #N/A | Q69: #N/A | R69: #N/A | S69: #N/A | T69: #N/A | U69: #N/A
A70: #N/A | B70: #N/A | C70: #N/A | D70: #N/A | E70: #N/A | F70: #N/A | G70: #N/A | H70: #N/A | I70: #N/A | J70: #N/A | K70: #N/A | L70: #N/A | M70: #N/A | N70: #N/A | O70: #N/A | P70: #N/A | Q70: #N/A | R70: #N/A | S70: #N/A | T70: #N/A | U70: #N/A
A71: #N/A | B71: #N/A | C71: #N/A | D71: #N/A | E71: #N/A | F71: #N/A | G71: #N/A | H71: #N/A | I71: #N/A | J71: #N/A | K71: #N/A | L71: #N/A | M71: #N/A | N71: #N/A | O71: #N/A | P71: #N/A | Q71: #N/A | R71: #N/A | S71: #N/A | T71: #N/A | U71: #N/A
A72: #N/A | B72: #N/A | C72: #N/A | D72: #N/A | E72: #N/A | F72: #N/A | G72: #N/A | H72: #N/A | I72: #N/A | J72: #N/A | K72: #N/A | L72: #N/A | M72: #N/A | N72: #N/A | O72: #N/A | P72: #N/A | Q72: #N/A | R72: #N/A | S72: #N/A | T72: #N/A | U72: #N/A
A73: #N/A | B73: #N/A | C73: #N/A | D73: #N/A | E73: #N/A | F73: #N/A | G73: #N/A | H73: #N/A | I73: #N/A | J73: #N/A | K73: #N/A | L73: #N/A | M73: #N/A | N73: #N/A | O73: #N/A | P73: #N/A | Q73: #N/A | R73: #N/A | S73: #N/A | T73: #N/A | U73: #N/A
A74: #N/A | B74: #N/A | C74: #N/A | D74: #N/A | E74: #N/A | F74: #N/A | G74: #N/A | H74: #N/A | I74: #N/A | J74: #N/A | K74: #N/A | L74: #N/A | M74: #N/A | N74: #N/A | O74: #N/A | P74: #N/A | Q74: #N/A | R74: #N/A | S74: #N/A | T74: #N/A | U74: #N/A
A75: #N/A | B75: #N/A | C75: #N/A | D75: #N/A | E75: #N/A | F75: #N/A | G75: #N/A | H75: #N/A | I75: #N/A | J75: #N/A | K75: #N/A | L75: #N/A | M75: #N/A | N75: #N/A | O75: #N/A | P75: #N/A | Q75: #N/A | R75: #N/A | S75: #N/A | T75: #N/A | U75: #N/A
... A182: #N/A | B182: #N/A | C182: #N/A | D182: #N/A | E182: #N/A | F182: #N/A | G182: #N/A | H182: #N/A | I182: #N/A | J182: #N/A | K182: #N/A | L182: #N/A | M182: #N/A | N182: #N/A | O182: #N/A | P182: #N/A | Q182: #N/A | R182: #N/A | S182: #N/A | T182: #N/A | U182: #N/A

Sheet CmsLegFlowAnalysis
A1: {=_xll.qlSwapLegAnalysis(CMS!E1,0)} -> Payment Date | B1: Amount | C1: Nominal | D1: Accrual Start Date | E1: Accrual End Date | F1: Accrual Days | G1: Index | H1: Fixing Days | I1: Fixing Dates | J1: Day Counter | K1: Accrual Period | L1: Effective Rate | M1: Floor | N1: Gearing | O1: Index Fixing | P1: Conv. Adj. | Q1: Spread | R1: Cap | S1: Call Digital Payoff | T1: Put Digital Payoff | U1: #N/A
A2: 42430 | B2: 812881.23 | C2: 250000000 | D2: 42404 | E2: 42430 | F2: 26 | G2: EuriborSwapIsdaFixA10Y 30/360 (Bond Basis) | H2: 2 | I2: 42402 | J2: Actual/360 | K2: 0.072222222 | L2: 0.045021114 | M2: #N/A | N2: 1 | O2: 0.045021114 | P2: 0 | Q2: 0 | R2: #N/A | S2: #N/A | T2: #N/A | U2: #N/A
A3: 42614 | B3: 5752734.9 | C3: 250000000 | D3: 42430 | E3: 42614 | F3: 184 | G3: EuriborSwapIsdaFixA10Y 30/360 (Bond Basis) | H3: 2 | I3: 42426 | J3: Actual/360 | K3: 0.51111111 | L3: 0.045021404 | M3: #N/A | N3: 1 | O3: 0.045006994 | P3: 1.4409465e-05 | Q3: 0 | R3: #N/A | S3: #N/A | T3: #N/A | U3: #N/A
A4: 42795 | B4: 5673066 | C4: 250000000 | D4: 42614 | E4: 42795 | F4: 181 | G4: EuriborSwapIsdaFixA10Y 30/360 (Bond Basis) | H4: 2 | I4: 42612 | J4: Actual/360 | K4: 0.50277778 | L4: 0.045133785 | M4: #N/A | N4: 1 | O4: 0.045006923 | P4: 0.00012686117 | Q4: 0 | R4: #N/A | S4: #N/A | T4: #N/A | U4: #N/A
A5: 42979 | B5: 5781397.4 | C5: 250000000 | D5: 42795 | E5: 42979 | F5: 184 | G5: EuriborSwapIsdaFixA10Y 30/360 (Bond Basis) | H5: 2 | I5: 42793 | J5: Actual/360 | K5: 0.51111111 | L5: 0.045245719 | M5: #N/A | N5: 1 | O5: 0.045008026 | P5: 0.00023769227 | Q5: 0 | R5: #N/A | S5: #N/A | T5: #N/A | U5: #N/A
A6: 43160 | B6: 5701477.2 | C6: 250000000 | D6: 42979 | E6: 43160 | F6: 181 | G6: EuriborSwapIsdaFixA10Y 30/360 (Bond Basis) | H6: 2 | I6: 42977 | J6: Actual/360 | K6: 0.50277778 | L6: 0.045359819 | M6: #N/A | N6: 1 | O6: 0.045008029 | P6: 0.00035178947 | Q6: 0 | R6: #N/A | S6: #N/A | T6: #N/A | U6: #N/A
A7: 43346 | B7: 5875061.2 | C7: 250000000 | D7: 43160 | E7: 43346 | F7: 186 | G7: EuriborSwapIsdaFixA10Y 30/360 (Bond Basis) | H7: 2 | I7: 43158 | J7: Actual/360 | K7: 0.51666667 | L7: 0.045484345 | M7: #N/A | N7: 1 | O7: 0.045019433 | P7: 0.00046491198 | Q7: 0 | R7: #N/A | S7: #N/A | T7: #N/A | U7: #N/A
A8: 43525 | B8: 5668751.3 | C8: 250000000 | D8: 43346 | E8: 43525 | F8: 179 | G8: EuriborSwapIsdaFixA10Y 30/360 (Bond Basis) | H8: 2 | I8: 43342 | J8: Actual/360 | K8: 0.49722222 | L8: 0.045603363 | M8: #N/A | N8: 1 | O8: 0.045019502 | P8: 0.00058386014 | Q8: 0 | R8: #N/A | S8: #N/A | T8: #N/A | U8: #N/A
A9: 43710 | B9: 5873735.9 | C9: 250000000 | D9: 43525 | E9: 43710 | F9: 185 | G9: EuriborSwapIsdaFixA10Y 30/360 (Bond Basis) | H9: 2 | I9: 43523 | J9: Actual/360 | K9: 0.51388889 | L9: 0.045719891 | M9: #N/A | N9: 1 | O9: 0.045021102 | P9: 0.0006987884 | Q9: 0 | R9: #N/A | S9: #N/A | T9: #N/A | U9: #N/A
A10: 43892 | B10: 5793686.4 | C10: 250000000 | D10: 43710 | E10: 43892 | F10: 182 | G10: EuriborSwapIsdaFixA10Y 30/360 (Bond Basis) | H10: 2 | I10: 43706 | J10: Actual/360 | K10: 0.50555556 | L10: 0.045840156 | M10: #N/A | N10: 1 | O10: 0.045021176 | P10: 0.00081898021 | Q10: 0 | R10: #N/A | S10: #N/A | T10: #N/A | U10: #N/A
A11: 44075 | B11: 5839076.4 | C11: 250000000 | D11: 43892 | E11: 44075 | F11: 183 | G11: EuriborSwapIsdaFixA10Y 30/360 (Bond Basis) | H11: 2 | I11: 43888 | J11: Actual/360 | K11: 0.50833333 | L11: 0.045946831 | M11: #N/A | N11: 1 | O11: 0.045007076 | P11: 0.00093975527 | Q11: 0 | R11: #N/A | S11: #N/A | T11: #N/A | U11: #N/A
A12: 44256 | B12: 5790499.8 | C12: 250000000 | D12: 44075 | E12: 44256 | F12: 181 | G12: EuriborSwapIsdaFixA10Y 30/360 (Bond Basis) | H12: 2 | I12: 44071 | J12: Actual/360 | K12: 0.50277778 | L12: 0.046068065 | M12: #N/A | N12: 1 | O12: 0.045006994 | P12: 0.0010610707 | Q12: 0 | R12: #N/A | S12: #N/A | T12: #N/A | U12: #N/A
A13: 44440 | B13: 5902333.7 | C13: 250000000 | D13: 44256 | E13: 44440 | F13: 184 | G13: EuriborSwapIsdaFixA10Y 30/360 (Bond Basis) | H13: 2 | I13: 44252 | J13: Actual/360 | K13: 0.51111111 | L13: 0.046192177 | M13: #N/A | N13: 1 | O13: 0.04500818 | P13: 0.0011839969 | Q13: 0 | R13: #N/A | S13: #N/A | T13: #N/A | U13: #N/A
... A24: 46447 | B24: 5991979.9 | C24: 250000000 | D24: 46266 | E24: 46447 | F24: 181 | G24: EuriborSwapIsdaFixA10Y 30/360 (Bond Basis) | H24: 2 | I24: 46262 | J24: Actual/360 | K24: 0.50277778 | L24: 0.047671001 | M24: #N/A | N24: 1 | O24: 0.045019439 | P24: 0.0026515614 | Q24: 0 | R24: #N/A | S24: #N/A | T24: #N/A | U24: #N/A

Sheet FloatingLegFlowAnalysis
A1: {=_xll.qlSwapLegAnalysis(Swaps!E1,1)} -> Payment Date | B1: Amount | C1: Nominal | D1: Accrual Start Date | E1: Accrual End Date | F1: Accrual Days | G1: Index | H1: Fixing Days | I1: Fixing Dates | J1: Day Counter | K1: Accrual Period | L1: Effective Rate | M1: Floor | N1: Gearing | O1: Index Fixing | P1: Conv. Adj. | Q1: Spread | R1: Cap | S1: Call Digital Payoff | T1: Put Digital Payoff | U1: #N/A
A2: 42430 | B2: 209621.9 | C2: 250000000 | D2: 42404 | E2: 42430 | F2: 26 | G2: Euribor6M Actual/360 | H2: 2 | I2: 42402 | J2: Actual/360 | K2: 0.072222222 | L2: 0.011609828 | M2: #N/A | N2: 1 | O2: -0.00089017167 | P2: 2.1684043e-19 | Q2: 0.0125 | R2: #N/A | S2: #N/A | T2: #N/A | U2: #N/A
A3: 42614 | B3: 1445382.4 | C3: 250000000 | D3: 42430 | E3: 42614 | F3: 184 | G3: Euribor6M Actual/360 | H3: 2 | I3: 42426 | J3: Actual/360 | K3: 0.51111111 | L3: 0.011311689 | M3: #N/A | N3: 1 | O3: -0.0011883113 | P3: 2.1684043e-19 | Q3: 0.0125 | R3: #N/A | S3: #N/A | T3: #N/A | U3: #N/A
A4: 42795 | B4: 1316104.5 | C4: 250000000 | D4: 42614 | E4: 42795 | F4: 181 | G4: Euribor6M Actual/360 | H4: 2 | I4: 42612 | J4: Actual/360 | K4: 0.50277778 | L4: 0.010470665 | M4: #N/A | N4: 1 | O4: -0.0020293347 | P4: 1.3010426e-18 | Q4: 0.0125 | R4: #N/A | S4: #N/A | T4: #N/A | U4: #N/A
A5: 42979 | B5: 1351618.2 | C5: 250000000 | D5: 42795 | E5: 42979 | F5: 184 | G5: Euribor6M Actual/360 | H5: 2 | I5: 42793 | J5: Actual/360 | K5: 0.51111111 | L5: 0.010577882 | M5: #N/A | N5: 1 | O5: -0.0019221181 | P5: -2.8189256e-18 | Q5: 0.0125 | R5: #N/A | S5: #N/A | T5: #N/A | U5: #N/A
A6: 43160 | B6: 1477179 | C6: 250000000 | D6: 42979 | E6: 43160 | F6: 181 | G6: Euribor6M Actual/360 | H6: 2 | I6: 42977 | J6: Actual/360 | K6: 0.50277778 | L6: 0.011752142 | M6: #N/A | N6: 1 | O6: -0.00074785767 | P6: -1.8431437e-18 | Q6: 0.0125 | R6: #N/A | S6: #N/A | T6: #N/A | U6: #N/A
A7: 43346 | B7: 1517985.6 | C7: 250000000 | D7: 43160 | E7: 43346 | F7: 186 | G7: Euribor6M Actual/360 | H7: 2 | I7: 43158 | J7: Actual/360 | K7: 0.51666667 | L7: 0.011752146 | M7: #N/A | N7: 1 | O7: -0.00074785378 | P7: -8.6736174e-19 | Q7: 0.0125 | R7: #N/A | S7: #N/A | T7: #N/A | U7: #N/A
A8: 43525 | B8: 1513185.6 | C8: 250000000 | D8: 43346 | E8: 43525 | F8: 179 | G8: Euribor6M Actual/360 | H8: 2 | I8: 43342 | J8: Actual/360 | K8: 0.49722222 | L8: 0.012173113 | M8: #N/A | N8: 1 | O8: -0.00032688657 | P8: 8.1315163e-19 | Q8: 0.0125 | R8: #N/A | S8: #N/A | T8: #N/A | U8: #N/A
A9: 43710 | B9: 1897315.3 | C9: 250000000 | D9: 43525 | E9: 43710 | F9: 185 | G9: Euribor6M Actual/360 | H9: 2 | I9: 43523 | J9: Actual/360 | K9: 0.51388889 | L9: 0.014768292 | M9: #N/A | N9: 1 | O9: 0.0022682924 | P9: -4.3368087e-19 | Q9: 0.0125 | R9: #N/A | S9: #N/A | T9: #N/A | U9: #N/A
A10: 43892 | B10: 1919593.9 | C10: 250000000 | D10: 43710 | E10: 43892 | F10: 182 | G10: Euribor6M Actual/360 | H10: 2 | I10: 43706 | J10: Actual/360 | K10: 0.50555556 | L10: 0.015187996 | M10: #N/A | N10: 1 | O10: 0.0026879957 | P10: 4.3368087e-19 | Q10: 0.0125 | R10: #N/A | S10: #N/A | T10: #N/A | U10: #N/A
A11: 44075 | B11: 2236575.8 | C11: 250000000 | D11: 43892 | E11: 44075 | F11: 183 | G11: Euribor6M Actual/360 | H11: 2 | I11: 43888 | J11: Actual/360 | K11: 0.50833333 | L11: 0.017599285 | M11: #N/A | N11: 1 | O11: 0.0050992846 | P11: 8.6736174e-19 | Q11: 0.0125 | R11: #N/A | S11: #N/A | T11: #N/A | U11: #N/A
A12: 44256 | B12: 2264151.6 | C12: 250000000 | D12: 44075 | E12: 44256 | F12: 181 | G12: Euribor6M Actual/360 | H12: 2 | I12: 44071 | J12: Actual/360 | K12: 0.50277778 | L12: 0.01801314 | M12: #N/A | N12: 1 | O12: 0.0055131398 | P12: 4.3368087e-18 | Q12: 0.0125 | R12: #N/A | S12: #N/A | T12: #N/A | U12: #N/A
A13: 44440 | B13: 2632000 | C13: 250000000 | D13: 44256 | E13: 44440 | F13: 184 | G13: Euribor6M Actual/360 | H13: 2 | I13: 44252 | J13: Actual/360 | K13: 0.51111111 | L13: 0.020598261 | M13: #N/A | N13: 1 | O13: 0.008098261 | P13: -1.7347235e-18 | Q13: 0.0125 | R13: #N/A | S13: #N/A | T13: #N/A | U13: #N/A
... A63: 53573 | B63: 3261143.3 | C63: 250000000 | D63: 53387 | E63: 53573 | F63: 186 | G63: Euribor6M Actual/360 | H63: 2 | I63: 53385 | J63: Actual/360 | K63: 0.51666667 | L63: 0.025247561 | M63: #N/A | N63: 1 | O63: 0.012747561 | P63: 1.7347235e-18 | Q63: 0.0125 | R63: #N/A | S63: #N/A | T63: #N/A | U63: #N/A
A64: #N/A | B64: #N/A | C64: #N/A | D64: #N/A | E64: #N/A | F64: #N/A | G64: #N/A | H64: #N/A | I64: #N/A | J64: #N/A | K64: #N/A | L64: #N/A | M64: #N/A | N64: #N/A | O64: #N/A | P64: #N/A | Q64: #N/A | R64: #N/A | S64: #N/A | T64: #N/A | U64: #N/A
A65: #N/A | B65: #N/A | C65: #N/A | D65: #N/A | E65: #N/A | F65: #N/A | G65: #N/A | H65: #N/A | I65: #N/A | J65: #N/A | K65: #N/A | L65: #N/A | M65: #N/A | N65: #N/A | O65: #N/A | P65: #N/A | Q65: #N/A | R65: #N/A | S65: #N/A | T65: #N/A | U65: #N/A
A66: #N/A | B66: #N/A | C66: #N/A | D66: #N/A | E66: #N/A | F66: #N/A | G66: #N/A | H66: #N/A | I66: #N/A | J66: #N/A | K66: #N/A | L66: #N/A | M66: #N/A | N66: #N/A | O66: #N/A | P66: #N/A | Q66: #N/A | R66: #N/A | S66: #N/A | T66: #N/A | U66: #N/A
A67: #N/A | B67: #N/A | C67: #N/A | D67: #N/A | E67: #N/A | F67: #N/A | G67: #N/A | H67: #N/A | I67: #N/A | J67: #N/A | K67: #N/A | L67: #N/A | M67: #N/A | N67: #N/A | O67: #N/A | P67: #N/A | Q67: #N/A | R67: #N/A | S67: #N/A | T67: #N/A | U67: #N/A
A68: #N/A | B68: #N/A | C68: #N/A | D68: #N/A | E68: #N/A | F68: #N/A | G68: #N/A | H68: #N/A | I68: #N/A | J68: #N/A | K68: #N/A | L68: #N/A | M68: #N/A | N68: #N/A | O68: #N/A | P68: #N/A | Q68: #N/A | R68: #N/A | S68: #N/A | T68: #N/A | U68: #N/A
A69: #N/A | B69: #N/A | C69: #N/A | D69: #N/A | E69: #N/A | F69: #N/A | G69: #N/A | H69: #N/A | I69: #N/A | J69: #N/A | K69: #N/A | L69: #N/A | M69: #N/A | N69: #N/A | O69: #N/A | P69: #N/A | Q69: #N/A | R69: #N/A | S69: #N/A | T69: #N/A | U69: #N/A
A70: #N/A | B70: #N/A | C70: #N/A | D70: #N/A | E70: #N/A | F70: #N/A | G70: #N/A | H70: #N/A | I70: #N/A | J70: #N/A | K70: #N/A | L70: #N/A | M70: #N/A | N70: #N/A | O70: #N/A | P70: #N/A | Q70: #N/A | R70: #N/A | S70: #N/A | T70: #N/A | U70: #N/A
A71: #N/A | B71: #N/A | C71: #N/A | D71: #N/A | E71: #N/A | F71: #N/A | G71: #N/A | H71: #N/A | I71: #N/A | J71: #N/A | K71: #N/A | L71: #N/A | M71: #N/A | N71: #N/A | O71: #N/A | P71: #N/A | Q71: #N/A | R71: #N/A | S71: #N/A | T71: #N/A | U71: #N/A
A72: #N/A | B72: #N/A | C72: #N/A | D72: #N/A | E72: #N/A | F72: #N/A | G72: #N/A | H72: #N/A | I72: #N/A | J72: #N/A | K72: #N/A | L72: #N/A | M72: #N/A | N72: #N/A | O72: #N/A | P72: #N/A | Q72: #N/A | R72: #N/A | S72: #N/A | T72: #N/A | U72: #N/A
A73: #N/A | B73: #N/A | C73: #N/A | D73: #N/A | E73: #N/A | F73: #N/A | G73: #N/A | H73: #N/A | I73: #N/A | J73: #N/A | K73: #N/A | L73: #N/A | M73: #N/A | N73: #N/A | O73: #N/A | P73: #N/A | Q73: #N/A | R73: #N/A | S73: #N/A | T73: #N/A | U73: #N/A
A74: #N/A | B74: #N/A | C74: #N/A | D74: #N/A | E74: #N/A | F74: #N/A | G74: #N/A | H74: #N/A | I74: #N/A | J74: #N/A | K74: #N/A | L74: #N/A | M74: #N/A | N74: #N/A | O74: #N/A | P74: #N/A | Q74: #N/A | R74: #N/A | S74: #N/A | T74: #N/A | U74: #N/A
A75: #N/A | B75: #N/A | C75: #N/A | D75: #N/A | E75: #N/A | F75: #N/A | G75: #N/A | H75: #N/A | I75: #N/A | J75: #N/A | K75: #N/A | L75: #N/A | M75: #N/A | N75: #N/A | O75: #N/A | P75: #N/A | Q75: #N/A | R75: #N/A | S75: #N/A | T75: #N/A | U75: #N/A
... A96: #N/A | B96: #N/A | C96: #N/A | D96: #N/A | E96: #N/A | F96: #N/A | G96: #N/A | H96: #N/A | I96: #N/A | J96: #N/A | K96: #N/A | L96: #N/A | M96: #N/A | N96: #N/A | O96: #N/A | P96: #N/A | Q96: #N/A | R96: #N/A | S96: #N/A | T96: #N/A | U96: #N/A
