Workbook

Sheet CurvaGVtItalia
A1: Description | B1: Term | C1: Mat. Date | D1: Start Date | E1: Discount Factor | F1: Spot Simple % | G1: Spot Compound % | H1: Yield Simple % | I1: Yield Compound % | J1: I. Rate Freq. | K1: H.S. Tenor | L1: Shock % | M1: Shocked I. Rate % / Price | N1: Input I. Rate % / Price | O1: Mkt Instrument | P1: Input Rate Type | Q1: Capitalisation | R1: Day Count | S1: Coupon I. Rate % | T1: Reference Data | U1: Annual Spread % | V1: Rate Type | W1: Redemption Price | X1: Rating Agency | Y1: Rating | Z1: rate | AA1: rate + shift | AB1: df(rate+shift)
A2: 2 Months | B2: 0.162 | C2: 42853 | D2: 42794 | E2: 1.000797 | F2: -0.49268415 | G2: -0.49166778 | H2: -0.492685 | I2: -0.491668 | J2: 1Y | L2: 0 | M2: 100.077 | N2: 100.077 | O2: Bond ZC Price | P2: ZC Price | Q2: Cont. | R2: act/360 | S2: 0 | T2: 0 | U2: 0 | V2: Fixed | W2: 100 | Z2: =-LN(E2)/(YEARFRAC(D2,C2,3)) -> -0.0049288025 | AA2: =+Z2+$AE$1 -> -0.0049288025 | AB2: =EXP(-AA2*YEARFRAC(D2,C2,3)) -> 1.000797
A3: 5 Months | B3: 0.419 | C3: 42947 | D3: 42794 | E3: 1.001457 | F3: -0.34709025 | G3: -0.34674045 | H3: -0.347091 | I3: -0.346741 | J3: 1Y | L3: 0 | M3: 100.143 | N3: 100.143 | O3: Bond ZC Price | P3: ZC Price | Q3: Cont. | R3: act/360 | S3: 0 | T3: 0 | U3: 0 | V3: Fixed | W3: 100 | Z3: =-LN(E3)/(YEARFRAC(D3,C3,3)) -> -0.0034734296 | AA3: =+Z3+$AE$1 -> -0.0034734296 | AB3: =EXP(-AA3*YEARFRAC(D3,C3,3)) -> 1.001457
A4: BOTS 0 10/13/2017 | B4: 0.622 | C4: 43021 | D4: 42794 | E4: 1.001962 | F4: -0.31486442 | G4: -0.31467696 | H4: -0.314865 | I4: -0.314677 | J4: 1Y | L4: 0 | M4: 100.1935 | N4: 100.1935 | O4: Bond ZC Price | P4: ZC Price | Q4: Cont. | R4: act/360 | S4: -0.15 | T4: 1 | U4: 0 | V4: Fixed | W4: 100.15 | Z4: =-LN(E4)/(YEARFRAC(D4,C4,3)) -> -0.0031517311 | AA4: =+Z4+$AE$1 -> -0.0031517311 | AB4: =EXP(-AA4*YEARFRAC(D4,C4,3)) -> 1.001962
A5: 10 Months | B5: 0.871 | C5: 43112 | D5: 42794 | E5: 1.0027371 | F5: -0.31330424 | G5: -0.31324099 | H5: -0.313305 | I5: -0.313241 | J5: 1Y | L5: 0 | M5: 100.271 | N5: 100.271 | O5: Bond ZC Price | P5: ZC Price | Q5: Cont. | R5: act/360 | S5: 0 | T5: 0 | U5: 0 | V5: Fixed | W5: 100 | Z5: =-LN(E5)/(YEARFRAC(D5,C5,3)) -> -0.0031373265 | AA5: =+Z5+$AE$1 -> -0.0031373265 | AB5: =EXP(-AA5*YEARFRAC(D5,C5,3)) -> 1.0027371
A6: 1 Year * | B6: 1 | C6: 43159 | D6: 42794 | E6: 1.0022292 | F6: -0.2224255 | G6: -0.2224255 | H6: -0.222489 | I6: -0.222365 | Z6: =-LN(E6)/(YEARFRAC(D6,C6,3)) -> -0.002226732 | AA6: =+Z6+$AE$1 -> -0.002226732 | AB6: =EXP(-AA6*YEARFRAC(D6,C6,3)) -> 1.0022292
A7: 18 Months * | B7: 1.504 | C7: 43343 | D7: 42794 | E7: 1.0002434 | F7: -0.016181067 | G7: -0.016181727 | H7: -0.016163 | I7: -0.016162 | Z7: =-LN(E7)/(YEARFRAC(D7,C7,3)) -> -0.00016183021 | AA7: =+Z7+$AE$1 -> -0.00016183021 | AB7: =EXP(-AA7*YEARFRAC(D7,C7,3)) -> 1.0002434
A8: 19 Months | B8: 1.627 | C8: 43388 | D8: 42794 | E8: 0.99975839 | F8: 0.014850099 | G8: 0.014849407 | H8: 0.014828 | I8: 0.014829 | J8: 6M | L8: 0 | M8: 100.46 | N8: 100.46 | O8: Bond Price | P8: Price | Q8: Cont. | R8: act/act ISMA | S8: 0.3 | T8: 0 | U8: 0 | V8: Fixed | W8: 100 | Z8: =-LN(E8)/(YEARFRAC(D8,C8,3)) -> 0.00014848322 | AA8: =+Z8+$AE$1 -> 0.00014848322 | AB8: =EXP(-AA8*YEARFRAC(D8,C8,3)) -> 0.99975839
A9: 2 Years * | B9: 2 | C9: 43524 | D9: 42794 | E9: 0.99719174 | F9: 0.14080832 | G9: 0.14070933 | H9: 0.140365 | I9: 0.140415 | Z9: =-LN(E9)/(YEARFRAC(D9,C9,3)) -> 0.0014061043 | AA9: =+Z9+$AE$1 -> 0.0014061043 | AB9: =EXP(-AA9*YEARFRAC(D9,C9,3)) -> 0.99719174
A10: BTPS 4 1/2 03/19 | B10: 2.003 | C10: 43525 | D10: 42794 | E10: 0.99717289 | F10: 0.14156213 | G10: 0.1414618 | H10: 0.141115 | I10: 0.141165 | J10: 6M | L10: 0 | M10: 108.705 | N10: 108.705 | O10: Bond Price | P10: Price | Q10: Cont. | R10: act/act ISMA | S10: 4.5 | T10: 1 | U10: 0 | V10: Fixed | W10: 100 | Z10: =-LN(E10)/(YEARFRAC(D10,C10,3)) -> 0.0014136184 | AA10: =+Z10+$AE$1 -> 0.0014136184 | AB10: =EXP(-AA10*YEARFRAC(D10,C10,3)) -> 0.99717289
A11: 30 Months * | B11: 2.501 | C11: 43707 | D11: 42794 | E11: 0.99216571 | F11: 0.3156732 | G11: 0.31492828 | H11: 0.313608 | I11: 0.313853 | Z11: =-LN(E11)/(YEARFRAC(D11,C11,3)) -> 0.003144334 | AA11: =+Z11+$AE$1 -> 0.003144334 | AB11: =EXP(-AA11*YEARFRAC(D11,C11,3)) -> 0.99216571
A12: 33 Months | B12: 2.756 | C12: 43800 | D12: 42794 | E12: 0.9896168 | F12: 0.38067899 | G12: 0.37941374 | H12: 0.378217 | I12: 0.378216 | J12: 6M | L12: 0 | M12: 101.84 | N12: 101.84 | O12: Bond Price | P12: Price | Q12: Cont. | R12: act/act ISMA | S12: 1.05 | T12: 0 | U12: 0 | V12: Fixed | W12: 100 | Z12: =-LN(E12)/(YEARFRAC(D12,C12,3)) -> 0.0037869579 | AA12: =+Z12+$AE$1 -> 0.0037869579 | AB12: =EXP(-AA12*YEARFRAC(D12,C12,3)) -> 0.9896168
A13: 3 Years * | B13: 3 | C13: 43889 | D13: 42794 | E13: 0.98703723 | F13: 0.43776713 | G13: 0.43586459 | H13: 0.433496 | I13: 0.433967 | Z13: =-LN(E13)/(YEARFRAC(D13,C13,3)) -> 0.0043491746 | AA13: =+Z13+$AE$1 -> 0.0043491746 | AB13: =EXP(-AA13*YEARFRAC(D13,C13,3)) -> 0.98703723
A14: 42 Months * | B14: 3.507 | C14: 44074 | D14: 42794 | E14: 0.98169668 | F14: 0.53166179 | G14: 0.52815609 | H14: 0.524773 | I14: 0.525462 | Z14: =-LN(E14)/(YEARFRAC(D14,C14,3)) -> 0.0052676624 | AA14: =+Z14+$AE$1 -> 0.0052676624 | AB14: =EXP(-AA14*YEARFRAC(D14,C14,3)) -> 0.98169668
A15: BTPS 0.65 11/01/20 | B15: 3.677 | C15: 44136 | D15: 42794 | E15: 0.97991335 | F15: 0.55751973 | G15: 0.55340818 | H15: 0.551214 | I15: 0.55159 | J15: 6M | L15: 0 | M15: 100.355 | N15: 100.355 | O15: Bond Price | P15: Price | Q15: Cont. | R15: act/act ISMA | S15: 0.65 | T15: 1 | U15: 0 | V15: Fixed | W15: 100 | Z15: =-LN(E15)/(YEARFRAC(D15,C15,3)) -> 0.0055188249 | AA15: =+Z15+$AE$1 -> 0.0055188249 | AB15: =EXP(-AA15*YEARFRAC(D15,C15,3)) -> 0.97991335
A16: 4 Years * | B16: 3.997 | C16: 44253 | D16: 42794 | E16: 0.97162922 | F16: 0.73047991 | G16: 0.72261672 | H16: 0.715647 | I16: 0.716932 | Z16: =-LN(E16)/(YEARFRAC(D16,C16,3)) -> 0.0072001837 | AA16: =+Z16+$AE$1 -> 0.0072001837 | AB16: =EXP(-AA16*YEARFRAC(D16,C16,3)) -> 0.97162922
A17: 54 Months * | B17: 4.507 | C17: 44439 | D17: 42794 | E17: 0.95853705 | F17: 0.95979446 | G17: 0.94404389 | H17: 0.931163 | I17: 0.933338 | Z17: =-LN(E17)/(YEARFRAC(D17,C17,3)) -> 0.0093961564 | AA17: =+Z17+$AE$1 -> 0.0093961564 | AB17: =EXP(-AA17*YEARFRAC(D17,C17,3)) -> 0.95853705
A18: BTPS 2.15 12/21 | B18: 4.797 | C18: 44545 | D18: 42794 | E18: 0.95115499 | F18: 1.0704728 | G18: 1.0493603 | H18: 1.032875 | I18: 1.035617 | J18: 6M | L18: 0 | M18: 105.26 | N18: 105.26 | O18: Bond Price | P18: Price | Q18: Cont. | R18: act/act ISMA | S18: 2.15 | T18: 1 | U18: 0 | V18: Fixed | W18: 100 | Z18: =-LN(E18)/(YEARFRAC(D18,C18,3)) -> 0.010438928 | AA18: =+Z18+$AE$1 -> 0.010438928 | AB18: =EXP(-AA18*YEARFRAC(D18,C18,3)) -> 0.95115499
A19: 5 Years * | B19: 5.003 | C19: 44620 | D19: 42794 | E19: 0.94570567 | F19: 1.1476002 | G19: 1.1221154 | H19: 1.103148 | I19: 1.106201 | Z19: =-LN(E19)/(YEARFRAC(D19,C19,3)) -> 0.011158664 | AA19: =+Z19+$AE$1 -> 0.011158664 | AB19: =EXP(-AA19*YEARFRAC(D19,C19,3)) -> 0.94570567
A20: BTPS 1.35% 04/22 | B20: 5.129 | C20: 44666 | D20: 42794 | E20: 0.94237887 | F20: 1.1921838 | G20: 1.1638779 | H20: 1.146122 | I20: 1.147086 | J20: 6M | L20: 0 | M20: 101.01 | N20: 101.01 | O20: Bond Price | P20: Price | Q20: Cont. | R20: act/act ISMA | S20: 1.35 | T20: 1 | U20: 0 | V20: Fixed | W20: 100 | Z20: =-LN(E20)/(YEARFRAC(D20,C20,3)) -> 0.011571569 | AA20: =+Z20+$AE$1 -> 0.011571569 | AB20: =EXP(-AA20*YEARFRAC(D20,C20,3)) -> 0.94237887
A21: 66 Months * | B21: 5.507 | C21: 44804 | D21: 42794 | E21: 0.93319948 | F21: 1.2998767 | G21: 1.2633741 | H21: 1.238832 | I21: 1.242679 | Z21: =-LN(E21)/(YEARFRAC(D21,C21,3)) -> 0.012554601 | AA21: =+Z21+$AE$1 -> 0.012554601 | AB21: =EXP(-AA21*YEARFRAC(D21,C21,3)) -> 0.93319948
A22: BTPS 1.45 09/15/22 | B22: 5.548 | C22: 44819 | D22: 42794 | E22: 0.93220949 | F22: 1.31076 | G22: 1.2733308 | H22: 1.248323 | I22: 1.252255 | J22: 6M | L22: 0 | M22: 101.075 | N22: 101.075 | O22: Bond Price | P22: Price | Q22: Cont. | R22: act/act ISMA | S22: 1.45 | T22: 1 | U22: 0 | V22: Fixed | W22: 100 | Z22: =-LN(E22)/(YEARFRAC(D22,C22,3)) -> 0.012652921 | AA22: =+Z22+$AE$1 -> 0.012652921 | AB22: =EXP(-AA22*YEARFRAC(D22,C22,3)) -> 0.93220949
A23: 6 Years * | B23: 6.003 | C23: 44985 | D23: 42794 | E23: 0.91275591 | F23: 1.5923255 | G23: 1.5323742 | H23: 1.492667 | I23: 1.498255 | Z23: =-LN(E23)/(YEARFRAC(D23,C23,3)) -> 0.015207519 | AA23: =+Z23+$AE$1 -> 0.015207519 | AB23: =EXP(-AA23*YEARFRAC(D23,C23,3)) -> 0.91275591
A24: BTPS 4.5 5/1/2023 | B24: 6.173 | C24: 45047 | D24: 42794 | E24: 0.9055947 | F24: 1.688862 | G24: 1.6194828 | H24: 1.573946 | I24: 1.579594 | J24: 6M | L24: 0 | M24: 117.51 | N24: 117.51 | O24: Bond Price | P24: Price | Q24: Cont. | R24: act/act ISMA | S24: 4.5 | T24: 1 | U24: 0 | V24: Fixed | W24: 100 | Z24: =-LN(E24)/(YEARFRAC(D24,C24,3)) -> 0.016065091 | AA24: =+Z24+$AE$1 -> 0.016065091 | AB24: =EXP(-AA24*YEARFRAC(D24,C24,3)) -> 0.9055947
A25: BTPS 4 3/4 08/01/23 | B25: 6.425 | C25: 45139 | D25: 42794 | E25: 0.90105567 | F25: 1.709186 | G25: 1.6349141 | H25: 1.589463 | I25: 1.595859 | J25: 6M | L25: 0 | M25: 119.645 | N25: 119.645 | O25: Bond Price | P25: Price | Q25: Cont. | R25: act/act ISMA | S25: 4.75 | T25: 1 | U25: 0 | V25: Fixed | W25: 100 | Z25: =-LN(E25)/(YEARFRAC(D25,C25,3)) -> 0.016216933 | AA25: =+Z25+$AE$1 -> 0.016216933 | AB25: =EXP(-AA25*YEARFRAC(D25,C25,3)) -> 0.90105567
A26: 78 Months * | B26: 6.507 | C26: 45169 | D26: 42794 | E26: 0.89760049 | F26: 1.7532509 | G26: 1.6741124 | H26: 1.626077 | I26: 1.632702 | Z26: =-LN(E26)/(YEARFRAC(D26,C26,3)) -> 0.016602536 | AA26: =+Z26+$AE$1 -> 0.016602536 | AB26: =EXP(-AA26*YEARFRAC(D26,C26,3)) -> 0.89760049
A27: 7 Years * | B27: 7.005 | C27: 45351 | D27: 42794 | E27: 0.87692124 | F27: 2.0034784 | G27: 1.8924756 | H27: 1.82756 | I27: 1.835929 | Z27: =-LN(E27)/(YEARFRAC(D27,C27,3)) -> 0.01874791 | AA27: =+Z27+$AE$1 -> 0.01874791 | AB27: =EXP(-AA27*YEARFRAC(D27,C27,3)) -> 0.87692124
A28: BTPS 4.5 03/01/2024 | B28: 7.008 | C28: 45352 | D28: 42794 | E28: 0.87680894 | F28: 2.0047792 | G28: 1.8935907 | H28: 1.828575 | I28: 1.836956 | J28: 6M | L28: 0 | M28: 117.945 | N28: 117.945 | O28: Bond Price | P28: Price | Q28: Cont. | R28: act/act ISMA | S28: 4.5 | T28: 1 | U28: 0 | V28: Fixed | W28: 100 | Z28: =-LN(E28)/(YEARFRAC(D28,C28,3)) -> 0.018758855 | AA28: =+Z28+$AE$1 -> 0.018758855 | AB28: =EXP(-AA28*YEARFRAC(D28,C28,3)) -> 0.87680894
A29: 90 Months * | B29: 7.507 | C29: 45534 | D29: 42794 | E29: 0.86280864 | F29: 2.1181396 | G29: 1.98515 | H29: 1.914159 | I29: 1.923337 | Z29: =-LN(E29)/(YEARFRAC(D29,C29,3)) -> 0.019657029 | AA29: =+Z29+$AE$1 -> 0.019657029 | AB29: =EXP(-AA29*YEARFRAC(D29,C29,3)) -> 0.86280864
A30: BTPS 3.75 09/01/2024 | B30: 7.512 | C30: 45536 | D30: 42794 | E30: 0.86265604 | F30: 2.1193238 | G30: 1.9860891 | H30: 1.915625 | I30: 1.924168 | J30: 6M | L30: 0 | M30: 113.095 | N30: 113.095 | O30: Bond Price | P30: Price | Q30: Cont. | R30: act/act ISMA | S30: 3.75 | T30: 1 | U30: 0 | V30: Fixed | W30: 100 | Z30: =-LN(E30)/(YEARFRAC(D30,C30,3)) -> 0.019666236 | AA30: =+Z30+$AE$1 -> 0.019666236 | AB30: =EXP(-AA30*YEARFRAC(D30,C30,3)) -> 0.86265604
A31: 8 Years * | B31: 8.005 | C31: 45716 | D31: 42794 | E31: 0.84690934 | F31: 2.2580026 | G31: 2.0972891 | H31: 2.017141 | I31: 2.02734 | Z31: =-LN(E31)/(YEARFRAC(D31,C31,3)) -> 0.020755987 | AA31: =+Z31+$AE$1 -> 0.020755987 | AB31: =EXP(-AA31*YEARFRAC(D31,C31,3)) -> 0.84690934
A32: BTPS 5 03/01/25 | B32: 8.008 | C32: 45717 | D32: 42794 | E32: 0.8468226 | F32: 2.2587404 | G32: 2.0978699 | H32: 2.017976 | I32: 2.026902 | J32: 6M | L32: 0 | M32: 122.565 | N32: 122.565 | O32: Bond Price | P32: Price | Q32: Cont. | R32: act/act ISMA | S32: 5 | T32: 1 | U32: 0 | V32: Fixed | W32: 100 | Z32: =-LN(E32)/(YEARFRAC(D32,C32,3)) -> 0.020761676 | AA32: =+Z32+$AE$1 -> 0.020761676 | AB32: =EXP(-AA32*YEARFRAC(D32,C32,3)) -> 0.8468226
A33: 102 Months * | B33: 8.504 | C33: 45898 | D33: 42794 | E33: 0.83629603 | F33: 2.3018145 | G33: 2.1244427 | H33: 2.044638 | I33: 2.055117 | Z33: =-LN(E33)/(YEARFRAC(D33,C33,3)) -> 0.02102191 | AA33: =+Z33+$AE$1 -> 0.02102191 | AB33: =EXP(-AA33*YEARFRAC(D33,C33,3)) -> 0.83629603
A34: BTPS 2% 12/25 | B34: 8.762 | C34: 45992 | D34: 42794 | E34: 0.83091 | F34: 2.322621 | G34: 2.1366507 | H34: 2.056932 | I34: 2.067682 | J34: 6M | L34: 0 | M34: 99.505 | N34: 99.505 | O34: Bond Price | P34: Price | Q34: Cont. | R34: act/act ISMA | S34: 2 | T34: 1 | U34: 0 | V34: Fixed | W34: 100 | Z34: =-LN(E34)/(YEARFRAC(D34,C34,3)) -> 0.021141443 | AA34: =+Z34+$AE$1 -> 0.021141443 | AB34: =EXP(-AA34*YEARFRAC(D34,C34,3)) -> 0.83091
A35: 9 Years * | B35: 9.003 | C35: 46080 | D35: 42794 | E35: 0.81433792 | F35: 2.5324674 | G35: 2.3075248 | H35: 2.206962 | I35: 2.219185 | Z35: =-LN(E35)/(YEARFRAC(D35,C35,3)) -> 0.02281304 | AA35: =+Z35+$AE$1 -> 0.02281304 | AB35: =EXP(-AA35*YEARFRAC(D35,C35,3)) -> 0.81433792
A36: BTP 4.5 03/01/26 | B36: 9.008 | C36: 46082 | D36: 42794 | E36: 0.81396515 | F36: 2.5371699 | G36: 2.3113052 | H36: 2.209909 | I36: 2.221557 | J36: 6M | L36: 0 | M36: 119.2 | N36: 119.2 | O36: Bond Price | P36: Price | Q36: Cont. | R36: act/act ISMA | S36: 4.5 | T36: 1 | U36: 0 | V36: Fixed | W36: 100 | Z36: =-LN(E36)/(YEARFRAC(D36,C36,3)) -> 0.022849991 | AA36: =+Z36+$AE$1 -> 0.022849991 | AB36: =EXP(-AA36*YEARFRAC(D36,C36,3)) -> 0.81396515
A37: 114 Months * | B37: 9.51 | C37: 46265 | D37: 42794 | E37: 0.80976832 | F37: 2.4703603 | G37: 2.243688 | H37: 2.156084 | I37: 2.167746 | Z37: =-LN(E37)/(YEARFRAC(D37,C37,3)) -> 0.022188876 | AA37: =+Z37+$AE$1 -> 0.022188876 | AB37: =EXP(-AA37*YEARFRAC(D37,C37,3)) -> 0.80976832
A38: BTPS 1.25% 12/01/26 | B38: 9.762 | C38: 46357 | D38: 42794 | E38: 0.80774856 | F38: 2.4382063 | G38: 2.2112713 | H38: 2.129825 | I38: 2.141336 | J38: 6M | L38: 0 | M38: 92.045 | N38: 92.045 | O38: Bond Price | P38: Price | Q38: Cont. | R38: act/act ISMA | S38: 1.25 | T38: 1 | U38: 0 | V38: Fixed | W38: 100 | Z38: =-LN(E38)/(YEARFRAC(D38,C38,3)) -> 0.021871773 | AA38: =+Z38+$AE$1 -> 0.021871773 | AB38: =EXP(-AA38*YEARFRAC(D38,C38,3)) -> 0.80774856
A39: 10 Years * | B39: 10 | C39: 46444 | D39: 42794 | E39: 0.79741461 | F39: 2.5405277 | G39: 2.2896238 | H39: 2.198644 | I39: 2.21078 | Z39: =-LN(E39)/(YEARFRAC(D39,C39,3)) -> 0.022638052 | AA39: =+Z39+$AE$1 -> 0.022638052 | AB39: =EXP(-AA39*YEARFRAC(D39,C39,3)) -> 0.79741461
A40: 126 Months * | B40: 10.51 | C40: 46630 | D40: 42794 | E40: 0.77576265 | F40: 2.7503842 | G40: 2.4453925 | H40: 2.333536 | I40: 2.347205 | Z40: =-LN(E40)/(YEARFRAC(D40,C40,3)) -> 0.024159715 | AA40: =+Z40+$AE$1 -> 0.024159715 | AB40: =EXP(-AA40*YEARFRAC(D40,C40,3)) -> 0.77576265
...

Sheet CurvaSwap6M
A1: Description | B1: Term | C1: Mat. Date | D1: Start Date | E1: Discount Factor | F1: Tasso Continuo | G1: Spot Simple % | H1: Spot Compound % | I1: Yield Simple % | J1: Yield Compound % | K1: I. Rate Freq. | L1: 2nd Leg I. Rate Freq. | M1: Shock % | N1: Shocked Input Rate % | O1: Input I. Rate % | P1: Mkt Instrument | Q1: Input Rate Type | R1: Capitalisation | S1: Day Count
C2: =DATE(2017,8,15) -> 42962 | D2: =D3 -> 42794 | E2: =EXP(-F2*(YEARFRAC(D2,C2,2))) -> 1.0011074 | F2: =+F3 -> -0.0023717367 | J2: =J3 -> -0.352696
A3: 6 Months | B3: 0.511 | C3: 42978 | D3: 42794 | E3: 1.001213 | F3: =-LN(E3)/(YEARFRAC(D3,C3,2)) -> -0.0023717367 | G3: -0.23703004 | H3: -0.23689271 | I3: -0.23703 | J3: -0.352696 | K3: 1Y | M3: 0 | N3: -0.238 | O3: -0.238 | P3: ZC Deposit | Q3: Spot | R3: Simple | S3: act/360
A4: 3M/9M | B4: 0.764 | C4: 43069 | D4: 42794 | E4: 1.0016653 | F4: =-LN(E4)/(YEARFRAC(D4,C4,2)) -> -0.002178276 | G4: -0.21764654 | H4: -0.21759059 | I4: -0.217647 | J4: -0.353852 | K4: 1Y | M4: 0 | N4: -0.208 | O4: -0.208 | P4: Fra Rate | Q4: FRA | R4: Simple | S4: act/360
A5: 6M/1Y | B5: 1.014 | C5: 43159 | D5: 42794 | E5: 1.0021097 | F5: =-LN(E5)/(YEARFRAC(D5,C5,2)) -> -0.0020786495 | G5: -0.20764605 | H5: -0.20764905 | I5: -0.207647 | J5: -0.354009 | K5: 1Y | M5: 0 | N5: -0.178 | O5: -0.178 | P5: Fra Rate | Q5: FRA | R5: Simple | S5: act/360
A6: 1Y/18M | B6: 1.525 | C6: 43343 | D6: 42794 | E6: 1.0027717 | F6: =-LN(E6)/(YEARFRAC(D6,C6,2)) -> -0.001814981 | G6: -0.18124712 | H6: -0.18133346 | I6: -0.181309 | J6: -0.347914 | K6: 1Y | M6: 0 | N6: -0.13 | O6: -0.13 | P6: Fra Rate | Q6: FRA | R6: Simple | S6: act/360
A7: 18M/2Y | B7: 2.028 | C7: 43524 | D7: 42794 | E7: 1.0031651 | F7: =-LN(E7)/(YEARFRAC(D7,C7,2)) -> -0.0015584009 | G7: -0.1555941 | H7: -0.15571871 | I7: -0.155621 | J7: -0.337026 | K7: 1Y | M7: 0 | N7: -0.078 | O7: -0.078 | P7: Fra Rate | Q7: FRA | R7: Simple | S7: act/360
A8: 30 Months * | B8: 2.536 | C8: 43707 | D8: 42794 | E8: 1.0031451 | F8: =-LN(E8)/(YEARFRAC(D8,C8,2)) -> -0.0012381704 | G8: -0.12362284 | H8: -0.12374042 | I8: -0.123567 | J8: -0.3175
A9: 3 Years | B9: 3.042 | C9: 43889 | D9: 42794 | E9: 1.0027751 | F9: =-LN(E9)/(YEARFRAC(D9,C9,2)) -> -0.00091108885 | G9: -0.090982759 | H9: -0.091067392 | I9: -0.090792 | J9: -0.2981 | K9: 1Y | L9: 6M | M9: 0 | N9: -0.092 | O9: -0.092 | P9: Swap Rate | Q9: Yield | R9: Simple | S9: 30/360
A10: 42 Months * | B10: 3.556 | C10: 44074 | D10: 42794 | E10: 1.0017346 | F10: =-LN(E10)/(YEARFRAC(D10,C10,2)) -> -0.00048743671 | G10: -0.048701456 | H10: -0.048731792 | I10: -0.04835 | J10: -0.266674
A11: 4 Years | B11: 4.053 | C11: 44253 | D11: 42794 | E11: 1.0003001 | F11: =-LN(E11)/(YEARFRAC(D11,C11,2)) -> -7.4044023e-05 | G11: -0.007403295 | H11: -0.007404132 | I11: -0.006898 | J11: -0.236298 | K11: 1Y | L11: 6M | M11: 0 | N11: -0.007 | O11: -0.007 | P11: Swap Rate | Q11: Yield | R11: Simple | S11: 30/360
A12: 54 Months * | B12: 4.569 | C12: 44439 | D12: 42794 | E12: 0.99789479 | F12: =-LN(E12)/(YEARFRAC(D12,C12,2)) -> 0.00046120094 | G12: 0.046168728 | H12: 0.046130733 | I12: 0.046706 | J12: -0.192885
A13: 5 Years | B13: 5.072 | C13: 44620 | D13: 42794 | E13: 0.99514359 | F13: =-LN(E13)/(YEARFRAC(D13,C13,2)) -> 0.00095978498 | G13: 0.096212505 | H13: 0.096024576 | I13: 0.096676 | J13: -0.150683 | K13: 1Y | L13: 6M | M13: 0 | N13: 0.098 | O13: 0.098 | P13: Swap Rate | Q13: Yield | R13: Simple | S13: 30/360
A14: 66 Months * | B14: 5.583 | C14: 44804 | D14: 42794 | E14: 0.99151539 | F14: =-LN(E14)/(YEARFRAC(D14,C14,2)) -> 0.0015261153 | G14: 0.15326357 | H14: 0.15272804 | I14: 0.153265 | J14: -0.097506
A15: 6 Years | B15: 6.086 | C15: 44985 | D15: 42794 | E15: 0.9875097 | F15: =-LN(E15)/(YEARFRAC(D15,C15,2)) -> 0.0020651868 | G15: 0.207822 | H15: 0.20673208 | I15: 0.207159 | J15: -0.045251 | K15: 1Y | L15: 6M | M15: 0 | N15: 0.21 | O15: 0.21 | P15: Swap Rate | Q15: Yield | R15: Simple | S15: 30/360
A16: 78 Months * | B16: 6.597 | C16: 45169 | D16: 42794 | E16: 0.98252596 | F16: =-LN(E16)/(YEARFRAC(D16,C16,2)) -> 0.0026721109 | G16: 0.26958025 | H16: 0.26756841 | I16: 0.267567 | J16: 0.014748
A17: 7 Years | B17: 7.103 | C17: 45351 | D17: 42794 | E17: 0.97719342 | F17: =-LN(E17)/(YEARFRAC(D17,C17,2)) -> 0.0032481198 | G17: 0.32858777 | H17: 0.32534006 | I17: 0.32492 | J17: 0.074034 | K17: 1Y | L17: 6M | M17: 0 | N17: 0.329 | O17: 0.329 | P17: Swap Rate | Q17: Yield | R17: Simple | S17: 30/360
A18: 90 Months * | B18: 7.611 | C18: 45534 | D18: 42794 | E18: 0.97096165 | F18: =-LN(E18)/(YEARFRAC(D18,C18,2)) -> 0.0038717485 | G18: 0.39293599 | H18: 0.38792534 | I18: 0.386642 | J18: 0.136836
A19: 8 Years | B19: 8.117 | C19: 45716 | D19: 42794 | E19: 0.96445953 | F19: =-LN(E19)/(YEARFRAC(D19,C19,2)) -> 0.004458408 | G19: 0.4540059 | H19: 0.44683614 | I19: 0.44473 | J19: 0.199244 | K19: 1Y | L19: 6M | M19: 0 | N19: 0.451 | O19: 0.451 | P19: Swap Rate | Q19: Yield | R19: Simple | S19: 30/360
A20: 102 Months * | B20: 8.622 | C20: 45898 | D20: 42794 | E20: 0.95727161 | F20: =-LN(E20)/(YEARFRAC(D20,C20,2)) -> 0.0050646009 | G20: 0.51768091 | H20: 0.50774478 | I20: 0.504308 | J20: 0.25986
A21: 9 Years | B21: 9.128 | C21: 46080 | D21: 42794 | E21: 0.94989289 | F21: =-LN(E21)/(YEARFRAC(D21,C21,2)) -> 0.0056318252 | G21: 0.57790928 | H21: 0.56477138 | I21: 0.560111 | J21: 0.320453 | K21: 1Y | L21: 6M | M21: 0 | N21: 0.568 | O21: 0.568 | P21: Swap Rate | Q21: Yield | R21: Simple | S21: 30/360
A22: 114 Months * | B22: 9.642 | C22: 46265 | D22: 42794 | E22: 0.94192956 | F22: =-LN(E22)/(YEARFRAC(D22,C22,2)) -> 0.0062048175 | G22: 0.63941757 | H22: 0.62241073 | I22: 0.615995 | J22: 0.378536
A23: 10 Years | B23: 10.139 | C23: 46444 | D23: 42794 | E23: 0.93410769 | F23: =-LN(E23)/(YEARFRAC(D23,C23,2)) -> 0.0067229798 | G23: 0.69574069 | H23: 0.67456298 | I23: 0.666616 | J23: 0.434738 | K23: 1Y | L23: 6M | M23: 0 | N23: 0.676 | O23: 0.676 | P23: Swap Rate | Q23: Yield | R23: Simple | S23: 30/360
A24: 126 Months * | B24: 10.656 | C24: 46630 | D24: 42794 | E24: 0.92562652 | F24: =-LN(E24)/(YEARFRAC(D24,C24,2)) -> 0.0072529722 | G24: 0.75406051 | H24: 0.72793388 | I24: 0.717889 | J24: 0.487974
A25: 11 Years | B25: 11.161 | C25: 46812 | D25: 42794 | E25: 0.91730498 | F25: =-LN(E25)/(YEARFRAC(D25,C25,2)) -> 0.0077335743 | G25: 0.80771509 | H25: 0.77635556 | I25: 0.764507 | J25: 0.540102 | K25: 1Y | L25: 6M | M25: 0 | N25: 0.775 | O25: 0.775 | P25: Swap Rate | Q25: Yield | R25: Simple | S25: 30/360
A26: 138 Months * | B26: 11.672 | C26: 46996 | D26: 42794 | E26: 0.90878307 | F26: =-LN(E26)/(YEARFRAC(D26,C26,2)) -> 0.0081945713 | G26: 0.85992715 | H26: 0.82282387 | I26: 0.808754 | J26: 0.586702
A27: 12 Years | B27: 12.175 | C27: 47177 | D27: 42794 | E27: 0.90035686 | F27: =-LN(E27)/(YEARFRAC(D27,C27,2)) -> 0.0086212796 | G27: 0.90899969 | H27: 0.86585498 | I27: 0.849873 | J27: 0.632583 | K27: 1Y | L27: 6M | M27: 0 | N27: 0.862 | O27: 0.862 | P27: Swap Rate | Q27: Yield | R27: Simple | S27: 30/360
A28: 150 Months * | B28: 12.686 | C28: 47361 | D28: 42794 | E28: 0.89174027 | F28: =-LN(E28)/(YEARFRAC(D28,C28,2)) -> 0.0090319531 | G28: 0.95697376 | H28: 0.90728643 | I28: 0.88902 | J28: 0.668252
A29: 13 Years | B29: 13.189 | C29: 47542 | D29: 42794 | E29: 0.88333649 | F29: =-LN(E29)/(YEARFRAC(D29,C29,2)) -> 0.0094055747 | G29: 1.0013841 | H29: 0.94499462 | I29: 0.924891 | J29: 0.703411 | K29: 1Y | L29: 6M | M29: 0 | N29: 0.938 | O29: 0.938 | P29: Swap Rate | Q29: Yield | R29: Simple | S29: 30/360
A30: 162 Months * | B30: 13.697 | C30: 47725 | D30: 42794 | E30: 0.87491212 | F30: =-LN(E30)/(YEARFRAC(D30,C30,2)) -> 0.0097561263 | G30: 1.0438024 | H30: 0.98038724 | I30: 0.958099 | J30: 0.738997
A31: 14 Years | B31: 14.203 | C31: 47907 | D31: 42794 | E31: 0.86661348 | F31: =-LN(E31)/(YEARFRAC(D31,C31,2)) -> 0.010079874 | G31: 1.0837103 | H31: 1.0130847 | I31: 0.988994 | J31: 0.774465 | K31: 1Y | L31: 6M | M31: 0 | N31: 1.003 | O31: 1.003 | P31: Swap Rate | Q31: Yield | R31: Simple | S31: 30/360
A32: 174 Months * | B32: 14.708 | C32: 48089 | D32: 42794 | E32: 0.85843561 | F32: =-LN(E32)/(YEARFRAC(D32,C32,2)) -> 0.010378036 | G32: 1.1211994 | H32: 1.0432074 | I32: 1.01706 | J32: 0.810006
A33: 15 Years | B33: 15.214 | C33: 48271 | D33: 42794 | E33: 0.8503711 | F33: =-LN(E33)/(YEARFRAC(D33,C33,2)) -> 0.010653583 | G33: 1.1565562 | H33: 1.0710535 | I33: 1.043191 | J33: 0.845626 | K33: 1Y | L33: 6M | M33: 0 | N33: 1.058 | O33: 1.058 | P33: Swap Rate | Q33: Yield | R33: Simple | S33: 30/360
A34: 186 Months * | B34: 15.731 | C34: 48457 | D34: 42794 | E34: 0.8422732 | F34: =-LN(E34)/(YEARFRAC(D34,C34,2)) -> 0.010911938 | G34: 1.1904426 | H34: 1.0971691 | I34: 1.067415 | J34: 0.865157
A35: 16 Years | B35: 16.233 | C35: 48638 | D35: 42794 | E35: 0.83451795 | F35: =-LN(E35)/(YEARFRAC(D35,C35,2)) -> 0.0111438 | G35: 1.2215394 | H35: 1.1206124 | I35: 1.089456 | J35: 0.884225 | K35: 1Y | L35: 6M | M35: 0 | N35: 1.105 | O35: 1.105 | P35: Swap Rate | Q35: Yield | R35: Simple | S35: 30/360
A36: 198 Months * | B36: 16.744 | C36: 48822 | D36: 42794 | E36: 0.82680202 | F36: =-LN(E36)/(YEARFRAC(D36,C36,2)) -> 0.011358394 | G36: 1.2510381 | H36: 1.1423146 | I36: 1.109554 | J36: 0.90365
A37: 17 Years | B37: 17.247 | C37: 49003 | D37: 42794 | E37: 0.81935107 | F37: =-LN(E37)/(YEARFRAC(D37,C37,2)) -> 0.011552157 | G37: 1.2783395 | H37: 1.1619141 | I37: 1.12796 | J37: 0.922805 | K37: 1Y | L37: 6M | M37: 0 | N37: 1.144 | O37: 1.144 | P37: Swap Rate | Q37: Yield | R37: Simple | S37: 30/360
A38: 210 Months * | B38: 17.758 | C38: 49187 | D38: 42794 | E38: 0.81198546 | F38: =-LN(E38)/(YEARFRAC(D38,C38,2)) -> 0.011728175 | G38: 1.30389 | H38: 1.179722 | I38: 1.144434 | J38: 0.942324
A39: 18 Years | B39: 18.261 | C39: 49368 | D39: 42794 | E39: 0.80487672 | F39: =-LN(E39)/(YEARFRAC(D39,C39,2)) -> 0.011886799 | G39: 1.327555 | H39: 1.1957727 | I39: 1.159525 | J39: 0.961582 | K39: 1Y | L39: 6M | M39: 0 | N39: 1.176 | O39: 1.176 | P39: Swap Rate | Q39: Yield | R39: Simple | S39: 30/360
A40: 222 Months * | B40: 18.772 | C40: 49552 | D40: 42794 | E40: 0.79786006 | F40: =-LN(E40)/(YEARFRAC(D40,C40,2)) -> 0.012029586 | G40: 1.3496145 | H40: 1.2102233 | I40: 1.172901 | J40: 0.981199
...

Sheet CurvaEonia
A1: Description | B1: Term | C1: Mat. Date | D1: Start Date | E1: Discount Factor | F1: Spot Simple % | G1: Spot Compound % | H1: Yield Simple % | I1: Yield Compound % | J1: I. Rate Freq. | K1: 2nd Leg I. Rate Freq. | L1: Shock % | M1: Shocked Input Rate % | N1: Input I. Rate % | O1: Mkt Instrument | P1: Input Rate Type | Q1: Capitalisation | R1: Day Count
A2: OVN | B2: 0.008 | C2: 42793 | D2: 42790 | E2: 1.0000333 | F2: -0.4 | G2: -0.39920771 | H2: -0.4 | I2: -0.399208 | J2: 1Y | L2: 0 | M2: -0.4 | N2: -0.4 | O2: ZC Deposit | P2: Spot | Q2: Simple | R2: act/360
A3: TN | B3: 0.003 | C3: 42794 | D3: 42793 | E3: 1.0000111 | F3: -0.4 | G3: -0.39920328 | H3: -0.4 | I3: -0.399204 | J3: 1Y | L3: 0 | M3: -0.4 | N3: -0.4 | O3: ZC Deposit | P3: Spot | Q3: Simple | R3: act/360
A4: SN | B4: 0.003 | C4: 42795 | D4: 42794 | E4: 1.0000117 | F4: -0.42 | G4: -0.41912167 | H4: -0.42 | I4: -0.419122 | J4: 1Y | L4: 0 | M4: -0.42 | N4: -0.42 | O4: ZC Deposit | P4: Spot | Q4: Simple | R4: act/360
A5: 1 Week | B5: 0.019 | C5: 42801 | D5: 42794 | E5: 1.0000684 | F5: -0.352 | G5: -0.35139321 | H5: -0.352 | I5: -0.351393 | J5: 1Y | L5: 0 | M5: -0.352 | N5: -0.352 | O5: ZC Deposit | P5: Spot | Q5: Simple | R5: act/360
A6: 2 Weeks | B6: 0.039 | C6: 42808 | D6: 42794 | E6: 1.0001373 | F6: -0.353 | G6: -0.35240183 | H6: -0.353 | I6: -0.352402 | J6: 1Y | L6: 0 | M6: -0.353 | N6: -0.353 | O6: ZC Deposit | P6: Spot | Q6: Simple | R6: act/360
A7: 3 Weeks | B7: 0.058 | C7: 42815 | D7: 42794 | E7: 1.0002065 | F7: -0.354 | G7: -0.35341059 | H7: -0.354 | I7: -0.353411 | J7: 1Y | L7: 0 | M7: -0.354 | N7: -0.354 | O7: ZC Deposit | P7: Spot | Q7: Simple | R7: act/360
A8: 1 Month | B8: 0.086 | C8: 42825 | D8: 42794 | E8: 1.0003049 | F8: -0.354 | G8: -0.35342793 | H8: -0.354 | I8: -0.353428 | J8: 1Y | L8: 0 | M8: -0.354 | N8: -0.354 | O8: ZC Deposit | P8: Spot | Q8: Simple | R8: act/360
A9: 2 Months | B9: 0.164 | C9: 42853 | D9: 42794 | E9: 1.0005789 | F9: -0.353 | G9: -0.35247948 | H9: -0.353 | I9: -0.35248 | J9: 1Y | L9: 0 | M9: -0.353 | N9: -0.353 | O9: ZC Deposit | P9: Spot | Q9: Simple | R9: act/360
A10: 3 Months | B10: 0.256 | C10: 42886 | D10: 42794 | E10: 1.0009029 | F10: -0.353 | G10: -0.35253644 | H10: -0.353 | I10: -0.352537 | J10: 1Y | L10: 0 | M10: -0.353 | N10: -0.353 | O10: ZC Deposit | P10: Spot | Q10: Simple | R10: act/360
A11: 4 Months | B11: 0.339 | C11: 42916 | D11: 42794 | E11: 1.0012011 | F11: -0.354 | G11: -0.35358592 | H11: -0.354 | I11: -0.353586 | J11: 1Y | L11: 0 | M11: -0.354 | N11: -0.354 | O11: ZC Deposit | P11: Spot | Q11: Simple | R11: act/360
A12: 5 Months | B12: 0.425 | C12: 42947 | D12: 42794 | E12: 1.0015025 | F12: -0.353 | G12: -0.35264181 | H12: -0.353 | I12: -0.352642 | J12: 1Y | L12: 0 | M12: -0.353 | N12: -0.353 | O12: ZC Deposit | P12: Spot | Q12: Simple | R12: act/360
A13: 6 Months | B13: 0.511 | C13: 42978 | D13: 42794 | E13: 1.0018075 | F13: -0.353 | G13: -0.35269539 | H13: -0.353 | I13: -0.352696 | J13: 1Y | L13: 0 | M13: -0.353 | N13: -0.353 | O13: ZC Deposit | P13: Spot | Q13: Simple | R13: act/360
... A19: 1 Year | B19: 1.014 | C19: 43159 | D19: 42794 | E19: 1.0036021 | F19: -0.354 | G19: -0.35400871 | H19: -0.354001 | I19: -0.354009 | J19: 1Y | L19: 0 | M19: -0.354 | N19: -0.354 | O19: ZC Deposit | P19: Spot | Q19: Simple | R19: act/360
A20: 15 Months | B20: 1.269 | C20: 43251 | D20: 42794 | E20: 1.0044726 | F20: -0.35075705 | G20: -0.3509231 | H20: -0.351001 | I20: -0.350915 | J20: 1Y | K20: 1Y | L20: 0 | M20: -0.351 | N20: -0.351 | O20: Swap Rate | P20: Yield | Q20: Simple | R20: act/360
A21: 18 Months | B21: 1.525 | C21: 43343 | D21: 42794 | E21: 1.0053292 | F21: -0.34760253 | G21: -0.34792046 | H21: -0.348001 | I21: -0.347907 | J21: 1Y | K21: 1Y | L21: 0 | M21: -0.348 | N21: -0.348 | O21: Swap Rate | P21: Yield | Q21: Simple | R21: act/360
A22: 21 Months | B22: 1.778 | C22: 43434 | D22: 42794 | E22: 1.0061264 | F22: -0.34250922 | G22: -0.34296677 | H22: -0.343002 | I22: -0.342946 | J22: 1Y | K22: 1Y | L22: 0 | M22: -0.343 | N22: -0.343 | O22: Swap Rate | P22: Yield | Q22: Simple | R22: act/360
A23: 2 Years | B23: 2.028 | C23: 43524 | D23: 42794 | E23: 1.0068694 | F23: -0.33645322 | G23: -0.33703694 | H23: -0.337002 | I23: -0.33701 | J23: 1Y | K23: 1Y | L23: 0 | M23: -0.337 | N23: -0.337 | O23: Swap Rate | P23: Yield | Q23: Simple | R23: act/360
A24: 3 Years | B24: 3.042 | C24: 43889 | D24: 42794 | E24: 1.0091234 | F24: -0.29723464 | G24: -0.2981411 | H24: -0.298 | I24: -0.298006 | J24: 1Y | K24: 1Y | L24: 0 | M24: -0.298 | N24: -0.298 | O24: Swap Rate | P24: Yield | Q24: Simple | R24: act/360
A25: 4 Years | B25: 4.053 | C25: 44253 | D25: 42794 | E25: 1.0096344 | F25: -0.23545567 | G25: -0.23630664 | H25: -0.236 | I25: -0.236003 | J25: 1Y | K25: 1Y | L25: 0 | M25: -0.236 | N25: -0.236 | O25: Swap Rate | P25: Yield | Q25: Simple | R25: act/360
A26: 5 Years | B26: 5.072 | C26: 44620 | D26: 42794 | E26: 1.0076645 | F26: -0.14995733 | G26: -0.1504173 | H26: -0.15 | I26: -0.150001 | J26: 1Y | K26: 1Y | L26: 0 | M26: -0.15 | N26: -0.15 | O26: Swap Rate | P26: Yield | Q26: Simple | R26: act/360
A27: 6 Years | B27: 6.086 | C27: 44985 | D27: 42794 | E27: 1.0026956 | F27: -0.044171237 | G27: -0.044220937 | H27: -0.044 | I27: -0.044 | J27: 1Y | K27: 1Y | L27: 0 | M27: -0.044 | N27: -0.044 | O27: Swap Rate | P27: Yield | Q27: Simple | R27: act/360
A28: 7 Years | B28: 7.103 | C28: 45351 | D28: 42794 | E28: 0.99457556 | F28: 0.076787178 | G28: 0.076607866 | H28: 0.076 | I28: 0.076 | J28: 1Y | K28: 1Y | L28: 0 | M28: 0.076 | N28: 0.076 | O28: Swap Rate | P28: Yield | Q28: Simple | R28: act/360
A29: 8 Years | B29: 8.117 | C29: 45716 | D29: 42794 | E29: 0.98356801 | F29: 0.20582966 | G29: 0.20433771 | H29: 0.202002 | I29: 0.201999 | J29: 1Y | K29: 1Y | L29: 0 | M29: 0.202 | N29: 0.202 | O29: Swap Rate | P29: Yield | Q29: Simple | R29: act/360
A30: 9 Years | B30: 9.128 | C30: 46080 | D30: 42794 | E30: 0.9704645 | F30: 0.33342608 | G30: 0.32899292 | H30: 0.324 | I30: 0.323993 | J30: 1Y | K30: 1Y | L30: 0 | M30: 0.324 | N30: 0.324 | O30: Swap Rate | P30: Yield | Q30: Simple | R30: act/360
A31: 10 Years | B31: 10.139 | C31: 46444 | D31: 42794 | E31: 0.95573891 | F31: 0.45676461 | G31: 0.44750195 | H31: 0.439 | I31: 0.438989 | J31: 1Y | K31: 1Y | L31: 0 | M31: 0.439 | N31: 0.439 | O31: Swap Rate | P31: Yield | Q31: Simple | R31: act/360
... A33: 12 Years | B33: 12.175 | C33: 47177 | D33: 42794 | E33: 0.92357173 | F33: 0.67969552 | G33: 0.65517023 | H33: 0.638 | I33: 0.637976 | J33: 1Y | K33: 1Y | L33: 0 | M33: 0.638 | N33: 0.638 | O33: Swap Rate | P33: Yield | Q33: Simple | R33: act/360
A34: 13 Years * | B34: 13.189 | C34: 47542 | D34: 42794 | E34: 0.90848437 | F34: 0.76378236 | G34: 0.73036987 | H34: 0.709398 | I34: 0.709368
A35: 14 Years * | B35: 14.203 | C35: 47907 | D35: 42794 | E35: 0.89221052 | F35: 0.85062029 | G35: 0.80626717 | H35: 0.780797 | I35: 0.78076
A36: 15 Years | B36: 15.214 | C36: 48271 | D36: 42794 | E36: 0.87484442 | F36: 0.94032749 | G36: 0.88273613 | H36: 0.851998 | I36: 0.851955 | J36: 1Y | K36: 1Y | L36: 0 | M36: 0.852 | N36: 0.852 | O36: Swap Rate | P36: Yield | Q36: Simple | R36: act/360
A37: 16 Years * | B37: 16.233 | C37: 48638 | D37: 42794 | E37: 0.86129678 | F37: 0.99203272 | G37: 0.9240552 | H37: 0.89097 | I37: 0.890923
A38: 17 Years * | B38: 17.247 | C38: 49003 | D38: 42794 | E38: 0.84727637 | F38: 1.0451099 | G38: 0.96553019 | H38: 0.929727 | I38: 0.929676
A39: 18 Years * | B39: 18.261 | C39: 49368 | D39: 42794 | E39: 0.83273288 | F39: 1.0999619 | G39: 1.007402 | H39: 0.968483 | I39: 0.968427
A40: 19 Years * | B40: 19.278 | C40: 49734 | D40: 42794 | E40: 0.8176469 | F40: 1.1568855 | G40: 1.0498078 | H40: 1.007352 | I40: 1.00729
A41: 20 Years | B41: 20.289 | C41: 50098 | D41: 42794 | E41: 0.80216623 | F41: 1.2155639 | G41: 1.092427 | H41: 1.045999 | I41: 1.045933 | J41: 1Y | K41: 1Y | L41: 0 | M41: 1.046 | N41: 1.046 | O41: Swap Rate | P41: Yield | Q41: Simple | R41: act/360
A42: 21 Years * | B42: 21.3 | C42: 50462 | D42: 42794 | E42: 0.79062319 | F42: 1.24331 | G42: 1.1090808 | H42: 1.062136 | I42: 1.062069
A43: 22 Years * | B43: 22.319 | C43: 50829 | D43: 42794 | E43: 0.7788532 | F43: 1.2721598 | G43: 1.1260912 | H43: 1.078408 | I43: 1.07834
A44: 23 Years * | B44: 23.336 | C44: 51195 | D44: 42794 | E44: 0.76698998 | F44: 1.3018365 | G44: 1.1432715 | H44: 1.094636 | I44: 1.094565
A45: 24 Years * | B45: 24.35 | C45: 51560 | D45: 42794 | E45: 0.75504171 | F45: 1.332362 | G45: 1.1606148 | H45: 1.110816 | I45: 1.110742
A46: 25 Years | B46: 25.364 | C46: 51925 | D46: 42794 | E46: 0.74298346 | F46: 1.3638484 | G46: 1.1781637 | H46: 1.127 | I46: 1.126923 | J46: 1Y | K46: 1Y | L46: 0 | M46: 1.127 | N46: 1.127 | O46: Swap Rate | P46: Yield | Q46: Simple | R46: act/360
...

Sheet 1.DatiInput_Swap6M
A1: Description | B1: Term | C1: Mat. Date | D1: Start Date | E1: Discount Factor | F1: Tasso Continuo | G1: Spot Simple % | H1: Spot Compound % | I1: Yield Simple % | J1: Yield Compound % | K1: I. Rate Freq. | L1: 2nd Leg I. Rate Freq. | M1: Shock % | N1: Shocked Input Rate % | O1: Input I. Rate % | P1: Mkt Instrument | Q1: Input Rate Type | R1: Capitalisation | S1: Day Count
A2: 6 Months | B2: 0.511 | C2: 42978 | D2: 42794 | E2: 1.001213 | F2: -0.0023717367 | G2: -0.23703004 | H2: -0.23689271 | I2: -0.23703 | J2: -0.352696 | K2: 1Y | M2: 0 | N2: -0.238 | O2: -0.238 | P2: ZC Deposit | Q2: Spot | R2: Simple | S2: act/360 | V2: mettere ticker Bloomberg
A3: 3M/9M | B3: 0.764 | C3: 43069 | D3: 42794 | E3: 1.0016653 | F3: -0.002178276 | G3: -0.21764654 | H3: -0.21759059 | I3: -0.217647 | J3: -0.353852 | K3: 1Y | M3: 0 | N3: -0.208 | O3: -0.208 | P3: Fra Rate | Q3: FRA | R3: Simple | S3: act/360
A4: 6M/1Y | B4: 1.014 | C4: 43159 | D4: 42794 | E4: 1.0021097 | F4: -0.0020786495 | G4: -0.20764605 | H4: -0.20764905 | I4: -0.207647 | J4: -0.354009 | K4: 1Y | M4: 0 | N4: -0.178 | O4: -0.178 | P4: Fra Rate | Q4: FRA | R4: Simple | S4: act/360
A5: 1Y/18M | B5: 1.525 | C5: 43343 | D5: 42794 | E5: 1.0027717 | F5: -0.001814981 | G5: -0.18124712 | H5: -0.18133346 | I5: -0.181309 | J5: -0.347914 | K5: 1Y | M5: 0 | N5: -0.13 | O5: -0.13 | P5: Fra Rate | Q5: FRA | R5: Simple | S5: act/360
A6: 18M/2Y | B6: 2.028 | C6: 43524 | D6: 42794 | E6: 1.0031651 | F6: -0.0015584009 | G6: -0.1555941 | H6: -0.15571871 | I6: -0.155621 | J6: -0.337026 | K6: 1Y | M6: 0 | N6: -0.078 | O6: -0.078 | P6: Fra Rate | Q6: FRA | R6: Simple | S6: act/360
A7: 3 Years | B7: 3.042 | C7: 43889 | D7: 42794 | E7: 1.0027751 | F7: -0.00091108885 | G7: -0.090982759 | H7: -0.091067392 | I7: -0.090792 | J7: -0.2981 | K7: 1Y | L7: 6M | M7: 0 | N7: -0.092 | O7: -0.092 | P7: Swap Rate | Q7: Yield | R7: Simple | S7: 30/360
A8: 4 Years | B8: 4.053 | C8: 44253 | D8: 42794 | E8: 1.0003001 | F8: -7.4044023e-05 | G8: -0.007403295 | H8: -0.007404132 | I8: -0.006898 | J8: -0.236298 | K8: 1Y | L8: 6M | M8: 0 | N8: -0.007 | O8: -0.007 | P8: Swap Rate | Q8: Yield | R8: Simple | S8: 30/360
A9: 5 Years | B9: 5.072 | C9: 44620 | D9: 42794 | E9: 0.99514359 | F9: 0.00095978498 | G9: 0.096212505 | H9: 0.096024576 | I9: 0.096676 | J9: -0.150683 | K9: 1Y | L9: 6M | M9: 0 | N9: 0.098 | O9: 0.098 | P9: Swap Rate | Q9: Yield | R9: Simple | S9: 30/360
A10: 6 Years | B10: 6.086 | C10: 44985 | D10: 42794 | E10: 0.9875097 | F10: 0.0020651868 | G10: 0.207822 | H10: 0.20673208 | I10: 0.207159 | J10: -0.045251 | K10: 1Y | L10: 6M | M10: 0 | N10: 0.21 | O10: 0.21 | P10: Swap Rate | Q10: Yield | R10: Simple | S10: 30/360
A11: 7 Years | B11: 7.103 | C11: 45351 | D11: 42794 | E11: 0.97719342 | F11: 0.0032481198 | G11: 0.32858777 | H11: 0.32534006 | I11: 0.32492 | J11: 0.074034 | K11: 1Y | L11: 6M | M11: 0 | N11: 0.329 | O11: 0.329 | P11: Swap Rate | Q11: Yield | R11: Simple | S11: 30/360
A12: 8 Years | B12: 8.117 | C12: 45716 | D12: 42794 | E12: 0.96445953 | F12: 0.004458408 | G12: 0.4540059 | H12: 0.44683614 | I12: 0.44473 | J12: 0.199244 | K12: 1Y | L12: 6M | M12: 0 | N12: 0.451 | O12: 0.451 | P12: Swap Rate | Q12: Yield | R12: Simple | S12: 30/360
A13: 9 Years | B13: 9.128 | C13: 46080 | D13: 42794 | E13: 0.94989289 | F13: 0.0056318252 | G13: 0.57790928 | H13: 0.56477138 | I13: 0.560111 | J13: 0.320453 | K13: 1Y | L13: 6M | M13: 0 | N13: 0.568 | O13: 0.568 | P13: Swap Rate | Q13: Yield | R13: Simple | S13: 30/360
A14: 10 Years | B14: 10.139 | C14: 46444 | D14: 42794 | E14: 0.93410769 | F14: 0.0067229798 | G14: 0.69574069 | H14: 0.67456298 | I14: 0.666616 | J14: 0.434738 | K14: 1Y | L14: 6M | M14: 0 | N14: 0.676 | O14: 0.676 | P14: Swap Rate | Q14: Yield | R14: Simple | S14: 30/360
A15: 11 Years | B15: 11.161 | C15: 46812 | D15: 42794 | E15: 0.91730498 | F15: 0.0077335743 | G15: 0.80771509 | H15: 0.77635556 | I15: 0.764507 | J15: 0.540102 | K15: 1Y | L15: 6M | M15: 0 | N15: 0.775 | O15: 0.775 | P15: Swap Rate | Q15: Yield | R15: Simple | S15: 30/360
A16: 12 Years | B16: 12.175 | C16: 47177 | D16: 42794 | E16: 0.90035686 | F16: 0.0086212796 | G16: 0.90899969 | H16: 0.86585498 | I16: 0.849873 | J16: 0.632583 | K16: 1Y | L16: 6M | M16: 0 | N16: 0.862 | O16: 0.862 | P16: Swap Rate | Q16: Yield | R16: Simple | S16: 30/360
A17: 13 Years | B17: 13.189 | C17: 47542 | D17: 42794 | E17: 0.88333649 | F17: 0.0094055747 | G17: 1.0013841 | H17: 0.94499462 | I17: 0.924891 | J17: 0.703411 | K17: 1Y | L17: 6M | M17: 0 | N17: 0.938 | O17: 0.938 | P17: Swap Rate | Q17: Yield | R17: Simple | S17: 30/360
A18: 14 Years | B18: 14.203 | C18: 47907 | D18: 42794 | E18: 0.86661348 | F18: 0.010079874 | G18: 1.0837103 | H18: 1.0130847 | I18: 0.988994 | J18: 0.774465 | K18: 1Y | L18: 6M | M18: 0 | N18: 1.003 | O18: 1.003 | P18: Swap Rate | Q18: Yield | R18: Simple | S18: 30/360
... A38: 60 Years | B38: 60.869 | C38: 64707 | D38: 42794 | E38: 0.48648934 | F38: 0.011837471 | G38: 1.7341107 | H38: 1.1907811 | I38: 1.198672 | J38: 1.11851 | K38: 1Y | L38: 6M | M38: 0 | N38: 1.216 | O38: 1.216 | P38: Swap Rate | Q38: Yield | R38: Simple | S38: 30/360

Sheet 1.DatiInputGVT
A1: Description | B1: Term | C1: Mat. Date | D1: Start Date | E1: Discount Factor | F1: Spot Simple % | G1: Spot Compound % | H1: Yield Simple % | I1: Yield Compound % | J1: I. Rate Freq. | K1: H.S. Tenor | L1: Shock % | M1: Shocked I. Rate % / Price | N1: Input I. Rate % / Price | O1: Mkt Instrument | P1: Input Rate Type | Q1: Capitalisation | R1: Day Count | S1: Coupon I. Rate % | T1: Reference Data | U1: Annual Spread % | V1: Rate Type | W1: Redemption Price | X1: Rating Agency | Y1: Rating
A2: BOTS 0 10/13/2017 | B2: 0.622 | C2: 43021 | D2: 42794 | E2: 1.001962 | F2: -0.31486442 | G2: -0.31467696 | H2: -0.314865 | I2: -0.314677 | J2: 1Y | L2: 0 | M2: 100.1935 | N2: 100.1935 | O2: Bond ZC Price | P2: ZC Price | Q2: Cont. | R2: act/360 | S2: -0.15 | T2: 1 | U2: 0 | V2: Fixed | W2: 100.15
A3: BTPS 4 1/2 03/19 | B3: 2.003 | C3: 43525 | D3: 42794 | E3: 0.99717289 | F3: 0.14156213 | G3: 0.1414618 | H3: 0.141115 | I3: 0.141165 | J3: 6M | L3: 0 | M3: 108.705 | N3: 108.705 | O3: Bond Price | P3: Price | Q3: Cont. | R3: act/act ISMA | S3: 4.5 | T3: 1 | U3: 0 | V3: Fixed | W3: 100
A4: BTPS 0.65 11/01/20 | B4: 3.677 | C4: 44136 | D4: 42794 | E4: 0.97991335 | F4: 0.55751973 | G4: 0.55340818 | H4: 0.551214 | I4: 0.55159 | J4: 6M | L4: 0 | M4: 100.355 | N4: 100.355 | O4: Bond Price | P4: Price | Q4: Cont. | R4: act/act ISMA | S4: 0.65 | T4: 1 | U4: 0 | V4: Fixed | W4: 100
A5: BTPS 2.15 12/21 | B5: 4.797 | C5: 44545 | D5: 42794 | E5: 0.95115499 | F5: 1.0704728 | G5: 1.0493603 | H5: 1.032875 | I5: 1.035617 | J5: 6M | L5: 0 | M5: 105.26 | N5: 105.26 | O5: Bond Price | P5: Price | Q5: Cont. | R5: act/act ISMA | S5: 2.15 | T5: 1 | U5: 0 | V5: Fixed | W5: 100
A6: BTPS 1.35% 04/22 | B6: 5.129 | C6: 44666 | D6: 42794 | E6: 0.94237887 | F6: 1.1921838 | G6: 1.1638779 | H6: 1.146122 | I6: 1.147086 | J6: 6M | L6: 0 | M6: 101.01 | N6: 101.01 | O6: Bond Price | P6: Price | Q6: Cont. | R6: act/act ISMA | S6: 1.35 | T6: 1 | U6: 0 | V6: Fixed | W6: 100
A7: BTPS 1.45 09/15/22 | B7: 5.548 | C7: 44819 | D7: 42794 | E7: 0.93220949 | F7: 1.31076 | G7: 1.2733308 | H7: 1.248323 | I7: 1.252255 | J7: 6M | L7: 0 | M7: 101.075 | N7: 101.075 | O7: Bond Price | P7: Price | Q7: Cont. | R7: act/act ISMA | S7: 1.45 | T7: 1 | U7: 0 | V7: Fixed | W7: 100
A8: BTPS 4.5 5/1/2023 | B8: 6.173 | C8: 45047 | D8: 42794 | E8: 0.9055947 | F8: 1.688862 | G8: 1.6194828 | H8: 1.573946 | I8: 1.579594 | J8: 6M | L8: 0 | M8: 117.51 | N8: 117.51 | O8: Bond Price | P8: Price | Q8: Cont. | R8: act/act ISMA | S8: 4.5 | T8: 1 | U8: 0 | V8: Fixed | W8: 100
A9: BTPS 4 3/4 08/01/23 | B9: 6.425 | C9: 45139 | D9: 42794 | E9: 0.90105567 | F9: 1.709186 | G9: 1.6349141 | H9: 1.589463 | I9: 1.595859 | J9: 6M | L9: 0 | M9: 119.645 | N9: 119.645 | O9: Bond Price | P9: Price | Q9: Cont. | R9: act/act ISMA | S9: 4.75 | T9: 1 | U9: 0 | V9: Fixed | W9: 100
A10: BTPS 4.5 03/01/2024 | B10: 7.008 | C10: 45352 | D10: 42794 | E10: 0.87680894 | F10: 2.0047792 | G10: 1.8935907 | H10: 1.828575 | I10: 1.836956 | J10: 6M | L10: 0 | M10: 117.945 | N10: 117.945 | O10: Bond Price | P10: Price | Q10: Cont. | R10: act/act ISMA | S10: 4.5 | T10: 1 | U10: 0 | V10: Fixed | W10: 100
A11: BTPS 3.75 09/01/2024 | B11: 7.512 | C11: 45536 | D11: 42794 | E11: 0.86265604 | F11: 2.1193238 | G11: 1.9860891 | H11: 1.915625 | I11: 1.924168 | J11: 6M | L11: 0 | M11: 113.095 | N11: 113.095 | O11: Bond Price | P11: Price | Q11: Cont. | R11: act/act ISMA | S11: 3.75 | T11: 1 | U11: 0 | V11: Fixed | W11: 100
A12: BTPS 5 03/01/25 | B12: 8.008 | C12: 45717 | D12: 42794 | E12: 0.8468226 | F12: 2.2587404 | G12: 2.0978699 | H12: 2.017976 | I12: 2.026902 | J12: 6M | L12: 0 | M12: 122.565 | N12: 122.565 | O12: Bond Price | P12: Price | Q12: Cont. | R12: act/act ISMA | S12: 5 | T12: 1 | U12: 0 | V12: Fixed | W12: 100
A13: BTPS 2% 12/25 | B13: 8.762 | C13: 45992 | D13: 42794 | E13: 0.83091 | F13: 2.322621 | G13: 2.1366507 | H13: 2.056932 | I13: 2.067682 | J13: 6M | L13: 0 | M13: 99.505 | N13: 99.505 | O13: Bond Price | P13: Price | Q13: Cont. | R13: act/act ISMA | S13: 2 | T13: 1 | U13: 0 | V13: Fixed | W13: 100
... A24: BTPS 2.7% 03/01/47 | B24: 30.022 | C24: 53752 | D24: 42794 | E24: 0.3617647 | F24: 5.8764656 | G24: 3.4447325 | H24: 3.205996 | I24: 3.23179 | J24: 6M | L24: 0 | M24: 89.87 | N24: 89.87 | O24: Bond Price | P24: Price | Q24: Cont. | R24: act/act ISMA | S24: 2.7 | T24: 1 | U24: 0 | V24: Fixed | W24: 100

Sheet 1_DatiInput_Eonia
A1: Description | B1: Term | C1: Mat. Date | D1: Start Date | E1: Discount Factor | F1: Spot Simple % | G1: Spot Compound % | H1: Yield Simple % | I1: Yield Compound % | J1: I. Rate Freq. | K1: 2nd Leg I. Rate Freq. | L1: Shock % | M1: Shocked Input Rate % | N1: Input I. Rate %
A2: OVN | B2: 0.008 | C2: 42793 | D2: 42790 | E2: 1.0000333 | F2: -0.4 | G2: -0.39920771 | H2: -0.4 | I2: -0.399208 | J2: 1Y | L2: 0 | M2: -0.4 | N2: -0.4 | P2: mettere ticker Bloomberg
A3: TN | B3: 0.003 | C3: 42794 | D3: 42793 | E3: 1.0000111 | F3: -0.4 | G3: -0.39920328 | H3: -0.4 | I3: -0.399204 | J3: 1Y | L3: 0 | M3: -0.4 | N3: -0.4
A4: SN | B4: 0.003 | C4: 42795 | D4: 42794 | E4: 1.0000117 | F4: -0.42 | G4: -0.41912167 | H4: -0.42 | I4: -0.419122 | J4: 1Y | L4: 0 | M4: -0.42 | N4: -0.42
A5: 1 Week | B5: 0.019 | C5: 42801 | D5: 42794 | E5: 1.0000684 | F5: -0.352 | G5: -0.35139321 | H5: -0.352 | I5: -0.351393 | J5: 1Y | L5: 0 | M5: -0.352 | N5: -0.352
A6: 2 Weeks | B6: 0.039 | C6: 42808 | D6: 42794 | E6: 1.0001373 | F6: -0.353 | G6: -0.35240183 | H6: -0.353 | I6: -0.352402 | J6: 1Y | L6: 0 | M6: -0.353 | N6: -0.353
A7: 3 Weeks | B7: 0.058 | C7: 42815 | D7: 42794 | E7: 1.0002065 | F7: -0.354 | G7: -0.35341059 | H7: -0.354 | I7: -0.353411 | J7: 1Y | L7: 0 | M7: -0.354 | N7: -0.354
A8: 1 Month | B8: 0.086 | C8: 42825 | D8: 42794 | E8: 1.0003049 | F8: -0.354 | G8: -0.35342793 | H8: -0.354 | I8: -0.353428 | J8: 1Y | L8: 0 | M8: -0.354 | N8: -0.354
A9: 2 Months | B9: 0.164 | C9: 42853 | D9: 42794 | E9: 1.0005789 | F9: -0.353 | G9: -0.35247948 | H9: -0.353 | I9: -0.35248 | J9: 1Y | L9: 0 | M9: -0.353 | N9: -0.353
A10: 3 Months | B10: 0.256 | C10: 42886 | D10: 42794 | E10: 1.0009029 | F10: -0.353 | G10: -0.35253644 | H10: -0.353 | I10: -0.352537 | J10: 1Y | L10: 0 | M10: -0.353 | N10: -0.353
A11: 4 Months | B11: 0.339 | C11: 42916 | D11: 42794 | E11: 1.0012011 | F11: -0.354 | G11: -0.35358592 | H11: -0.354 | I11: -0.353586 | J11: 1Y | L11: 0 | M11: -0.354 | N11: -0.354
A12: 5 Months | B12: 0.425 | C12: 42947 | D12: 42794 | E12: 1.0015025 | F12: -0.353 | G12: -0.35264181 | H12: -0.353 | I12: -0.352642 | J12: 1Y | L12: 0 | M12: -0.353 | N12: -0.353
A13: 6 Months | B13: 0.511 | C13: 42978 | D13: 42794 | E13: 1.0018075 | F13: -0.353 | G13: -0.35269539 | H13: -0.353 | I13: -0.352696 | J13: 1Y | L13: 0 | M13: -0.353 | N13: -0.353
A14: 7 Months | B14: 0.592 | C14: 43007 | D14: 42794 | E14: 1.0020989 | F14: -0.354 | G14: -0.35374409 | H14: -0.354 | I14: -0.353745 | J14: 1Y | L14: 0 | M14: -0.354 | N14: -0.354
... A19: 1 Year | B19: 1.014 | C19: 43159 | D19: 42794 | E19: 1.0036021 | F19: -0.354 | G19: -0.35400871 | H19: -0.354001 | I19: -0.354009 | J19: 1Y | L19: 0 | M19: -0.354 | N19: -0.354
A20: 15 Months | B20: 1.269 | C20: 43251 | D20: 42794 | E20: 1.0044726 | F20: -0.35075705 | G20: -0.3509231 | H20: -0.351001 | I20: -0.350915 | J20: 1Y | K20: 1Y | L20: 0 | M20: -0.351 | N20: -0.351
A21: 18 Months | B21: 1.525 | C21: 43343 | D21: 42794 | E21: 1.0053292 | F21: -0.34760253 | G21: -0.34792046 | H21: -0.348001 | I21: -0.347907 | J21: 1Y | K21: 1Y | L21: 0 | M21: -0.348 | N21: -0.348
A22: 21 Months | B22: 1.778 | C22: 43434 | D22: 42794 | E22: 1.0061264 | F22: -0.34250922 | G22: -0.34296677 | H22: -0.343002 | I22: -0.342946 | J22: 1Y | K22: 1Y | L22: 0 | M22: -0.343 | N22: -0.343
A23: 2 Years | B23: 2.028 | C23: 43524 | D23: 42794 | E23: 1.0068694 | F23: -0.33645322 | G23: -0.33703694 | H23: -0.337002 | I23: -0.33701 | J23: 1Y | K23: 1Y | L23: 0 | M23: -0.337 | N23: -0.337
A24: 3 Years | B24: 3.042 | C24: 43889 | D24: 42794 | E24: 1.0091234 | F24: -0.29723464 | G24: -0.2981411 | H24: -0.298 | I24: -0.298006 | J24: 1Y | K24: 1Y | L24: 0 | M24: -0.298 | N24: -0.298
A25: 4 Years | B25: 4.053 | C25: 44253 | D25: 42794 | E25: 1.0096344 | F25: -0.23545567 | G25: -0.23630664 | H25: -0.236 | I25: -0.236003 | J25: 1Y | K25: 1Y | L25: 0 | M25: -0.236 | N25: -0.236
A26: 5 Years | B26: 5.072 | C26: 44620 | D26: 42794 | E26: 1.0076645 | F26: -0.14995733 | G26: -0.1504173 | H26: -0.15 | I26: -0.150001 | J26: 1Y | K26: 1Y | L26: 0 | M26: -0.15 | N26: -0.15
A27: 6 Years | B27: 6.086 | C27: 44985 | D27: 42794 | E27: 1.0026956 | F27: -0.044171237 | G27: -0.044220937 | H27: -0.044 | I27: -0.044 | J27: 1Y | K27: 1Y | L27: 0 | M27: -0.044 | N27: -0.044
A28: 7 Years | B28: 7.103 | C28: 45351 | D28: 42794 | E28: 0.99457556 | F28: 0.076787178 | G28: 0.076607866 | H28: 0.076 | I28: 0.076 | J28: 1Y | K28: 1Y | L28: 0 | M28: 0.076 | N28: 0.076
A29: 8 Years | B29: 8.117 | C29: 45716 | D29: 42794 | E29: 0.98356801 | F29: 0.20582966 | G29: 0.20433771 | H29: 0.202002 | I29: 0.201999 | J29: 1Y | K29: 1Y | L29: 0 | M29: 0.202 | N29: 0.202
A30: 9 Years | B30: 9.128 | C30: 46080 | D30: 42794 | E30: 0.9704645 | F30: 0.33342608 | G30: 0.32899292 | H30: 0.324 | I30: 0.323993 | J30: 1Y | K30: 1Y | L30: 0 | M30: 0.324 | N30: 0.324
A31: 10 Years | B31: 10.139 | C31: 46444 | D31: 42794 | E31: 0.95573891 | F31: 0.45676461 | G31: 0.44750195 | H31: 0.439 | I31: 0.438989 | J31: 1Y | K31: 1Y | L31: 0 | M31: 0.439 | N31: 0.439
... A40: 60 Years | B40: 60.869 | C40: 64707 | D40: 42794 | E40: 0.50538286 | F40: 1.607864 | G40: 1.1274605 | H40: 1.118999 | I40: 1.118923 | J40: 1Y | K40: 1Y | L40: 0 | M40: 1.119 | N40: 1.119

Sheet 2.Versione
A2: =_xll.ohVersion() -> 1.8.0 | B2: versione del programma

Sheet 3.DataAnalisi
A1: =DATE(2017,2,24) -> 42790
A2: =_xll.qlSettingsSetEvaluationDate(A1) -> TRUE

Sheet 4.Index_EONIA&Swap6M
I1: qlEonia | M1: qlEuribor
A2: Index | B2: {=_xll.qlEonia(B3)} -> EONIA1#0000 | C2: =_xll.ohRangeRetrieveError(B2)
A3: ObjectID | B3: EONIA1 | I3: string returnValue | M3: string returnValue
I4: qlEonia( | M4: qlEuribor(
I5: string ObjectId | M5: string ObjectId
A6: Index | B6: =_xll.qlEuribor(B7,B8) -> EUR SWAP 6M#0000 | C6: =_xll.ohRangeRetrieveError(B6) | I6: string YieldCurve | M6: string Tenor
A7: ObjectID | B7: EUR SWAP 6M | I7: bool Permanent | M7: string YieldCurve
A8: Tenor | B8: 6M | I8: any Trigger | M8: bool Permanent
A9: yield curve | I9: bool Overwrite) | M9: any Trigger
M10: bool Overwrite)
I11: Description:
A12: Index | B12: =_xll.qlEuribor(B13,B14,B15) -> EUR SWAP 6M CCT Euro#0000 | M12: Description:
A13: ObjectID | B13: EUR SWAP 6M CCT Euro | I13: Construct an object of class Eonia and return its id
A14: Tenor | B14: 6M | M14: Construct an object of class Euribor and return its id
A15: yield curve | B15: =+'9.Piecewise_YieldCurve_SW6'!D2 -> SW6_curve#0000 | I15: Supported Platforms:
M16: Supported Platforms:
I17: C++, Calc, Excel
M18: C++, Calc, Excel
I19: Parameters
I20: ObjectId | J20: id of object to be created | M20: Parameters
I21: YieldCurve | J21: forecasting YieldTermStructure object ID. Default value = . | M21: ObjectId | N21: id of object to be created
I22: Permanent | J22: object permanent/nonpermanent | M22: Tenor | N22: index tenor: SW (1W), 2W, 3W, 1M, 2M, 3M, 4M, 5M, 6M, 7M, 8M, 9M, 10M, 11M, 12M (1Y).
I23: Trigger | J23: dependency tracking trigger | M23: YieldCurve | N23: forecasting YieldTermStructure object ID. Default value = .
I24: Overwrite | J24: overwrite flag | M24: Permanent | N24: object permanent/nonpermanent
M25: Trigger | N25: dependency tracking trigger
M26: Overwrite | N26: overwrite flag

Sheet 5.Deposits_EONIA
A1: DepositRateHelper | B1: ObjectID | C1: Rate | D1: Tenor | E1: FixingDays | F1: Calendar | G1: Convention | H1: EndOfMonth | I1: DayCounter | J1: Permanent | K1: Trigger | L1: Overwrite | M1: # | P1: qlDepositRateHelper2
A2: =_xll.qlDepositRateHelper2(B2,C2,D2,E2,F2,G2,H2,I2) -> OISOVN#0000 | B2: ="OIS"&'1_DatiInput_Eonia'!A2 -> OISOVN | C2: ='1_DatiInput_Eonia'!N2/100 -> -0.004 | D2: 1D | E2: 0 | F2: TARGET | G2: Modified Following | H2: TRUE | I2: Actual/360 | M2: 1
A3: {=_xll.qlDepositRateHelper2(B3,C3,D3,E3,F3,G3,H3,I3)} -> OISTN#0000 | B3: ="OIS"&'1_DatiInput_Eonia'!A3 -> OISTN | C3: ='1_DatiInput_Eonia'!N3/100 -> -0.004 | D3: 1D | E3: 1 | F3: TARGET | G3: Modified Following | H3: TRUE | I3: =+I2 -> Actual/360 | M3: =+M2+1 -> 2 | P3: string returnValue
A4: {=_xll.qlDepositRateHelper2(B4,C4,D4,E4,F4,G4,H4,I4)} -> OISSN#0000 | B4: ="OIS"&'1_DatiInput_Eonia'!A4 -> OISSN | C4: ='1_DatiInput_Eonia'!N4/100 -> -0.0042 | D4: 2D | E4: 2 | F4: TARGET | G4: Modified Following | H4: TRUE | I4: =+I3 -> Actual/360 | M4: =+M3+1 -> 3 | P4: qlDepositRateHelper2(
A5: {=_xll.qlDepositRateHelper2(B5,C5,D5,E5,F5,G5,H5,I5)} -> OIS1 Week#0000 | B5: ="OIS"&'1_DatiInput_Eonia'!A5 -> OIS1 Week | C5: ='1_DatiInput_Eonia'!N5/100 -> -0.00352 | D5: 1W | E5: =+E4 -> 2 | F5: TARGET | G5: Modified Following | H5: TRUE | I5: =+I4 -> Actual/360 | M5: =+M4+1 -> 4 | P5: string ObjectId
A6: {=_xll.qlDepositRateHelper2(B6,C6,D6,E6,F6,G6,H6,I6)} -> OIS2 Weeks#0000 | B6: ="OIS"&'1_DatiInput_Eonia'!A6 -> OIS2 Weeks | C6: ='1_DatiInput_Eonia'!N6/100 -> -0.00353 | D6: 2W | E6: =+E5 -> 2 | F6: TARGET | G6: Modified Following | H6: TRUE | I6: =+I5 -> Actual/360 | M6: =+M5+1 -> 5 | P6: string Rate
A7: {=_xll.qlDepositRateHelper2(B7,C7,D7,E7,F7,G7,H7,I7)} -> OIS3 Weeks#0000 | B7: ="OIS"&'1_DatiInput_Eonia'!A7 -> OIS3 Weeks | C7: ='1_DatiInput_Eonia'!N7/100 -> -0.00354 | D7: 3W | E7: =+E6 -> 2 | F7: TARGET | G7: Modified Following | H7: TRUE | I7: =+I6 -> Actual/360 | M7: =+M6+1 -> 6 | P7: string Tenor
A8: {=_xll.qlDepositRateHelper2(B8,C8,D8,E8,F8,G8,H8,I8)} -> OIS1 Month#0000 | B8: ="OIS"&'1_DatiInput_Eonia'!A8 -> OIS1 Month | C8: ='1_DatiInput_Eonia'!N8/100 -> -0.00354 | D8: 1M | E8: =+E7 -> 2 | F8: TARGET | G8: Modified Following | H8: TRUE | I8: =+I7 -> Actual/360 | M8: =+M7+1 -> 7 | P8: long FixingDays
A9: {=_xll.qlDepositRateHelper2(B9,C9,D9,E9,F9,G9,H9,I9)} -> OIS2 Months#0000 | B9: ="OIS"&'1_DatiInput_Eonia'!A9 -> OIS2 Months | C9: ='1_DatiInput_Eonia'!N9/100 -> -0.00353 | D9: 2M | E9: =+E8 -> 2 | F9: TARGET | G9: Modified Following | H9: TRUE | I9: =+I8 -> Actual/360 | M9: =+M8+1 -> 8 | P9: string Calendar
A10: {=_xll.qlDepositRateHelper2(B10,C10,D10,E10,F10,G10,H10,I10)} -> OIS3 Months#0000 | B10: ="OIS"&'1_DatiInput_Eonia'!A10 -> OIS3 Months | C10: ='1_DatiInput_Eonia'!N10/100 -> -0.00353 | D10: 3M | E10: =+E9 -> 2 | F10: TARGET | G10: Modified Following | H10: TRUE | I10: =+I9 -> Actual/360 | M10: =+M9+1 -> 9 | P10: string Convention
A11: {=_xll.qlDepositRateHelper2(B11,C11,D11,E11,F11,G11,H11,I11)} -> OIS4 Months#0000 | B11: ="OIS"&'1_DatiInput_Eonia'!A11 -> OIS4 Months | C11: ='1_DatiInput_Eonia'!N11/100 -> -0.00354 | D11: 4M | E11: =+E10 -> 2 | F11: TARGET | G11: Modified Following | H11: TRUE | I11: =+I10 -> Actual/360 | M11: =+M10+1 -> 10 | P11: bool EndOfMonth
A12: {=_xll.qlDepositRateHelper2(B12,C12,D12,E12,F12,G12,H12,I12)} -> OIS5 Months#0000 | B12: ="OIS"&'1_DatiInput_Eonia'!A12 -> OIS5 Months | C12: ='1_DatiInput_Eonia'!N12/100 -> -0.00353 | D12: 5M | E12: =+E11 -> 2 | F12: TARGET | G12: Modified Following | H12: TRUE | I12: =+I11 -> Actual/360 | M12: =+M11+1 -> 11 | P12: string DayCounter
A13: {=_xll.qlDepositRateHelper2(B13,C13,D13,E13,F13,G13,H13,I13)} -> OIS6 Months#0000 | B13: ="OIS"&'1_DatiInput_Eonia'!A13 -> OIS6 Months | C13: ='1_DatiInput_Eonia'!N13/100 -> -0.00353 | D13: 6M | E13: =+E12 -> 2 | F13: TARGET | G13: Modified Following | H13: TRUE | I13: =+I12 -> Actual/360 | M13: =+M12+1 -> 12 | P13: bool Permanent
A14: {=_xll.qlDepositRateHelper2(B14,C14,D14,E14,F14,G14,H14,I14)} -> OIS7 Months#0000 | B14: ="OIS"&'1_DatiInput_Eonia'!A14 -> OIS7 Months | C14: ='1_DatiInput_Eonia'!N14/100 -> -0.00354 | D14: 7M | E14: =+E13 -> 2 | F14: TARGET | G14: Modified Following | H14: TRUE | I14: =+I13 -> Actual/360 | M14: =+M13+1 -> 13 | P14: any Trigger
A15: {=_xll.qlDepositRateHelper2(B15,C15,D15,E15,F15,G15,H15,I15)} -> OIS8 Months#0000 | B15: ="OIS"&'1_DatiInput_Eonia'!A15 -> OIS8 Months | C15: ='1_DatiInput_Eonia'!N15/100 -> -0.00354 | D15: 8M | E15: =+E14 -> 2 | F15: TARGET | G15: Modified Following | H15: TRUE | I15: =+I14 -> Actual/360 | M15: =+M14+1 -> 14 | P15: bool Overwrite)
A16: {=_xll.qlDepositRateHelper2(B16,C16,D16,E16,F16,G16,H16,I16)} -> OIS9 Months#0000 | B16: ="OIS"&'1_DatiInput_Eonia'!A16 -> OIS9 Months | C16: ='1_DatiInput_Eonia'!N16/100 -> -0.00354 | D16: 9M | E16: =+E15 -> 2 | F16: TARGET | G16: Modified Following | H16: TRUE | I16: =+I15 -> Actual/360 | M16: =+M15+1 -> 15
A17: {=_xll.qlDepositRateHelper2(B17,C17,D17,E17,F17,G17,H17,I17)} -> OIS10 Months#0000 | B17: ="OIS"&'1_DatiInput_Eonia'!A17 -> OIS10 Months | C17: ='1_DatiInput_Eonia'!N17/100 -> -0.00354 | D17: 10M | E17: =+E16 -> 2 | F17: TARGET | G17: Modified Following | H17: TRUE | I17: =+I16 -> Actual/360 | M17: =+M16+1 -> 16 | P17: Description:
A18: {=_xll.qlDepositRateHelper2(B18,C18,D18,E18,F18,G18,H18,I18)} -> OIS11 Months#0000 | B18: ="OIS"&'1_DatiInput_Eonia'!A18 -> OIS11 Months | C18: ='1_DatiInput_Eonia'!N18/100 -> -0.00354 | D18: 11M | E18: =+E17 -> 2 | F18: TARGET | G18: Modified Following | H18: TRUE | I18: =+I17 -> Actual/360 | M18: =+M17+1 -> 17
A19: {=_xll.qlDepositRateHelper2(B19,C19,D19,E19,F19,G19,H19,I19)} -> OIS1 Year#0000 | B19: ="OIS"&'1_DatiInput_Eonia'!A19 -> OIS1 Year | C19: ='1_DatiInput_Eonia'!N19/100 -> -0.00354 | D19: 12M | E19: =+E18 -> 2 | F19: TARGET | G19: Modified Following | H19: TRUE | I19: =+I18 -> Actual/360 | M19: =+M18+1 -> 18 | P19: Construct an object of class DepositRateHelper and return its id
P21: Supported Platforms:
P23: C++, Calc, Excel
P25: Parameters
P26: ObjectId | Q26: id of object to be created
P27: Rate | Q27: deposit quote.
P28: Tenor | Q28: deposit length (e.g. 3M for three months).
P29: FixingDays | Q29: fixing days (e.g. 2).
P30: Calendar | Q30: holiday calendar (e.g. TARGET).
P31: Convention | Q31: business day convention (e.g. Modified Following).
P32: EndOfMonth | Q32: End of Month rule (TRUE for end of month to end of month termination date, FALSE otherwise).
P33: DayCounter | Q33: DayCounter ID.
P34: Permanent | Q34: object permanent/nonpermanent
P35: Trigger | Q35: dependency tracking trigger
P36: Overwrite | Q36: overwrite flag

Sheet 5.Deposits_Swap6M
A1: DepositRateHelper | B1: ObjectID | C1: Rate | D1: Tenor | E1: FixingDays | F1: Calendar | G1: Convention | H1: EndOfMonth | I1: DayCounter | J1: Permanent | K1: Trigger | L1: Overwrite | M1: # | P1: qlDepositRateHelper2 | R1: n.b. attenzione ai nomi, devono essere diversi.
A2: {=_xll.qlDepositRateHelper2(B2,C2,D2,E2,F2,G2,H2,I2)} -> SW6_6M#0000 | B2: SW6_6M | C2: =+'1.DatiInput_Swap6M'!O2/100 -> -0.00238 | D2: 6M | E2: 2 | F2: TARGET | G2: Modified Following | H2: TRUE | I2: Actual/360 | M2: 1
P3: string returnValue
P4: qlDepositRateHelper2(
P5: string ObjectId
P6: string Rate
P7: string Tenor
P8: long FixingDays
P9: string Calendar
P10: string Convention
P11: bool EndOfMonth
P12: string DayCounter
P13: bool Permanent
P14: any Trigger
... P25: Parameters
P26: ObjectId | Q26: id of object to be created
P27: Rate | Q27: deposit quote.
P28: Tenor | Q28: deposit length (e.g. 3M for three months).
P29: FixingDays | Q29: fixing days (e.g. 2).
P30: Calendar | Q30: holiday calendar (e.g. TARGET).
P31: Convention | Q31: business day convention (e.g. Modified Following).
P32: EndOfMonth | Q32: End of Month rule (TRUE for end of month to end of month termination date, FALSE otherwise).
P33: DayCounter | Q33: DayCounter ID.
P34: Permanent | Q34: object permanent/nonpermanent
P35: Trigger | Q35: dependency tracking trigger
P36: Overwrite | Q36: overwrite flag

Sheet 5.TassiGovernativi
A1: Funzioni QuantLIB | C1: 1.Schedule | D1: ObjectId | E1: EffectiveDate | F1: TerminationDate | G1: Tenor | H1: Calendar | I1: Convention | J1: TermDateConv | K1: GenRule | L1: EndOfMonth | M1: FirstDate | N1: NextToLastDate | O1: Permanent | P1: Trigger | Q1: Overwrite | R1: Tipo Titolo (BOT o BTP) | S1: 2. Fixed Rate Bond | T1: ObjectId | U1: Description | V1: Currency | W1: SettlementDays | X1: FaceAmount | Y1: ScheduleID | Z1: Coupons | AA1: DayCounter | AB1: PaymentBDC | AC1: Redemption | AD1: IssueDate | AE1: PaymentCalendar | AF1: Permanent | AG1: Trigger | AH1: Overwrite | AI1: Anni curva | AJ1: 3. BondHelper | AK1: ObjectId | AL1: Price | AM1: Bond | AN1: UseCleanPrice | AO1: Permanent | AP1: Trigger | AQ1: Overwrite
