Workbook
Name AllTriggers: [1]Triggers!$C$4:$C$9
Name Calendar: qlSettings!#REF!
Name EffectiveDate: qlSettings!#REF!
Name EffectiveDate: [2]Bonds!#REF!
Name EvaluationDate: [1]Triggers!$C$2
Name FloatingIndex: [1]Settings!$D$6
Name FloatingLegDayCounter: [1]Settings!$D$9
Name ReferenceDate: [3]TermStructures!$E$4
Name TerminationDate: qlSettings!#REF!
Name TerminationDate: [2]Bonds!#REF!
Name TermStructureId: [1]Settings!$D$11

Sheet Main
A1: issue_id | B1: offering_date | C1: offering_price (as reported by data provider) | D1: offering_yield (as reported by data provider | E1: settlement_date | F1: maturity | G1: interest_frequency | H1: coupon | I1: day_count_basis | J1: day_count_excel | K1: ScheduleID | L1: BondID | M1: BondCleanPriceFromYield | N1: PRICE | O1: Price match (incl. Tolerance) | P1: Difference
A2: 412257 | B2: 39316 | C2: 99.742 | D2: 6.18481 | E2: 39322 | F2: 42975 | G2: 2 | H2: 6.15 | I2: 30/360 | J2: 0 | K2: =_xll.qlSchedule(,E2,F2,"6M",qlSettings!$B$13,qlSettings!$B$14,qlSettings!$B$15) -> obj_02996#0016 | L2: =_xll.qlFixedRateBond(,qlSettings!$B$21,"USD",qlSettings!$B$23,qlSettings!$B$24,K2,H2/100,"30/360 (Bond Basis)",qlSettings!$B$28,qlSettings!$B$29,B2,qlSettings!$B$31,qlSettings!$B$32,qlSettings!$B$33) -> obj_0299f#0018 | M2: =_xll.qlBondCleanPriceFromYield(L2,D2/100,"30/360 (Bond Basis)",,"Semiannual",E2) -> 99.743256 | N2: =PRICE(E2,F2,H2/100,D2/100,100,G2,J2) -> 99.743256 | O2: =IF(ABS(M2-N2)<0.001,1,0) -> 1 | P2: =M2-N2 -> 1.563194e-13
A3: 434384 | B3: 39519 | C3: 99.617 | D3: 7.05403 | E3: 39526 | F3: 43178 | G3: 2 | H3: 7 | I3: 30/360 | J3: 0 | K3: =_xll.qlSchedule(,E3,F3,"6M",qlSettings!$B$13,qlSettings!$B$14,qlSettings!$B$15) -> obj_02994#0016 | L3: =_xll.qlFixedRateBond(,qlSettings!$B$21,"USD",qlSettings!$B$23,qlSettings!$B$24,K3,H3/100,"30/360 (Bond Basis)",qlSettings!$B$28,qlSettings!$B$29,B3,qlSettings!$B$31,qlSettings!$B$32,qlSettings!$B$33) -> obj_02995#0017 | M3: =_xll.qlBondCleanPriceFromYield(L3,D3/100,"30/360 (Bond Basis)",,"Semiannual",E3) -> 99.616989 | N3: =PRICE(E3,F3,H3/100,D3/100,100,G3,J3) -> 99.616989 | O3: =IF(ABS(M3-N3)<0.001,1,0) -> 1 | P3: =M3-N3 -> 0
A4: 434385 | B4: 39519 | C4: 99.633 | D4: 8.18301 | E4: 39526 | F4: 50483 | G4: 2 | H4: 8.15 | I4: 30/360 | J4: 0 | K4: =_xll.qlSchedule(,E4,F4,"6M",qlSettings!$B$13,qlSettings!$B$14,qlSettings!$B$15) -> obj_02992#0016 | L4: =_xll.qlFixedRateBond(,qlSettings!$B$21,"USD",qlSettings!$B$23,qlSettings!$B$24,K4,H4/100,"30/360 (Bond Basis)",qlSettings!$B$28,qlSettings!$B$29,B4,qlSettings!$B$31,qlSettings!$B$32,qlSettings!$B$33) -> obj_02993#0017 | M4: =_xll.qlBondCleanPriceFromYield(L4,D4/100,"30/360 (Bond Basis)",,"Semiannual",E4) -> 99.632979 | N4: =PRICE(E4,F4,H4/100,D4/100,100,G4,J4) -> 99.632979 | O4: =IF(ABS(M4-N4)<0.001,1,0) -> 1 | P4: =M4-N4 -> 0
A5: 495886 | B5: 39944 | C5: 99.859 | D5: 6.23302 | E5: 39946 | F5: 41775 | G5: 2 | H5: 6.2 | I5: 30/360 | J5: 0 | K5: =_xll.qlSchedule(,E5,F5,"6M",qlSettings!$B$13,qlSettings!$B$14,qlSettings!$B$15) -> obj_0299b#0017 | L5: =_xll.qlFixedRateBond(,qlSettings!$B$21,"USD",qlSettings!$B$23,qlSettings!$B$24,K5,H5/100,"30/360 (Bond Basis)",qlSettings!$B$28,qlSettings!$B$29,B5,qlSettings!$B$31,qlSettings!$B$32,qlSettings!$B$33) -> obj_0299c#0019 | M5: =_xll.qlBondCleanPriceFromYield(L5,D5/100,"30/360 (Bond Basis)",,"Semiannual",E5) -> 99.860576 | N5: =PRICE(E5,F5,H5/100,D5/100,100,G5,J5) -> 99.859017 | O5: =IF(ABS(M5-N5)<0.001,1,0) -> 0 | P5: =M5-N5 -> 0.0015587897
A6: 495887 | B6: 39944 | C6: 99.728 | D6: 7.48894 | E6: 39946 | F6: 43601 | G6: 2 | H6: 7.45 | I6: 30/360 | J6: 0 | K6: =_xll.qlSchedule(,E6,F6,"6M",qlSettings!$B$13,qlSettings!$B$14,qlSettings!$B$15) -> obj_02999#0016 | L6: =_xll.qlFixedRateBond(,qlSettings!$B$21,"USD",qlSettings!$B$23,qlSettings!$B$24,K6,H6/100,"30/360 (Bond Basis)",qlSettings!$B$28,qlSettings!$B$29,B6,qlSettings!$B$31,qlSettings!$B$32,qlSettings!$B$33) -> obj_0299a#0017 | M6: =_xll.qlBondCleanPriceFromYield(L6,D6/100,"30/360 (Bond Basis)",,"Semiannual",E6) -> 99.730269 | N6: =PRICE(E6,F6,H6/100,D6/100,100,G6,J6) -> 99.728026 | O6: =IF(ABS(M6-N6)<0.001,1,0) -> 0 | P6: =M6-N6 -> 0.0022435005
A7: 382931 | B7: 39120 | C7: 99.335 | D7: 6.19923 | E7: 39125 | F7: 68340 | G7: 2 | H7: 6.15 | I7: 30/360 | J7: 0 | K7: =_xll.qlSchedule(,E7,F7,"6M",qlSettings!$B$13,qlSettings!$B$14,qlSettings!$B$15) -> obj_02997#0016 | L7: =_xll.qlFixedRateBond(,qlSettings!$B$21,"USD",qlSettings!$B$23,qlSettings!$B$24,K7,H7/100,"30/360 (Bond Basis)",qlSettings!$B$28,qlSettings!$B$29,B7,qlSettings!$B$31,qlSettings!$B$32,qlSettings!$B$33) -> obj_02998#0017 | M7: =_xll.qlBondCleanPriceFromYield(L7,D7/100,"30/360 (Bond Basis)",,"Semiannual",E7) -> 99.213119 | N7: =PRICE(E7,F7,H7/100,D7/100,100,G7,J7) -> 99.210621 | O7: =IF(ABS(M7-N7)<0.001,1,0) -> 0 | P7: =M7-N7 -> 0.0024977104
A8: 480080 | B8: 39673 | C8: 100 | D8: 8.25 | E8: 39678 | F8: 43327 | G8: 2 | H8: 8.25 | I8: 30/360 | J8: 0 | K8: =_xll.qlSchedule(,E8,F8,"6M",qlSettings!$B$13,qlSettings!$B$14,qlSettings!$B$15) -> obj_02991#0016 | L8: =_xll.qlFixedRateBond(,qlSettings!$B$21,"USD",qlSettings!$B$23,qlSettings!$B$24,K8,H8/100,"30/360 (Bond Basis)",qlSettings!$B$28,qlSettings!$B$29,B8,qlSettings!$B$31,qlSettings!$B$32,qlSettings!$B$33) -> obj_0299e#0017 | M8: =_xll.qlBondCleanPriceFromYield(L8,D8/100,"30/360 (Bond Basis)",,"Semiannual",E8) -> 100.00132 | N8: =PRICE(E8,F8,H8/100,D8/100,100,G8,J8) -> 99.998643 | O8: =IF(ABS(M8-N8)<0.001,1,0) -> 0 | P8: =M8-N8 -> 0.0026790926
A9: 397571 | B9: 39211 | C9: 100 | D9: 6 | E9: 39225 | F9: 50175 | G9: 2 | H9: 6 | I9: 30/360 | J9: 0 | K9: =_xll.qlSchedule(,E9,F9,"6M",qlSettings!$B$13,qlSettings!$B$14,qlSettings!$B$15) -> obj_02990#0016 | L9: =_xll.qlFixedRateBond(,qlSettings!$B$21,"USD",qlSettings!$B$23,qlSettings!$B$24,K9,H9/100,"30/360 (Bond Basis)",qlSettings!$B$28,qlSettings!$B$29,B9,qlSettings!$B$31,qlSettings!$B$32,qlSettings!$B$33) -> obj_0299d#0017 | M9: =_xll.qlBondCleanPriceFromYield(L9,D9/100,"30/360 (Bond Basis)",,"Semiannual",E9) -> 100.00184 | N9: =PRICE(E9,F9,H9/100,D9/100,100,G9,J9) -> 99.998125 | O9: =IF(ABS(M9-N9)<0.001,1,0) -> 0 | P9: =M9-N9 -> 0.003713322

Sheet qlSettings
A2: Schedule
A3: ObjectID
A4: EffectiveDate
A5: TerminationDate
A6: Tenor
A7: Calendar | B7: TARGET
A8: Convention
A9: TermDateConv
A10: GenRule
A11: EndOfMonth
A12: FirstDate
A13: NextToLastDate
A14: Permanent
A15: Trigger
A19: FixedRateBond
A20: ObjectID
A21: Description | B21: fixed rate
A22: Currency
A23: SettlementDays | B23: 1
A24: FaceAmount
A25: ScheduleID
A26: Coupons
A27: DayCounter
A28: PaymentBDC
A29: Redemption
A30: IssueDate
A31: PaymentCalendar | B31: NullCalendar
A32: Permanent
A33: Trigger

Sheet Sheet1
B2: QL EVAL DT | C2: =_xll.qlSettingsEvaluationDate() -> 40843 | E2: =_xll.qlSchedule("bond schedule",C5,C6,"6M","UnitedStates::GovernmentBond","Unadjusted","Unadjusted","Backward",FALSE,,,FALSE,C5:C6,TRUE) -> bond schedule#0001 | G2: =_xll.qlFixedRateBond("fixed bond",,"USD",1,100,E2,C7,"Actual/Actual (Bond)","Unadjusted",100,C5,"UnitedStates::GovernmentBond",FALSE,E2,TRUE) -> fixed bond#0001
B4: SETTLE | C4: =_xll.qlCalendarAdvance("UnitedStates::GovernmentBond",C2,"1D","Following",FALSE,C2) -> 40844 | E4: DATES | G4: {=_xll.qlBondFlowAnalysis(G2,G2)} -> Payment Date | H4: Amount | I4: Nominal | J4: Accrual Start Date | K4: Accrual End Date | L4: Accrual Days | M4: Index | N4: Fixing Days | O4: Fixing Dates | P4: Day Counter | Q4: Accrual Period | R4: Effective Rate | S4: Floor | T4: Gearing | U4: Index Fixing | V4: Conv. Adj. | W4: Spread | X4: Cap | Y4: Call Digital Payoff | Z4: Put Digital Payoff | AA4: #N/A
B5: ISSUE DT | C5: 40770 | E5: {=_xll.qlScheduleDates(E2,E2)} -> 40770 | G5: 40954 | H5: 1.0625 | I5: 100 | J5: 40770 | K5: 40954 | L5: 184 | M5: #N/A | N5: #N/A | O5: #N/A | P5: Actual/Actual (ISMA) | Q5: 0.5 | R5: 0.02125 | S5: #N/A | T5: #N/A | U5: #N/A | V5: #N/A | W5: #N/A | X5: #N/A | Y5: #N/A | Z5: #N/A | AA5: #N/A
B6: MATURITY | C6: 44423 | E6: 40954 | G6: 41136 | H6: 1.0625 | I6: 100 | J6: 40954 | K6: 41136 | L6: 182 | M6: #N/A | N6: #N/A | O6: #N/A | P6: Actual/Actual (ISMA) | Q6: 0.5 | R6: 0.02125 | S6: #N/A | T6: #N/A | U6: #N/A | V6: #N/A | W6: #N/A | X6: #N/A | Y6: #N/A | Z6: #N/A | AA6: #N/A
B7: COUPON | C7: 0.02125 | E7: 41136 | G7: 41320 | H7: 1.0625 | I7: 100 | J7: 41136 | K7: 41320 | L7: 184 | M7: #N/A | N7: #N/A | O7: #N/A | P7: Actual/Actual (ISMA) | Q7: 0.5 | R7: 0.02125 | S7: #N/A | T7: #N/A | U7: #N/A | V7: #N/A | W7: #N/A | X7: #N/A | Y7: #N/A | Z7: #N/A | AA7: #N/A
E8: 41320 | G8: 41501 | H8: 1.0625 | I8: 100 | J8: 41320 | K8: 41501 | L8: 181 | M8: #N/A | N8: #N/A | O8: #N/A | P8: Actual/Actual (ISMA) | Q8: 0.5 | R8: 0.02125 | S8: #N/A | T8: #N/A | U8: #N/A | V8: #N/A | W8: #N/A | X8: #N/A | Y8: #N/A | Z8: #N/A | AA8: #N/A
E9: 41501 | G9: 41685 | H9: 1.0625 | I9: 100 | J9: 41501 | K9: 41685 | L9: 184 | M9: #N/A | N9: #N/A | O9: #N/A | P9: Actual/Actual (ISMA) | Q9: 0.5 | R9: 0.02125 | S9: #N/A | T9: #N/A | U9: #N/A | V9: #N/A | W9: #N/A | X9: #N/A | Y9: #N/A | Z9: #N/A | AA9: #N/A
B10: CLEAN PX | C10: 97.2 | E10: 41685 | G10: 41866 | H10: 1.0625 | I10: 100 | J10: 41685 | K10: 41866 | L10: 181 | M10: #N/A | N10: #N/A | O10: #N/A | P10: Actual/Actual (ISMA) | Q10: 0.5 | R10: 0.02125 | S10: #N/A | T10: #N/A | U10: #N/A | V10: #N/A | W10: #N/A | X10: #N/A | Y10: #N/A | Z10: #N/A | AA10: #N/A
E11: 41866 | G11: 42050 | H11: 1.0625 | I11: 100 | J11: 41866 | K11: 42050 | L11: 184 | M11: #N/A | N11: #N/A | O11: #N/A | P11: Actual/Actual (ISMA) | Q11: 0.5 | R11: 0.02125 | S11: #N/A | T11: #N/A | U11: #N/A | V11: #N/A | W11: #N/A | X11: #N/A | Y11: #N/A | Z11: #N/A | AA11: #N/A
E12: 42050 | G12: 42231 | H12: 1.0625 | I12: 100 | J12: 42050 | K12: 42231 | L12: 181 | M12: #N/A | N12: #N/A | O12: #N/A | P12: Actual/Actual (ISMA) | Q12: 0.5 | R12: 0.02125 | S12: #N/A | T12: #N/A | U12: #N/A | V12: #N/A | W12: #N/A | X12: #N/A | Y12: #N/A | Z12: #N/A | AA12: #N/A
B13: QL YIELD | C13: =_xll.qlBondYieldFromCleanPrice($G$2,DOLLARDE(C10,32),"Actual/Actual (Bond)","Compounded","SemiAnnual",$C$4,0.0000000001,100,0.025,C10) -> 0.023982357 | E13: 42231 | G13: 42415 | H13: 1.0625 | I13: 100 | J13: 42231 | K13: 42415 | L13: 184 | M13: #N/A | N13: #N/A | O13: #N/A | P13: Actual/Actual (ISMA) | Q13: 0.5 | R13: 0.02125 | S13: #N/A | T13: #N/A | U13: #N/A | V13: #N/A | W13: #N/A | X13: #N/A | Y13: #N/A | Z13: #N/A | AA13: #N/A
B14: XL YIELD | C14: =YIELD($C$4,$C$6,$C$7,DOLLARDE(C10,32),100,2,1) -> 0.023982357 | E14: 42415 | G14: 42597 | H14: 1.0625 | I14: 100 | J14: 42415 | K14: 42597 | L14: 182 | M14: #N/A | N14: #N/A | O14: #N/A | P14: Actual/Actual (ISMA) | Q14: 0.5 | R14: 0.02125 | S14: #N/A | T14: #N/A | U14: #N/A | V14: #N/A | W14: #N/A | X14: #N/A | Y14: #N/A | Z14: #N/A | AA14: #N/A
B15: DIFF | C15: =C13-C14 -> -2.0844621e-11 | E15: 42597 | G15: 42781 | H15: 1.0625 | I15: 100 | J15: 42597 | K15: 42781 | L15: 184 | M15: #N/A | N15: #N/A | O15: #N/A | P15: Actual/Actual (ISMA) | Q15: 0.5 | R15: 0.02125 | S15: #N/A | T15: #N/A | U15: #N/A | V15: #N/A | W15: #N/A | X15: #N/A | Y15: #N/A | Z15: #N/A | AA15: #N/A
E16: 42781 | G16: 42962 | H16: 1.0625 | I16: 100 | J16: 42781 | K16: 42962 | L16: 181 | M16: #N/A | N16: #N/A | O16: #N/A | P16: Actual/Actual (ISMA) | Q16: 0.5 | R16: 0.02125 | S16: #N/A | T16: #N/A | U16: #N/A | V16: #N/A | W16: #N/A | X16: #N/A | Y16: #N/A | Z16: #N/A | AA16: #N/A
B17: QL CLN PX | C17: =DOLLARFR(_xll.qlBondCleanPriceFromYield(G2,C13,"Actual/Actual (Bond)","Compounded","SemiAnnual",C4,C13),32) -> 97.2 | E17: 42962 | G17: 43146 | H17: 1.0625 | I17: 100 | J17: 42962 | K17: 43146 | L17: 184 | M17: #N/A | N17: #N/A | O17: #N/A | P17: Actual/Actual (ISMA) | Q17: 0.5 | R17: 0.02125 | S17: #N/A | T17: #N/A | U17: #N/A | V17: #N/A | W17: #N/A | X17: #N/A | Y17: #N/A | Z17: #N/A | AA17: #N/A
B18: XL CLN PX | C18: =DOLLARFR(PRICE(C4,C6,C7,C14,100,2,1),32) -> 97.2 | E18: 43146 | G18: 43327 | H18: 1.0625 | I18: 100 | J18: 43146 | K18: 43327 | L18: 181 | M18: #N/A | N18: #N/A | O18: #N/A | P18: Actual/Actual (ISMA) | Q18: 0.5 | R18: 0.02125 | S18: #N/A | T18: #N/A | U18: #N/A | V18: #N/A | W18: #N/A | X18: #N/A | Y18: #N/A | Z18: #N/A | AA18: #N/A
B19: DIFF | C19: =C17-C18 -> 5.7171121e-09 | E19: 43327 | G19: 43511 | H19: 1.0625 | I19: 100 | J19: 43327 | K19: 43511 | L19: 184 | M19: #N/A | N19: #N/A | O19: #N/A | P19: Actual/Actual (ISMA) | Q19: 0.5 | R19: 0.02125 | S19: #N/A | T19: #N/A | U19: #N/A | V19: #N/A | W19: #N/A | X19: #N/A | Y19: #N/A | Z19: #N/A | AA19: #N/A
G20: 43692 | H20: 1.0625 | I20: 100 | J20: 43511 | K20: 43692 | L20: 181 | M20: #N/A | N20: #N/A | O20: #N/A | P20: Actual/Actual (ISMA) | Q20: 0.5 | R20: 0.02125 | S20: #N/A | T20: #N/A | U20: #N/A | V20: #N/A | W20: #N/A | X20: #N/A | Y20: #N/A | Z20: #N/A | AA20: #N/A
G21: 43876 | H21: 1.0625 | I21: 100 | J21: 43692 | K21: 43876 | L21: 184 | M21: #N/A | N21: #N/A | O21: #N/A | P21: Actual/Actual (ISMA) | Q21: 0.5 | R21: 0.02125 | S21: #N/A | T21: #N/A | U21: #N/A | V21: #N/A | W21: #N/A | X21: #N/A | Y21: #N/A | Z21: #N/A | AA21: #N/A
G22: 44058 | H22: 1.0625 | I22: 100 | J22: 43876 | K22: 44058 | L22: 182 | M22: #N/A | N22: #N/A | O22: #N/A | P22: Actual/Actual (ISMA) | Q22: 0.5 | R22: 0.02125 | S22: #N/A | T22: #N/A | U22: #N/A | V22: #N/A | W22: #N/A | X22: #N/A | Y22: #N/A | Z22: #N/A | AA22: #N/A
G23: 44242 | H23: 1.0625 | I23: 100 | J23: 44058 | K23: 44242 | L23: 184 | M23: #N/A | N23: #N/A | O23: #N/A | P23: Actual/Actual (ISMA) | Q23: 0.5 | R23: 0.02125 | S23: #N/A | T23: #N/A | U23: #N/A | V23: #N/A | W23: #N/A | X23: #N/A | Y23: #N/A | Z23: #N/A | AA23: #N/A
G24: 44423 | H24: 1.0625 | I24: 100 | J24: 44242 | K24: 44423 | L24: 181 | M24: #N/A | N24: #N/A | O24: #N/A | P24: Actual/Actual (ISMA) | Q24: 0.5 | R24: 0.02125 | S24: #N/A | T24: #N/A | U24: #N/A | V24: #N/A | W24: #N/A | X24: #N/A | Y24: #N/A | Z24: #N/A | AA24: #N/A
G25: 44423 | H25: 100 | I25: #N/A | J25: #N/A | K25: #N/A | L25: #N/A | M25: #N/A | N25: #N/A | O25: #N/A | P25: #N/A | Q25: #N/A | R25: #N/A | S25: #N/A | T25: #N/A | U25: #N/A | V25: #N/A | W25: #N/A | X25: #N/A | Y25: #N/A | Z25: #N/A | AA25: #N/A
G26: #N/A | H26: #N/A | I26: #N/A | J26: #N/A | K26: #N/A | L26: #N/A | M26: #N/A | N26: #N/A | O26: #N/A | P26: #N/A | Q26: #N/A | R26: #N/A | S26: #N/A | T26: #N/A | U26: #N/A | V26: #N/A | W26: #N/A | X26: #N/A | Y26: #N/A | Z26: #N/A | AA26: #N/A
G27: #N/A | H27: #N/A | I27: #N/A | J27: #N/A | K27: #N/A | L27: #N/A | M27: #N/A | N27: #N/A | O27: #N/A | P27: #N/A | Q27: #N/A | R27: #N/A | S27: #N/A | T27: #N/A | U27: #N/A | V27: #N/A | W27: #N/A | X27: #N/A | Y27: #N/A | Z27: #N/A | AA27: #N/A
G28: #N/A | H28: #N/A | I28: #N/A | J28: #N/A | K28: #N/A | L28: #N/A | M28: #N/A | N28: #N/A | O28: #N/A | P28: #N/A | Q28: #N/A | R28: #N/A | S28: #N/A | T28: #N/A | U28: #N/A | V28: #N/A | W28: #N/A | X28: #N/A | Y28: #N/A | Z28: #N/A | AA28: #N/A
G29: #N/A | H29: #N/A | I29: #N/A | J29: #N/A | K29: #N/A | L29: #N/A | M29: #N/A | N29: #N/A | O29: #N/A | P29: #N/A | Q29: #N/A | R29: #N/A | S29: #N/A | T29: #N/A | U29: #N/A | V29: #N/A | W29: #N/A | X29: #N/A | Y29: #N/A | Z29: #N/A | AA29: #N/A
G30: #N/A | H30: #N/A | I30: #N/A | J30: #N/A | K30: #N/A | L30: #N/A | M30: #N/A | N30: #N/A | O30: #N/A | P30: #N/A | Q30: #N/A | R30: #N/A | S30: #N/A | T30: #N/A | U30: #N/A | V30: #N/A | W30: #N/A | X30: #N/A | Y30: #N/A | Z30: #N/A | AA30: #N/A
G31: #N/A | H31: #N/A | I31: #N/A | J31: #N/A | K31: #N/A | L31: #N/A | M31: #N/A | N31: #N/A | O31: #N/A | P31: #N/A | Q31: #N/A | R31: #N/A | S31: #N/A | T31: #N/A | U31: #N/A | V31: #N/A | W31: #N/A | X31: #N/A | Y31: #N/A | Z31: #N/A | AA31: #N/A
